Workbook
Name Hidden_13: Hidden_1!$A$1:$A$11
Name Hidden_211: Hidden_2!$A$1:$A$2
Name Hidden_312: [1]Hidden_3!$A$1:$A$2

Sheet Reporte de Formatos
A1: 47605
A2: TÍTULO | D2: NOMBRE CORTO | G2: DESCRIPCIÓN
A3: Remuneraciones brutas y netas de todas las personas servidoras públicas de base y de confianza | D3: 18LTAIPECHF8 | G3: La información relativa a la remuneración mensual bruta y neta de conformidad con el tabulador de sueldos y salarios aplicable a cada sujeto obligado, así como todos los conceptos que sean adicionales y distintos a las remuneraciones, especificando la periodicidad con que se otorga cada uno de éstos (quincenal, mensual, semestral, anual, por única ocasión, etcétera)
A4: 1 | B4: 4 | C4: 4 | D4: 9 | E4: 1 | F4: 2 | G4: 2 | H4: 2 | I4: 1 | J4: 1 | K4: 1 | L4: 9 | M4: 6 | N4: 1 | O4: 6 | P4: 1 | Q4: 10 | R4: 10 | S4: 10 | T4: 10 | U4: 10 | V4: 10 | W4: 10 | X4: 10 | Y4: 10 | Z4: 10 | AA4: 10 | AB4: 10 | AC4: 10 | AD4: 2 | AE4: 13 | AF4: 14
A5: 411955 | B5: 411967 | C5: 411947 | D5: 411968 | E5: 411969 | F5: 411950 | G5: 411956 | H5: 411957 | I5: 411958 | J5: 411951 | K5: 411948 | L5: 570349 | M5: 411970 | N5: 411971 | O5: 411960 | P5: 411949 | Q5: 411974 | R5: 411961 | S5: 411975 | T5: 411945 | U5: 411965 | V5: 411952 | W5: 411962 | X5: 411953 | Y5: 411954 | Z5: 411972 | AA5: 411976 | AB5: 411973 | AC5: 411977 | AD5: 411963 | AE5: 411966 | AF5: 411946
A6: Tabla Campos
A7: Ejercicio | B7: Fecha de inicio del periodo que se informa | C7: Fecha de término del periodo que se informa | D7: Tipo de integrante del sujeto obligado (catálogo) | E7: Clave o nivel del puesto | F7: Denominación o descripción del puesto (Redactados con perspectiva de género) | G7: Denominación del cargo (de conformidad con el nombramiento otorgado) | H7: Área de adscripción | I7: Nombre (s) | J7: Primer apellido | K7: Segundo apellido | L7: ESTE CRITERIO APLICA A PARTIR DEL 01/01/2023 -> Sexo (catálogo ) | M7: Monto de la remuneración mensual bruta, de conformidad al Tabulador de sueldos y salarios que corresponda | N7: Tipo de moneda de la remuneración mensual bruta | O7: Monto de la remuneración mensual neta, de conformidad al Tabulador de sueldos y salarios que corresponda | P7: Tipo de moneda de la remuneración mensual neta | Q7: Percepciones adicionales en dinero, Monto bruto y neto, tipo de moneda y su periodicidad Tabla_411974 | R7: Percepciones adicionales en especie y su periodicidad Tabla_411961 | S7: Ingresos, monto bruto y neto, tipo de moneda y su periodicidad Tabla_411975 | T7: Sistemas de compensación, monto bruto y neto, tipo de moneda y su periodicidad Tabla_411945 | U7: Gratificaciones, monto bruto y neto, tipo de moneda y su periodicidad Tabla_411965 | V7: Primas, monto bruto y neto, tipo de moneda y su periodicidad Tabla_411952 | W7: Comisiones, monto bruto y neto, tipo de moneda y su periodicidad Tabla_411962 | X7: Dietas, monto bruto y neto, tipo de moneda y su periodicidad Tabla_411953 | Y7: Bonos, monto bruto y neto, tipo de moneda y su periodicidad Tabla_411954 | Z7: Estímulos, monto bruto y neto, tipo de moneda y su periodicidad Tabla_411972 | AA7: Apoyos económicos, monto bruto y neto, tipo de moneda y su periodicidad Tabla_411976 | AB7: Prestaciones económicas, monto bruto y neto, tipo de moneda y su periodicidad Tabla_411973 | AC7: Prestaciones en especie y su periodicidad Tabla_411977 | AD7: Área(s) responsable(s) que genera(n), posee(n), publica(n) y actualizan la información | AE7: Fecha de Actualización | AF7: Nota
A8: 2024 | B8: 45292 | C8: 45382 | D8: Personal de confianza | E8: 110101 | F8: RECTOR | G8: RECTOR | H8: RECTORIA | I8: ANTONIO MAGDIEL | J8: VELAZQUEZ | K8: MENDEZ | L8: Hombre | M8: =36261*2 -> 72522 | N8: PESOS | O8: =27051.94*2 -> 54103.88 | P8: PESOS | Q8: =Tabla_411974!A4 -> 1 | R8: =Tabla_411961!A4 -> 1 | S8: =Tabla_411975!A4 -> 1 | T8: =Tabla_411945!A4 -> 1 | U8: =Tabla_411965!A4 -> 1 | V8: =Tabla_411952!A4 -> 1 | W8: =Tabla_411962!A4 -> 1 | X8: =Tabla_411953!A4 -> 1 | Y8: =Tabla_411954!A4 -> 1 | Z8: =Tabla_411972!A4 -> 1 | AA8: =Tabla_411976!A4 -> 1 | AB8: =Tabla_411973!A4 -> 1 | AC8: =Tabla_411977!A4 -> 1 | AD8: DIRECCION DE ADMINISTRACION DE PERSONAL Y ORGANIZACIÓN | AE8: 45412 | AF8: SIN DATOS
A9: 2024 | B9: 45292 | C9: 45382 | D9: Personal de confianza | E9: 110406 | F9: SUBDIRECTOR | G9: SUBDIRECTOR | H9: RECTORIA | I9: ALEXANDER | J9: OCAÑA | K9: RAMIREZ | L9: Hombre | M9: =19290.5*2 -> 38581 | N9: PESOS | O9: =15325.23*2 -> 30650.46 | P9: PESOS | Q9: =Tabla_411974!A5 -> 2 | R9: =Tabla_411961!A5 -> 2 | S9: =Tabla_411975!A5 -> 2 | T9: =Tabla_411945!A5 -> 2 | U9: =Tabla_411965!A5 -> 2 | V9: =Tabla_411952!A5 -> 2 | W9: =Tabla_411962!A5 -> 2 | X9: =Tabla_411953!A5 -> 2 | Y9: =Tabla_411954!A5 -> 2 | Z9: =Tabla_411972!A5 -> 2 | AA9: =Tabla_411976!A5 -> 2 | AB9: =Tabla_411973!A5 -> 2 | AC9: =Tabla_411977!A5 -> 2 | AD9: DIRECCION DE ADMINISTRACION DE PERSONAL Y ORGANIZACIÓN | AE9: 45413 | AF9: SIN DATOS
A10: 2024 | B10: 45292 | C10: 45382 | D10: Personal de confianza | E10: 110404 | F10: COORDINADOR | G10: COORDINADOR | H10: RECTORIA | I10: MARCO ANTONIO | J10: MELCHOR | K10: CASTILLEJOS | L10: Hombre | M10: =8596.35*2 -> 17192.7 | N10: PESOS | O10: =7333.26*2 -> 14666.52 | P10: PESOS | Q10: =Tabla_411974!A6 -> 3 | R10: =Tabla_411961!A6 -> 3 | S10: =Tabla_411975!A6 -> 3 | T10: =Tabla_411945!A6 -> 3 | U10: =Tabla_411965!A6 -> 3 | V10: =Tabla_411952!A6 -> 3 | W10: =Tabla_411962!A6 -> 3 | X10: =Tabla_411953!A6 -> 3 | Y10: =Tabla_411954!A6 -> 3 | Z10: =Tabla_411972!A6 -> 3 | AA10: =Tabla_411976!A6 -> 3 | AB10: =Tabla_411973!A6 -> 3 | AC10: =Tabla_411977!A6 -> 3 | AD10: DIRECCION DE ADMINISTRACION DE PERSONAL Y ORGANIZACIÓN | AE10: 45414 | AF10: SIN DATOS
A11: 2024 | B11: 45292 | C11: 45382 | D11: Personal de confianza | E11: 110402 | F11: COORDINADOR | G11: COORDINADOR | H11: RECTORIA | I11: JUAN ANTONIO | J11: SANTIAGO | K11: CHAMPO | L11: Hombre | M11: =8596.35*2 -> 17192.7 | N11: PESOS | O11: =7333.26*2 -> 14666.52 | P11: PESOS | Q11: =Tabla_411974!A7 -> 4 | R11: =Tabla_411961!A7 -> 4 | S11: =Tabla_411975!A7 -> 4 | T11: =Tabla_411945!A7 -> 4 | U11: =Tabla_411965!A7 -> 4 | V11: =Tabla_411952!A7 -> 4 | W11: =Tabla_411962!A7 -> 4 | X11: =Tabla_411953!A7 -> 4 | Y11: =Tabla_411954!A7 -> 4 | Z11: =Tabla_411972!A7 -> 4 | AA11: =Tabla_411976!A7 -> 4 | AB11: =Tabla_411973!A7 -> 4 | AC11: =Tabla_411977!A7 -> 4 | AD11: DIRECCION DE ADMINISTRACION DE PERSONAL Y ORGANIZACIÓN | AE11: 45415 | AF11: SIN DATOS
A12: 2024 | B12: 45292 | C12: 45382 | D12: Personal de confianza | E12: 110902 | F12: TÉCNICO ESPECIALIZADO EN MANTENIMIENTO | G12: TÉCNICO ESPECIALIZADO EN MANTENIMIENTO | H12: RECTORIA | I12: RODOLFO | J12: AVENDAÑO | K12: JIMENEZ | L12: Hombre | M12: =4159.95*2 -> 8319.9 | N12: PESOS | O12: =3751.92*2 -> 7503.84 | P12: PESOS | Q12: =Tabla_411974!A8 -> 5 | R12: =Tabla_411961!A8 -> 5 | S12: =Tabla_411975!A8 -> 5 | T12: =Tabla_411945!A8 -> 5 | U12: =Tabla_411965!A8 -> 5 | V12: =Tabla_411952!A8 -> 5 | W12: =Tabla_411962!A8 -> 5 | X12: =Tabla_411953!A8 -> 5 | Y12: =Tabla_411954!A8 -> 5 | Z12: =Tabla_411972!A8 -> 5 | AA12: =Tabla_411976!A8 -> 5 | AB12: =Tabla_411973!A8 -> 5 | AC12: =Tabla_411977!A8 -> 5 | AD12: DIRECCION DE ADMINISTRACION DE PERSONAL Y ORGANIZACIÓN | AE12: 45416 | AF12: SIN DATOS
A13: 2024 | B13: 45292 | C13: 45382 | D13: Personal de confianza | E13: 110907 | F13: COORDINADORA | G13: COORDINADORA | H13: RECTORIA | I13: MARIANA MONSERRAT | J13: MARTINEZ | K13: SANCHEZ | L13: Mujer | M13: =8596.35*2 -> 17192.7 | N13: PESOS | O13: =7333.26*2 -> 14666.52 | P13: PESOS | Q13: =Tabla_411974!A9 -> 6 | R13: =Tabla_411961!A9 -> 6 | S13: =Tabla_411975!A9 -> 6 | T13: =Tabla_411945!A9 -> 6 | U13: =Tabla_411965!A9 -> 6 | V13: =Tabla_411952!A9 -> 6 | W13: =Tabla_411962!A9 -> 6 | X13: =Tabla_411953!A9 -> 6 | Y13: =Tabla_411954!A9 -> 6 | Z13: =Tabla_411972!A9 -> 6 | AA13: =Tabla_411976!A9 -> 6 | AB13: =Tabla_411973!A9 -> 6 | AC13: =Tabla_411977!A9 -> 6 | AD13: DIRECCION DE ADMINISTRACION DE PERSONAL Y ORGANIZACIÓN | AE13: 45417 | AF13: SIN DATOS
A14: 2024 | B14: 45292 | C14: 45382 | D14: Personal de confianza | E14: 111203 | F14: ESPECIALISTA TÉCNICO | G14: ESPECIALISTA TÉCNICO | H14: RECTORIA | I14: ROBERTO | J14: ESPINOSA | K14: GARCIA | L14: Hombre | M14: =5966.45*2 -> 11932.9 | N14: PESOS | O14: =5281.65*2 -> 10563.3 | P14: PESOS | Q14: =Tabla_411974!A10 -> 7 | R14: =Tabla_411961!A10 -> 7 | S14: =Tabla_411975!A10 -> 7 | T14: =Tabla_411945!A10 -> 7 | U14: =Tabla_411965!A10 -> 7 | V14: =Tabla_411952!A10 -> 7 | W14: =Tabla_411962!A10 -> 7 | X14: =Tabla_411953!A10 -> 7 | Y14: =Tabla_411954!A10 -> 7 | Z14: =Tabla_411972!A10 -> 7 | AA14: =Tabla_411976!A10 -> 7 | AB14: =Tabla_411973!A10 -> 7 | AC14: =Tabla_411977!A10 -> 7 | AD14: DIRECCION DE ADMINISTRACION DE PERSONAL Y ORGANIZACIÓN | AE14: 45418 | AF14: SIN DATOS
A15: 2024 | B15: 45292 | C15: 45382 | D15: Personal de confianza | E15: 110305 | F15: ABOGADO GENERAL | G15: ABOGADO GENERAL | H15: COORDINACION JURIDICA | I15: CARLOS EUGENIO | J15: SERRANO | K15: HERRERA | L15: Hombre | M15: =27199.6*2 -> 54399.2 | N15: PESOS | O15: =20938.61*2 -> 41877.22 | P15: PESOS | Q15: =Tabla_411974!A11 -> 8 | R15: =Tabla_411961!A11 -> 8 | S15: =Tabla_411975!A11 -> 8 | T15: =Tabla_411945!A11 -> 8 | U15: =Tabla_411965!A11 -> 8 | V15: =Tabla_411952!A11 -> 8 | W15: =Tabla_411962!A11 -> 8 | X15: =Tabla_411953!A11 -> 8 | Y15: =Tabla_411954!A11 -> 8 | Z15: =Tabla_411972!A11 -> 8 | AA15: =Tabla_411976!A11 -> 8 | AB15: =Tabla_411973!A11 -> 8 | AC15: =Tabla_411977!A11 -> 8 | AD15: DIRECCION DE ADMINISTRACION DE PERSONAL Y ORGANIZACIÓN | AE15: 45419 | AF15: SIN DATOS
A16: 2024 | B16: 45292 | C16: 45382 | D16: Personal de confianza | E16: 110707 | F16: COORDINADOR | G16: COORDINADOR | H16: COORDINACION JURIDICA | I16: ROGER ANTONIO | J16: MARROQUIN | K16: TOLEDO | L16: Hombre | M16: =8596.35*2 -> 17192.7 | N16: PESOS | O16: =7333.26*2 -> 14666.52 | P16: PESOS | Q16: =Tabla_411974!A12 -> 9 | R16: =Tabla_411961!A12 -> 9 | S16: =Tabla_411975!A12 -> 9 | T16: =Tabla_411945!A12 -> 9 | U16: =Tabla_411965!A12 -> 9 | V16: =Tabla_411952!A12 -> 9 | W16: =Tabla_411962!A12 -> 9 | X16: =Tabla_411953!A12 -> 9 | Y16: =Tabla_411954!A12 -> 9 | Z16: =Tabla_411972!A12 -> 9 | AA16: =Tabla_411976!A12 -> 9 | AB16: =Tabla_411973!A12 -> 9 | AC16: =Tabla_411977!A12 -> 9 | AD16: DIRECCION DE ADMINISTRACION DE PERSONAL Y ORGANIZACIÓN | AE16: 45420 | AF16: SIN DATOS
A17: 2024 | B17: 45292 | C17: 45382 | D17: Personal de confianza | E17: 110305 | F17: DIRECTOR DE ÁREA | G17: DIRECTOR DE ÁREA | H17: COORDINACION DE TECNOLOGIAS DE LA INFORMACIÓN | I17: EDIN YOBANI | J17: PEREZ | K17: CASTILLO | L17: Hombre | M17: =21582.98*2 -> 43165.96 | N17: PESOS | O17: =17006.88*2 -> 34013.76 | P17: PESOS | Q17: =Tabla_411974!A13 -> 10 | R17: =Tabla_411961!A13 -> 10 | S17: =Tabla_411975!A13 -> 10 | T17: =Tabla_411945!A13 -> 10 | U17: =Tabla_411965!A13 -> 10 | V17: =Tabla_411952!A13 -> 10 | W17: =Tabla_411962!A13 -> 10 | X17: =Tabla_411953!A13 -> 10 | Y17: =Tabla_411954!A13 -> 10 | Z17: =Tabla_411972!A13 -> 10 | AA17: =Tabla_411976!A13 -> 10 | AB17: =Tabla_411973!A13 -> 10 | AC17: =Tabla_411977!A13 -> 10 | AD17: DIRECCION DE ADMINISTRACION DE PERSONAL Y ORGANIZACIÓN | AE17: 45421 | AF17: SIN DATOS
A18: 2024 | B18: 45292 | C18: 45382 | D18: Personal de confianza | E18: 110404 | F18: COORDINADORA | G18: COORDINADORA | H18: COORDINACION DE TECNOLOGIAS DE LA INFORMACIÓN | I18: BELLANET | J18: RODRIGUEZ | K18: SANTIAGO | L18: Mujer | M18: =8596.35*2 -> 17192.7 | N18: PESOS | O18: =7333.26*2 -> 14666.52 | P18: PESOS | Q18: =Tabla_411974!A14 -> 11 | R18: =Tabla_411961!A14 -> 11 | S18: =Tabla_411975!A14 -> 11 | T18: =Tabla_411945!A14 -> 11 | U18: =Tabla_411965!A14 -> 11 | V18: =Tabla_411952!A14 -> 11 | W18: =Tabla_411962!A14 -> 11 | X18: =Tabla_411953!A14 -> 11 | Y18: =Tabla_411954!A14 -> 11 | Z18: =Tabla_411972!A14 -> 11 | AA18: =Tabla_411976!A14 -> 11 | AB18: =Tabla_411973!A14 -> 11 | AC18: =Tabla_411977!A14 -> 11 | AD18: DIRECCION DE ADMINISTRACION DE PERSONAL Y ORGANIZACIÓN | AE18: 45422 | AF18: SIN DATOS
A19: 2024 | B19: 45292 | C19: 45382 | D19: Personal de confianza | E19: 110305 | F19: DIRECTOR DE ÁREA | G19: DIRECTOR DE ÁREA | H19: COORDINACION DE COMUNICACIÓN SOCIAL | I19: ISAIAS GUADALUPE | J19: GORDILLO | K19: FLORES | L19: Hombre | M19: =21582.98*2 -> 43165.96 | N19: PESOS | O19: =17006.88*2 -> 34013.76 | P19: PESOS | Q19: =Tabla_411974!A15 -> 12 | R19: =Tabla_411961!A15 -> 12 | S19: =Tabla_411975!A15 -> 12 | T19: =Tabla_411945!A15 -> 12 | U19: =Tabla_411965!A15 -> 12 | V19: =Tabla_411952!A15 -> 12 | W19: =Tabla_411962!A15 -> 12 | X19: =Tabla_411953!A15 -> 12 | Y19: =Tabla_411954!A15 -> 12 | Z19: =Tabla_411972!A15 -> 12 | AA19: =Tabla_411976!A15 -> 12 | AB19: =Tabla_411973!A15 -> 12 | AC19: =Tabla_411977!A15 -> 12 | AD19: DIRECCION DE ADMINISTRACION DE PERSONAL Y ORGANIZACIÓN | AE19: 45423 | AF19: SIN DATOS
A20: 2024 | B20: 45292 | C20: 45382 | D20: Personal de confianza | E20: 110705 | F20: INGENIERO EN SISTEMAS | G20: INGENIERO EN SISTEMAS | H20: COORDINACION DE COMUNICACIÓN SOCIAL | I20: ARTURO | J20: ROJAS | K20: JIMENEZ | L20: Hombre | M20: =6762.58*2 -> 13525.16 | N20: PESOS | O20: =5917.3*2 -> 11834.6 | P20: PESOS | Q20: =Tabla_411974!A16 -> 13 | R20: =Tabla_411961!A16 -> 13 | S20: =Tabla_411975!A16 -> 13 | T20: =Tabla_411945!A16 -> 13 | U20: =Tabla_411965!A16 -> 13 | V20: =Tabla_411952!A16 -> 13 | W20: =Tabla_411962!A16 -> 13 | X20: =Tabla_411953!A16 -> 13 | Y20: =Tabla_411954!A16 -> 13 | Z20: =Tabla_411972!A16 -> 13 | AA20: =Tabla_411976!A16 -> 13 | AB20: =Tabla_411973!A16 -> 13 | AC20: =Tabla_411977!A16 -> 13 | AD20: DIRECCION DE ADMINISTRACION DE PERSONAL Y ORGANIZACIÓN | AE20: 45424 | AF20: SIN DATOS
A21: 2024 | B21: 45292 | C21: 45382 | D21: Personal de confianza | E21: 110305 | F21: DIRECTORA DE ÁREA | G21: DIRECTORA DE ÁREA | H21: UNIDAD DE IGUALDAD DE GENERO | I21: GUADALUPE YANET | J21: DOMINGUEZ | K21: ESPINOSA | L21: Mujer | M21: =27199.6*2 -> 54399.2 | N21: PESOS | O21: =20934.83*2 -> 41869.66 | P21: PESOS | Q21: =Tabla_411974!A17 -> 14 | R21: =Tabla_411961!A17 -> 14 | S21: =Tabla_411975!A17 -> 14 | T21: =Tabla_411945!A17 -> 14 | U21: =Tabla_411965!A17 -> 14 | V21: =Tabla_411952!A17 -> 14 | W21: =Tabla_411962!A17 -> 14 | X21: =Tabla_411953!A17 -> 14 | Y21: =Tabla_411954!A17 -> 14 | Z21: =Tabla_411972!A17 -> 14 | AA21: =Tabla_411976!A17 -> 14 | AB21: =Tabla_411973!A17 -> 14 | AC21: =Tabla_411977!A17 -> 14 | AD21: DIRECCION DE ADMINISTRACION DE PERSONAL Y ORGANIZACIÓN | AE21: 45425 | AF21: SIN DATOS
A22: 2024 | B22: 45292 | C22: 45382 | D22: Personal de confianza | E22: 110707 | F22: COORDINADORA | G22: COORDINADORA | H22: UNIDAD DE IGUALDAD DE GENERO | I22: BRENDA | J22: CABRERA | K22: GARCIA | L22: Mujer | M22: =8596.35*2 -> 17192.7 | N22: PESOS | O22: =7333.26*2 -> 14666.52 | P22: PESOS | Q22: =Tabla_411974!A18 -> 15 | R22: =Tabla_411961!A18 -> 15 | S22: =Tabla_411975!A18 -> 15 | T22: =Tabla_411945!A18 -> 15 | U22: =Tabla_411965!A18 -> 15 | V22: =Tabla_411952!A18 -> 15 | W22: =Tabla_411962!A18 -> 15 | X22: =Tabla_411953!A18 -> 15 | Y22: =Tabla_411954!A18 -> 15 | Z22: =Tabla_411972!A18 -> 15 | AA22: =Tabla_411976!A18 -> 15 | AB22: =Tabla_411973!A18 -> 15 | AC22: =Tabla_411977!A18 -> 15 | AD22: DIRECCION DE ADMINISTRACION DE PERSONAL Y ORGANIZACIÓN | AE22: 45426 | AF22: SIN DATOS
A23: 2024 | B23: 45292 | C23: 45382 | D23: Personal de confianza | E23: 110707 | F23: COORDINADORA | G23: COORDINADORA | H23: UNIDAD DE IGUALDAD DE GENERO | I23: GABRIELA GUADALUPE | J23: RAMOS | K23: ALVAREZ | L23: Mujer | M23: =8596.35*2 -> 17192.7 | N23: PESOS | O23: =7333.26*2 -> 14666.52 | P23: PESOS | Q23: =Tabla_411974!A19 -> 16 | R23: =Tabla_411961!A19 -> 16 | S23: =Tabla_411975!A19 -> 16 | T23: =Tabla_411945!A19 -> 16 | U23: =Tabla_411965!A19 -> 16 | V23: =Tabla_411952!A19 -> 16 | W23: =Tabla_411962!A19 -> 16 | X23: =Tabla_411953!A19 -> 16 | Y23: =Tabla_411954!A19 -> 16 | Z23: =Tabla_411972!A19 -> 16 | AA23: =Tabla_411976!A19 -> 16 | AB23: =Tabla_411973!A19 -> 16 | AC23: =Tabla_411977!A19 -> 16 | AD23: DIRECCION DE ADMINISTRACION DE PERSONAL Y ORGANIZACIÓN | AE23: 45427 | AF23: SIN DATOS
A24: 2024 | B24: 45292 | C24: 45382 | D24: Personal de confianza | E24: 110201 | F24: SESCRETARIO ACADEMICO | G24: SESCRETARIO ACADEMICO | H24: SECRETARIA ACADEMICA | I24: OSCAR DE JESUS | J24: SARMIENTO | K24: MANDUJANO | L24: Hombre | M24: =30824.25*2 -> 61648.5 | N24: PESOS | O24: =23362.59*2 -> 46725.18 | P24: PESOS | Q24: =Tabla_411974!A20 -> 17 | R24: =Tabla_411961!A20 -> 17 | S24: =Tabla_411975!A20 -> 17 | T24: =Tabla_411945!A20 -> 17 | U24: =Tabla_411965!A20 -> 17 | V24: =Tabla_411952!A20 -> 17 | W24: =Tabla_411962!A20 -> 17 | X24: =Tabla_411953!A20 -> 17 | Y24: =Tabla_411954!A20 -> 17 | Z24: =Tabla_411972!A20 -> 17 | AA24: =Tabla_411976!A20 -> 17 | AB24: =Tabla_411973!A20 -> 17 | AC24: =Tabla_411977!A20 -> 17 | AD24: DIRECCION DE ADMINISTRACION DE PERSONAL Y ORGANIZACIÓN | AE24: 45428 | AF24: SIN DATOS
A25: 2024 | B25: 45292 | C25: 45382 | D25: Personal de confianza | E25: 110404 | F25: COORDINADOR | G25: COORDINADOR | H25: SECRETARIA ACADEMICA | I25: MAURICIO | J25: REYES | K25: GUZMAN | L25: Hombre | M25: =8596.35*2 -> 17192.7 | N25: PESOS | O25: =7333.26*2 -> 14666.52 | P25: PESOS | Q25: =Tabla_411974!A21 -> 18 | R25: =Tabla_411961!A21 -> 18 | S25: =Tabla_411975!A21 -> 18 | T25: =Tabla_411945!A21 -> 18 | U25: =Tabla_411965!A21 -> 18 | V25: =Tabla_411952!A21 -> 18 | W25: =Tabla_411962!A21 -> 18 | X25: =Tabla_411953!A21 -> 18 | Y25: =Tabla_411954!A21 -> 18 | Z25: =Tabla_411972!A21 -> 18 | AA25: =Tabla_411976!A21 -> 18 | AB25: =Tabla_411973!A21 -> 18 | AC25: =Tabla_411977!A21 -> 18 | AD25: DIRECCION DE ADMINISTRACION DE PERSONAL Y ORGANIZACIÓN | AE25: 45429 | AF25: SIN DATOS
A26: 2024 | B26: 45292 | C26: 45382 | D26: Personal de confianza | E26: 110907 | F26: JEFA DE OFICINA | G26: JEFA DE OFICINA | H26: SECRETARIA ACADEMICA | I26: VIVIANA | J26: PEREZ | K26: SANTOS | L26: Mujer | M26: =5374.5*2 -> 10749 | N26: PESOS | O26: =4796.22*2 -> 9592.44 | P26: PESOS | Q26: =Tabla_411974!A22 -> 19 | R26: =Tabla_411961!A22 -> 19 | S26: =Tabla_411975!A22 -> 19 | T26: =Tabla_411945!A22 -> 19 | U26: =Tabla_411965!A22 -> 19 | V26: =Tabla_411952!A22 -> 19 | W26: =Tabla_411962!A22 -> 19 | X26: =Tabla_411953!A22 -> 19 | Y26: =Tabla_411954!A22 -> 19 | Z26: =Tabla_411972!A22 -> 19 | AA26: =Tabla_411976!A22 -> 19 | AB26: =Tabla_411973!A22 -> 19 | AC26: =Tabla_411977!A22 -> 19 | AD26: DIRECCION DE ADMINISTRACION DE PERSONAL Y ORGANIZACIÓN | AE26: 45430 | AF26: SIN DATOS
A27: 2024 | B27: 45292 | C27: 45382 | D27: Personal de confianza | E27: 110907 | F27: DIRECTOR DE ÁREA | G27: DIRECTOR DE ÁREA | H27: SECRETARIA ACADEMICA | I27: PASCUAL | J27: RAMOS | K27: GARCIA | L27: Hombre | M27: =27199.6*2 -> 54399.2 | N27: PESOS | O27: =20934.83*2 -> 41869.66 | P27: PESOS | Q27: =Tabla_411974!A23 -> 20 | R27: =Tabla_411961!A23 -> 20 | S27: =Tabla_411975!A23 -> 20 | T27: =Tabla_411945!A23 -> 20 | U27: =Tabla_411965!A23 -> 20 | V27: =Tabla_411952!A23 -> 20 | W27: =Tabla_411962!A23 -> 20 | X27: =Tabla_411953!A23 -> 20 | Y27: =Tabla_411954!A23 -> 20 | Z27: =Tabla_411972!A23 -> 20 | AA27: =Tabla_411976!A23 -> 20 | AB27: =Tabla_411973!A23 -> 20 | AC27: =Tabla_411977!A23 -> 20 | AD27: DIRECCION DE ADMINISTRACION DE PERSONAL Y ORGANIZACIÓN | AE27: 45431 | AF27: SIN DATOS
A28: 2024 | B28: 45292 | C28: 45382 | D28: Personal de confianza | E28: 110907 | F28: JEFA DE DEPARTAMENTO | G28: JEFA DE DEPARTAMENTO | H28: DIRECCION DE PLANEACION EDUCATIVA | I28: MARIA ELENA | J28: MENDOZA | K28: RINCON | L28: Mujer | M28: =14017.93*2 -> 28035.86 | N28: PESOS | O28: =11425.44*2 -> 22850.88 | P28: PESOS | Q28: =Tabla_411974!A24 -> 21 | R28: =Tabla_411961!A24 -> 21 | S28: =Tabla_411975!A24 -> 21 | T28: =Tabla_411945!A24 -> 21 | U28: =Tabla_411965!A24 -> 21 | V28: =Tabla_411952!A24 -> 21 | W28: =Tabla_411962!A24 -> 21 | X28: =Tabla_411953!A24 -> 21 | Y28: =Tabla_411954!A24 -> 21 | Z28: =Tabla_411972!A24 -> 21 | AA28: =Tabla_411976!A24 -> 21 | AB28: =Tabla_411973!A24 -> 21 | AC28: =Tabla_411977!A24 -> 21 | AD28: DIRECCION DE ADMINISTRACION DE PERSONAL Y ORGANIZACIÓN | AE28: 45432 | AF28: SIN DATOS
A29: 2024 | B29: 45292 | C29: 45382 | D29: Personal de confianza | E29: 110907 | F29: COORDINADORA | G29: COORDINADORA | H29: DIRECCION DE PLANEACION EDUCATIVA | I29: PATRICIA | J29: GUZMAN | K29: AVILA | L29: Mujer | M29: =8596.35*2 -> 17192.7 | N29: PESOS | O29: =7333.26*2 -> 14666.52 | P29: PESOS | Q29: =Tabla_411974!A25 -> 22 | R29: =Tabla_411961!A25 -> 22 | S29: =Tabla_411975!A25 -> 22 | T29: =Tabla_411945!A25 -> 22 | U29: =Tabla_411965!A25 -> 22 | V29: =Tabla_411952!A25 -> 22 | W29: =Tabla_411962!A25 -> 22 | X29: =Tabla_411953!A25 -> 22 | Y29: =Tabla_411954!A25 -> 22 | Z29: =Tabla_411972!A25 -> 22 | AA29: =Tabla_411976!A25 -> 22 | AB29: =Tabla_411973!A25 -> 22 | AC29: =Tabla_411977!A25 -> 22 | AD29: DIRECCION DE ADMINISTRACION DE PERSONAL Y ORGANIZACIÓN | AE29: 45433 | AF29: SIN DATOS
A30: 2024 | B30: 45292 | C30: 45382 | D30: Personal de confianza | E30: 110907 | F30: JEFE DE DEPARTAMENTO | G30: JEFE DE DEPARTAMENTO | H30: DIRECCION DE PLANEACION EDUCATIVA | I30: ULISES | J30: CRUZ | K30: RUIZ | L30: Hombre | M30: =14017.93*2 -> 28035.86 | N30: PESOS | O30: =11433.76*2 -> 22867.52 | P30: PESOS | Q30: =Tabla_411974!A26 -> 23 | R30: =Tabla_411961!A26 -> 23 | S30: =Tabla_411975!A26 -> 23 | T30: =Tabla_411945!A26 -> 23 | U30: =Tabla_411965!A26 -> 23 | V30: =Tabla_411952!A26 -> 23 | W30: =Tabla_411962!A26 -> 23 | X30: =Tabla_411953!A26 -> 23 | Y30: =Tabla_411954!A26 -> 23 | Z30: =Tabla_411972!A26 -> 23 | AA30: =Tabla_411976!A26 -> 23 | AB30: =Tabla_411973!A26 -> 23 | AC30: =Tabla_411977!A26 -> 23 | AD30: DIRECCION DE ADMINISTRACION DE PERSONAL Y ORGANIZACIÓN | AE30: 45434 | AF30: SIN DATOS
A31: 2024 | B31: 45292 | C31: 45382 | D31: Personal de confianza | E31: 110907 | F31: INGENIERO EN SISTEMAS | G31: INGENIERO EN SISTEMAS | H31: DIRECCION DE PLANEACION EDUCATIVA | I31: MARIO ALBERTO | J31: DOMINGUEZ | K31: GARCIA | L31: Hombre | M31: =6762.58*2 -> 13525.16 | N31: PESOS | O31: =5917.3*2 -> 11834.6 | P31: PESOS | Q31: =Tabla_411974!A27 -> 24 | R31: =Tabla_411961!A27 -> 24 | S31: =Tabla_411975!A27 -> 24 | T31: =Tabla_411945!A27 -> 24 | U31: =Tabla_411965!A27 -> 24 | V31: =Tabla_411952!A27 -> 24 | W31: =Tabla_411962!A27 -> 24 | X31: =Tabla_411953!A27 -> 24 | Y31: =Tabla_411954!A27 -> 24 | Z31: =Tabla_411972!A27 -> 24 | AA31: =Tabla_411976!A27 -> 24 | AB31: =Tabla_411973!A27 -> 24 | AC31: =Tabla_411977!A27 -> 24 | AD31: DIRECCION DE ADMINISTRACION DE PERSONAL Y ORGANIZACIÓN | AE31: 45435 | AF31: SIN DATOS
A32: 2024 | B32: 45292 | C32: 45382 | D32: Personal de confianza | E32: 110907 | F32: DIRECTORA DE ÁREA | G32: DIRECTORA DE ÁREA | H32: DIRECCION DE INNOVACION EDUCATIVA, INVESTIGACION Y POSGRADO | I32: GABRIELA | J32: PALACIOS | K32: POLA | L32: Mujer | M32: =21582.98*2 -> 43165.96 | N32: PESOS | O32: =17006.88*2 -> 34013.76 | P32: PESOS | Q32: =Tabla_411974!A28 -> 25 | R32: =Tabla_411961!A28 -> 25 | S32: =Tabla_411975!A28 -> 25 | T32: =Tabla_411945!A28 -> 25 | U32: =Tabla_411965!A28 -> 25 | V32: =Tabla_411952!A28 -> 25 | W32: =Tabla_411962!A28 -> 25 | X32: =Tabla_411953!A28 -> 25 | Y32: =Tabla_411954!A28 -> 25 | Z32: =Tabla_411972!A28 -> 25 | AA32: =Tabla_411976!A28 -> 25 | AB32: =Tabla_411973!A28 -> 25 | AC32: =Tabla_411977!A28 -> 25 | AD32: DIRECCION DE ADMINISTRACION DE PERSONAL Y ORGANIZACIÓN | AE32: 45436 | AF32: SIN DATOS
A33: 2024 | B33: 45292 | C33: 45382 | D33: Personal de confianza | E33: 110907 | F33: INGENIERO EN SISTEMAS | G33: INGENIERO EN SISTEMAS | H33: DIRECCION DE INNOVACION EDUCATIVA, INVESTIGACION Y POSGRADO | I33: JUAN CARLOS | J33: HERNANDEZ | K33: CAMACHO | L33: Hombre | M33: =6762.58*2 -> 13525.16 | N33: PESOS | O33: =5918.24*2 -> 11836.48 | P33: PESOS | Q33: =Tabla_411974!A29 -> 26 | R33: =Tabla_411961!A29 -> 26 | S33: =Tabla_411975!A29 -> 26 | T33: =Tabla_411945!A29 -> 26 | U33: =Tabla_411965!A29 -> 26 | V33: =Tabla_411952!A29 -> 26 | W33: =Tabla_411962!A29 -> 26 | X33: =Tabla_411953!A29 -> 26 | Y33: =Tabla_411954!A29 -> 26 | Z33: =Tabla_411972!A29 -> 26 | AA33: =Tabla_411976!A29 -> 26 | AB33: =Tabla_411973!A29 -> 26 | AC33: =Tabla_411977!A29 -> 26 | AD33: DIRECCION DE ADMINISTRACION DE PERSONAL Y ORGANIZACIÓN | AE33: 45437 | AF33: SIN DATOS
A34: 2024 | B34: 45292 | C34: 45382 | D34: Personal de confianza | E34: 110907 | F34: DIRECTORA DE ÁREA | G34: DIRECTORA DE ÁREA | H34: DIRECCION DE SERVICIOS ACADEMICOS | I34: PATRICIA | J34: ABARCA | K34: ALFARO | L34: Mujer | M34: =27199.6*2 -> 54399.2 | N34: PESOS | O34: =20934.83*2 -> 41869.66 | P34: PESOS | Q34: =Tabla_411974!A30 -> 27 | R34: =Tabla_411961!A30 -> 27 | S34: =Tabla_411975!A30 -> 27 | T34: =Tabla_411945!A30 -> 27 | U34: =Tabla_411965!A30 -> 27 | V34: =Tabla_411952!A30 -> 27 | W34: =Tabla_411962!A30 -> 27 | X34: =Tabla_411953!A30 -> 27 | Y34: =Tabla_411954!A30 -> 27 | Z34: =Tabla_411972!A30 -> 27 | AA34: =Tabla_411976!A30 -> 27 | AB34: =Tabla_411973!A30 -> 27 | AC34: =Tabla_411977!A30 -> 27 | AD34: DIRECCION DE ADMINISTRACION DE PERSONAL Y ORGANIZACIÓN | AE34: 45438 | AF34: SIN DATOS
A35: 2024 | B35: 45292 | C35: 45382 | D35: Personal de confianza | E35: 110907 | F35: JEFA DE DEPARTAMENTO | G35: JEFA DE DEPARTAMENTO | H35: DEPARTAMENTO DE SERVICIOS ESCOLARE Y BIBLIOTECA | I35: BERENICE | J35: CASTILLEJOS | K35: VILLATORO | L35: Mujer | M35: =14017.93*2 -> 28035.86 | N35: PESOS | O35: =11425.44*2 -> 22850.88 | P35: PESOS | Q35: =Tabla_411974!A31 -> 28 | R35: =Tabla_411961!A31 -> 28 | S35: =Tabla_411975!A31 -> 28 | T35: =Tabla_411945!A31 -> 28 | U35: =Tabla_411965!A31 -> 28 | V35: =Tabla_411952!A31 -> 28 | W35: =Tabla_411962!A31 -> 28 | X35: =Tabla_411953!A31 -> 28 | Y35: =Tabla_411954!A31 -> 28 | Z35: =Tabla_411972!A31 -> 28 | AA35: =Tabla_411976!A31 -> 28 | AB35: =Tabla_411973!A31 -> 28 | AC35: =Tabla_411977!A31 -> 28 | AD35: DIRECCION DE ADMINISTRACION DE PERSONAL Y ORGANIZACIÓN | AE35: 45439 | AF35: SIN DATOS
A36: 2024 | B36: 45292 | C36: 45382 | D36: Personal de confianza | E36: 110907 | F36: COORDINADORA | G36: COORDINADORA | H36: DEPARTAMENTO DE SERVICIOS ESCOLARE Y BIBLIOTECA | I36: FLORENTINA DEL ROSARIO | J36: MAZA | K36: BORGES | L36: Mujer | M36: =8596.35*2 -> 17192.7 | N36: PESOS | O36: =7333.26*2 -> 14666.52 | P36: PESOS | Q36: =Tabla_411974!A32 -> 29 | R36: =Tabla_411961!A32 -> 29 | S36: =Tabla_411975!A32 -> 29 | T36: =Tabla_411945!A32 -> 29 | U36: =Tabla_411965!A32 -> 29 | V36: =Tabla_411952!A32 -> 29 | W36: =Tabla_411962!A32 -> 29 | X36: =Tabla_411953!A32 -> 29 | Y36: =Tabla_411954!A32 -> 29 | Z36: =Tabla_411972!A32 -> 29 | AA36: =Tabla_411976!A32 -> 29 | AB36: =Tabla_411973!A32 -> 29 | AC36: =Tabla_411977!A32 -> 29 | AD36: DIRECCION DE ADMINISTRACION DE PERSONAL Y ORGANIZACIÓN | AE36: 45440 | AF36: SIN DATOS
A37: 2024 | B37: 45292 | C37: 45382 | D37: Personal de confianza | E37: 110907 | F37: COORDINADORA | G37: COORDINADORA | H37: DEPARTAMENTO DE SERVICIOS ESCOLARE Y BIBLIOTECA | I37: EDITH | J37: PONCE | K37: RECINOS | L37: Mujer | M37: =8596.35*2 -> 17192.7 | N37: PESOS | O37: =7333.26*2 -> 14666.52 | P37: PESOS | Q37: =Tabla_411974!A33 -> 30 | R37: =Tabla_411961!A33 -> 30 | S37: =Tabla_411975!A33 -> 30 | T37: =Tabla_411945!A33 -> 30 | U37: =Tabla_411965!A33 -> 30 | V37: =Tabla_411952!A33 -> 30 | W37: =Tabla_411962!A33 -> 30 | X37: =Tabla_411953!A33 -> 30 | Y37: =Tabla_411954!A33 -> 30 | Z37: =Tabla_411972!A33 -> 30 | AA37: =Tabla_411976!A33 -> 30 | AB37: =Tabla_411973!A33 -> 30 | AC37: =Tabla_411977!A33 -> 30 | AD37: DIRECCION DE ADMINISTRACION DE PERSONAL Y ORGANIZACIÓN | AE37: 45441 | AF37: SIN DATOS
A38: 2024 | B38: 45292 | C38: 45382 | D38: Personal de confianza | E38: 110907 | F38: JEFA DE DEPARTAMENTO | G38: JEFA DE DEPARTAMENTO | H38: DIRECCION DE SERVICIOS ACADEMICOS | I38: INGRIS MAGALY | J38: SANTOS | K38: BARRIOS | L38: Mujer | M38: =14017.93*2 -> 28035.86 | N38: PESOS | O38: =11425.44*2 -> 22850.88 | P38: PESOS | Q38: =Tabla_411974!A34 -> 31 | R38: =Tabla_411961!A34 -> 31 | S38: =Tabla_411975!A34 -> 31 | T38: =Tabla_411945!A34 -> 31 | U38: =Tabla_411965!A34 -> 31 | V38: =Tabla_411952!A34 -> 31 | W38: =Tabla_411962!A34 -> 31 | X38: =Tabla_411953!A34 -> 31 | Y38: =Tabla_411954!A34 -> 31 | Z38: =Tabla_411972!A34 -> 31 | AA38: =Tabla_411976!A34 -> 31 | AB38: =Tabla_411973!A34 -> 31 | AC38: =Tabla_411977!A34 -> 31 | AD38: DIRECCION DE ADMINISTRACION DE PERSONAL Y ORGANIZACIÓN | AE38: 45442 | AF38: SIN DATOS
A39: 2024 | B39: 45292 | C39: 45382 | D39: Personal de confianza | E39: 110907 | F39: COORDINADOR | G39: COORDINADOR | H39: DEPARTAMENTO DE ATENCION INTEGRAL A LA COMUNIDAD UNIVERSITARIA Y TUTORIAS | I39: CESAR | J39: LADRON DE GUEVARA | K39: SANCHEZ | L39: Hombre | M39: =8596.35*2 -> 17192.7 | N39: PESOS | O39: =4754.61*2 -> 9509.22 | P39: PESOS | Q39: =Tabla_411974!A35 -> 32 | R39: =Tabla_411961!A35 -> 32 | S39: =Tabla_411975!A35 -> 32 | T39: =Tabla_411945!A35 -> 32 | U39: =Tabla_411965!A35 -> 32 | V39: =Tabla_411952!A35 -> 32 | W39: =Tabla_411962!A35 -> 32 | X39: =Tabla_411953!A35 -> 32 | Y39: =Tabla_411954!A35 -> 32 | Z39: =Tabla_411972!A35 -> 32 | AA39: =Tabla_411976!A35 -> 32 | AB39: =Tabla_411973!A35 -> 32 | AC39: =Tabla_411977!A35 -> 32 | AD39: DIRECCION DE ADMINISTRACION DE PERSONAL Y ORGANIZACIÓN | AE39: 45443 | AF39: SIN DATOS
A40: 2024 | B40: 45292 | C40: 45382 | D40: Personal de confianza | E40: 110907 | F40: COORDINADOR | G40: COORDINADOR | H40: DIRECCION DE INNOVACION EDUCATIVA Y POSGRADO | I40: FELIPE APOLINAR | J40: MELCHOR | K40: ANDRADE | L40: Hombre | M40: =8596.35*2 -> 17192.7 | N40: PESOS | O40: =7333.26*2 -> 14666.52 | P40: PESOS | Q40: =Tabla_411974!A36 -> 33 | R40: =Tabla_411961!A36 -> 33 | S40: =Tabla_411975!A36 -> 33 | T40: =Tabla_411945!A36 -> 33 | U40: =Tabla_411965!A36 -> 33 | V40: =Tabla_411952!A36 -> 33 | W40: =Tabla_411962!A36 -> 33 | X40: =Tabla_411953!A36 -> 33 | Y40: =Tabla_411954!A36 -> 33 | Z40: =Tabla_411972!A36 -> 33 | AA40: =Tabla_411976!A36 -> 33 | AB40: =Tabla_411973!A36 -> 33 | AC40: =Tabla_411977!A36 -> 33 | AD40: DIRECCION DE ADMINISTRACION DE PERSONAL Y ORGANIZACIÓN | AE40: 45444 | AF40: SIN DATOS
A41: 2024 | B41: 45292 | C41: 45382 | D41: Personal de confianza | E41: 110907 | F41: ANALISTA ADMINISTRATIVO | G41: ANALISTA ADMINISTRATIVO | H41: DEPARTAMENTO DE ATENCION INTEGRAL A LA COMUNIDAD UNIVERSITARIA Y TUTORIAS | I41: ILIANA GUADALUPE | J41: URBINA | K41: GARCIA | L41: Mujer | M41: =4159.95*2 -> 8319.9 | N41: PESOS | O41: =3752.49*2 -> 7504.98 | P41: PESOS | Q41: =Tabla_411974!A37 -> 34 | R41: =Tabla_411961!A37 -> 34 | S41: =Tabla_411975!A37 -> 34 | T41: =Tabla_411945!A37 -> 34 | U41: =Tabla_411965!A37 -> 34 | V41: =Tabla_411952!A37 -> 34 | W41: =Tabla_411962!A37 -> 34 | X41: =Tabla_411953!A37 -> 34 | Y41: =Tabla_411954!A37 -> 34 | Z41: =Tabla_411972!A37 -> 34 | AA41: =Tabla_411976!A37 -> 34 | AB41: =Tabla_411973!A37 -> 34 | AC41: =Tabla_411977!A37 -> 34 | AD41: DIRECCION DE ADMINISTRACION DE PERSONAL Y ORGANIZACIÓN | AE41: 45445 | AF41: SIN DATOS
A42: 2024 | B42: 45292 | C42: 45382 | D42: Personal de confianza | E42: 110907 | F42: DIRECTORA DE ÁREA | G42: DIRECTORA DE ÁREA | H42: DIRECCION DE VINCULACION UNIVERSITARIA | I42: AMABLE CONCEPCION | J42: ZUÑIGA | K42: HERNANDEZ | L42: Mujer | M42: =21582.98*2 -> 43165.96 | N42: PESOS | O42: =17003.87*2 -> 34007.74 | P42: PESOS | Q42: =Tabla_411974!A38 -> 35 | R42: =Tabla_411961!A38 -> 35 | S42: =Tabla_411975!A38 -> 35 | T42: =Tabla_411945!A38 -> 35 | U42: =Tabla_411965!A38 -> 35 | V42: =Tabla_411952!A38 -> 35 | W42: =Tabla_411962!A38 -> 35 | X42: =Tabla_411953!A38 -> 35 | Y42: =Tabla_411954!A38 -> 35 | Z42: =Tabla_411972!A38 -> 35 | AA42: =Tabla_411976!A38 -> 35 | AB42: =Tabla_411973!A38 -> 35 | AC42: =Tabla_411977!A38 -> 35 | AD42: DIRECCION DE ADMINISTRACION DE PERSONAL Y ORGANIZACIÓN | AE42: 45446 | AF42: SIN DATOS
A43: 2024 | B43: 45292 | C43: 45382 | D43: Personal de confianza | E43: 110907 | F43: JEFA DE DEPARTAMENTO | G43: JEFA DE DEPARTAMENTO | H43: DIRECCION DE VINCULACION UNIVERSITARIA | I43: CLAUDIA ARACELI | J43: MADARIAGA | K43: AGUILAR | L43: Mujer | M43: =14017.93*2 -> 28035.86 | N43: PESOS | O43: =11425.44*2 -> 22850.88 | P43: PESOS | Q43: =Tabla_411974!A39 -> 36 | R43: =Tabla_411961!A39 -> 36 | S43: =Tabla_411975!A39 -> 36 | T43: =Tabla_411945!A39 -> 36 | U43: =Tabla_411965!A39 -> 36 | V43: =Tabla_411952!A39 -> 36 | W43: =Tabla_411962!A39 -> 36 | X43: =Tabla_411953!A39 -> 36 | Y43: =Tabla_411954!A39 -> 36 | Z43: =Tabla_411972!A39 -> 36 | AA43: =Tabla_411976!A39 -> 36 | AB43: =Tabla_411973!A39 -> 36 | AC43: =Tabla_411977!A39 -> 36 | AD43: DIRECCION DE ADMINISTRACION DE PERSONAL Y ORGANIZACIÓN | AE43: 45447 | AF43: SIN DATOS
A44: 2024 | B44: 45292 | C44: 45382 | D44: Personal de confianza | E44: 110907 | F44: JEFA DE DEPARTAMENTO | G44: JEFA DE DEPARTAMENTO | H44: DIRECCION DE VINCULACION UNIVERSITARIA | I44: AZUCENA | J44: PEREZ | K44: MELENDEZ | L44: Mujer | M44: =10960.22*2 -> 21920.44 | N44: PESOS | O44: =9116.81*2 -> 18233.62 | P44: PESOS | Q44: =Tabla_411974!A40 -> 37 | R44: =Tabla_411961!A40 -> 37 | S44: =Tabla_411975!A40 -> 37 | T44: =Tabla_411945!A40 -> 37 | U44: =Tabla_411965!A40 -> 37 | V44: =Tabla_411952!A40 -> 37 | W44: =Tabla_411962!A40 -> 37 | X44: =Tabla_411953!A40 -> 37 | Y44: =Tabla_411954!A40 -> 37 | Z44: =Tabla_411972!A40 -> 37 | AA44: =Tabla_411976!A40 -> 37 | AB44: =Tabla_411973!A40 -> 37 | AC44: =Tabla_411977!A40 -> 37 | AD44: DIRECCION DE ADMINISTRACION DE PERSONAL Y ORGANIZACIÓN | AE44: 45448 | AF44: SIN DATOS
A45: 2024 | B45: 45292 | C45: 45382 | D45: Personal de confianza | E45: 110907 | F45: INGENIERA EN SISTEMAS | G45: INGENIERA EN SISTEMAS | H45: DIRECCION DE VINCULACION UNIVERSITARIA | I45: IRMA TRINIDAD | J45: MORGAN | K45: LOPEZ | L45: Mujer | M45: =6762.58*2 -> 13525.16 | N45: PESOS | O45: =5917.3*2 -> 11834.6 | P45: PESOS | Q45: =Tabla_411974!A41 -> 38 | R45: =Tabla_411961!A41 -> 38 | S45: =Tabla_411975!A41 -> 38 | T45: =Tabla_411945!A41 -> 38 | U45: =Tabla_411965!A41 -> 38 | V45: =Tabla_411952!A41 -> 38 | W45: =Tabla_411962!A41 -> 38 | X45: =Tabla_411953!A41 -> 38 | Y45: =Tabla_411954!A41 -> 38 | Z45: =Tabla_411972!A41 -> 38 | AA45: =Tabla_411976!A41 -> 38 | AB45: =Tabla_411973!A41 -> 38 | AC45: =Tabla_411977!A41 -> 38 | AD45: DIRECCION DE ADMINISTRACION DE PERSONAL Y ORGANIZACIÓN | AE45: 45449 | AF45: SIN DATOS
A46: 2024 | B46: 45292 | C46: 45382 | D46: Personal de confianza | E46: 110907 | F46: INGENIERA EN SISTEMAS | G46: INGENIERA EN SISTEMAS | H46: DIRECION DE INGERNIERIA AMBIENTAL | I46: ELENA DEL CARMEN | J46: SANCHEZ | K46: SANCHEZ | L46: Mujer | M46: =6762.58*2 -> 13525.16 | N46: PESOS | O46: =4435.21*2 -> 8870.42 | P46: PESOS | Q46: =Tabla_411974!A42 -> 39 | R46: =Tabla_411961!A42 -> 39 | S46: =Tabla_411975!A42 -> 39 | T46: =Tabla_411945!A42 -> 39 | U46: =Tabla_411965!A42 -> 39 | V46: =Tabla_411952!A42 -> 39 | W46: =Tabla_411962!A42 -> 39 | X46: =Tabla_411953!A42 -> 39 | Y46: =Tabla_411954!A42 -> 39 | Z46: =Tabla_411972!A42 -> 39 | AA46: =Tabla_411976!A42 -> 39 | AB46: =Tabla_411973!A42 -> 39 | AC46: =Tabla_411977!A42 -> 39 | AD46: DIRECCION DE ADMINISTRACION DE PERSONAL Y ORGANIZACIÓN | AE46: 45450 | AF46: SIN DATOS
A47: 2024 | B47: 45292 | C47: 45382 | D47: Personal de confianza | E47: 110907 | F47: INGENIERO EN SISTEMAS | G47: INGENIERO EN SISTEMAS | H47: DIRECCION DE ENERGIA | I47: ALEJANDRO | J47: LOPEZ | K47: PEÑATE | L47: Hombre | M47: =6762.58*2 -> 13525.16 | N47: PESOS | O47: =5917.3*2 -> 11834.6 | P47: PESOS | Q47: =Tabla_411974!A43 -> 40 | R47: =Tabla_411961!A43 -> 40 | S47: =Tabla_411975!A43 -> 40 | T47: =Tabla_411945!A43 -> 40 | U47: =Tabla_411965!A43 -> 40 | V47: =Tabla_411952!A43 -> 40 | W47: =Tabla_411962!A43 -> 40 | X47: =Tabla_411953!A43 -> 40 | Y47: =Tabla_411954!A43 -> 40 | Z47: =Tabla_411972!A43 -> 40 | AA47: =Tabla_411976!A43 -> 40 | AB47: =Tabla_411973!A43 -> 40 | AC47: =Tabla_411977!A43 -> 40 | AD47: DIRECCION DE ADMINISTRACION DE PERSONAL Y ORGANIZACIÓN | AE47: 45451 | AF47: SIN DATOS
A48: 2024 | B48: 45292 | C48: 45382 | D48: Personal de confianza | E48: 110907 | F48: INGENIERO EN SISTEMAS | G48: INGENIERO EN SISTEMAS | H48: DIRECCION DE AGROINDUSTRIAL | I48: ROOSVELT | J48: TOLEDO | K48: ESPINOSA | L48: Hombre | M48: =6762.58*2 -> 13525.16 | N48: PESOS | O48: =5917.29*2 -> 11834.58 | P48: PESOS | Q48: =Tabla_411974!A44 -> 41 | R48: =Tabla_411961!A44 -> 41 | S48: =Tabla_411975!A44 -> 41 | T48: =Tabla_411945!A44 -> 41 | U48: =Tabla_411965!A44 -> 41 | V48: =Tabla_411952!A44 -> 41 | W48: =Tabla_411962!A44 -> 41 | X48: =Tabla_411953!A44 -> 41 | Y48: =Tabla_411954!A44 -> 41 | Z48: =Tabla_411972!A44 -> 41 | AA48: =Tabla_411976!A44 -> 41 | AB48: =Tabla_411973!A44 -> 41 | AC48: =Tabla_411977!A44 -> 41 | AD48: DIRECCION DE ADMINISTRACION DE PERSONAL Y ORGANIZACIÓN | AE48: 45452 | AF48: SIN DATOS
A49: 2024 | B49: 45292 | C49: 45382 | D49: Personal de confianza | E49: 110907 | F49: ANALISTA ADMINISTRATIVO | G49: ANALISTA ADMINISTRATIVO | H49: DIRECCION DE INGENIERIA AGROINDUSTRIAL | I49: BRIANDA | J49: ZORRILLA | K49: MARTINEZ | L49: Mujer | M49: =4159.95*2 -> 8319.9 | N49: PESOS | O49: =3752.49*2 -> 7504.98 | P49: PESOS | Q49: =Tabla_411974!A45 -> 42 | R49: =Tabla_411961!A45 -> 42 | S49: =Tabla_411975!A45 -> 42 | T49: =Tabla_411945!A45 -> 42 | U49: =Tabla_411965!A45 -> 42 | V49: =Tabla_411952!A45 -> 42 | W49: =Tabla_411962!A45 -> 42 | X49: =Tabla_411953!A45 -> 42 | Y49: =Tabla_411954!A45 -> 42 | Z49: =Tabla_411972!A45 -> 42 | AA49: =Tabla_411976!A45 -> 42 | AB49: =Tabla_411973!A45 -> 42 | AC49: =Tabla_411977!A45 -> 42 | AD49: DIRECCION DE ADMINISTRACION DE PERSONAL Y ORGANIZACIÓN | AE49: 45453 | AF49: SIN DATOS
A50: 2024 | B50: 45292 | C50: 45382 | D50: Personal de confianza | E50: 110907 | F50: INGENIERO EN SISTEMAS | G50: INGENIERO EN SISTEMAS | H50: DIRECCION DE INGENIERIA MECATRONICA | I50: ENRIQUE | J50: SOTELO | K50: MORA | L50: Hombre | M50: =6762.58*2 -> 13525.16 | N50: PESOS | O50: =5918.24*2 -> 11836.48 | P50: PESOS | Q50: =Tabla_411974!A46 -> 43 | R50: =Tabla_411961!A46 -> 43 | S50: =Tabla_411975!A46 -> 43 | T50: =Tabla_411945!A46 -> 43 | U50: =Tabla_411965!A46 -> 43 | V50: =Tabla_411952!A46 -> 43 | W50: =Tabla_411962!A46 -> 43 | X50: =Tabla_411953!A46 -> 43 | Y50: =Tabla_411954!A46 -> 43 | Z50: =Tabla_411972!A46 -> 43 | AA50: =Tabla_411976!A46 -> 43 | AB50: =Tabla_411973!A46 -> 43 | AC50: =Tabla_411977!A46 -> 43 | AD50: DIRECCION DE ADMINISTRACION DE PERSONAL Y ORGANIZACIÓN | AE50: 45454 | AF50: SIN DATOS
A51: 2024 | B51: 45292 | C51: 45382 | D51: Personal de confianza | E51: 110907 | F51: INGENIERO EN SISTEMAS | G51: INGENIERO EN SISTEMAS | H51: DIRECCION DE DESARROLLO DE SOFTWARE | I51: JULIO CESAR | J51: PAZ | K51: CRUZ | L51: Hombre | M51: =6762.58*2 -> 13525.16 | N51: PESOS | O51: =5917.3*2 -> 11834.6 | P51: PESOS | Q51: =Tabla_411974!A47 -> 44 | R51: =Tabla_411961!A47 -> 44 | S51: =Tabla_411975!A47 -> 44 | T51: =Tabla_411945!A47 -> 44 | U51: =Tabla_411965!A47 -> 44 | V51: =Tabla_411952!A47 -> 44 | W51: =Tabla_411962!A47 -> 44 | X51: =Tabla_411953!A47 -> 44 | Y51: =Tabla_411954!A47 -> 44 | Z51: =Tabla_411972!A47 -> 44 | AA51: =Tabla_411976!A47 -> 44 | AB51: =Tabla_411973!A47 -> 44 | AC51: =Tabla_411977!A47 -> 44 | AD51: DIRECCION DE ADMINISTRACION DE PERSONAL Y ORGANIZACIÓN | AE51: 45455 | AF51: SIN DATOS
A52: 2024 | B52: 45292 | C52: 45382 | D52: Personal de confianza | E52: 110907 | F52: INGENIERA EN SISTEMAS | G52: INGENIERA EN SISTEMAS | H52: DIRECCIÓN DE INGENIERIA BIOMEDICA | I52: AZUCENA | J52: ESPINOZA | K52: RAMOS | L52: Mujer | M52: =6762.58*2 -> 13525.16 | N52: PESOS | O52: =5921.31*2 -> 11842.62 | P52: PESOS | Q52: =Tabla_411974!A48 -> 45 | R52: =Tabla_411961!A48 -> 45 | S52: =Tabla_411975!A48 -> 45 | T52: =Tabla_411945!A48 -> 45 | U52: =Tabla_411965!A48 -> 45 | V52: =Tabla_411952!A48 -> 45 | W52: =Tabla_411962!A48 -> 45 | X52: =Tabla_411953!A48 -> 45 | Y52: =Tabla_411954!A48 -> 45 | Z52: =Tabla_411972!A48 -> 45 | AA52: =Tabla_411976!A48 -> 45 | AB52: =Tabla_411973!A48 -> 45 | AC52: =Tabla_411977!A48 -> 45 | AD52: DIRECCION DE ADMINISTRACION DE PERSONAL Y ORGANIZACIÓN | AE52: 45456 | AF52: SIN DATOS
A53: 2024 | B53: 45292 | C53: 45382 | D53: Personal de confianza | E53: 110907 | F53: INGENIERO EN SISTEMAS | G53: INGENIERO EN SISTEMAS | H53: DIRECCION DE INGENIERIA PETROLERA | I53: DANIEL | J53: SANTOS | K53: CORONEL | L53: Hombre | M53: =6762.58*2 -> 13525.16 | N53: PESOS | O53: =5917.3*2 -> 11834.6 | P53: PESOS | Q53: =Tabla_411974!A49 -> 46 | R53: =Tabla_411961!A49 -> 46 | S53: =Tabla_411975!A49 -> 46 | T53: =Tabla_411945!A49 -> 46 | U53: =Tabla_411965!A49 -> 46 | V53: =Tabla_411952!A49 -> 46 | W53: =Tabla_411962!A49 -> 46 | X53: =Tabla_411953!A49 -> 46 | Y53: =Tabla_411954!A49 -> 46 | Z53: =Tabla_411972!A49 -> 46 | AA53: =Tabla_411976!A49 -> 46 | AB53: =Tabla_411973!A49 -> 46 | AC53: =Tabla_411977!A49 -> 46 | AD53: DIRECCION DE ADMINISTRACION DE PERSONAL Y ORGANIZACIÓN | AE53: 45457 | AF53: SIN DATOS
A54: 2024 | B54: 45292 | C54: 45382 | D54: Personal de confianza | E54: 110907 | F54: INGENIERA EN SISTEMAS | G54: INGENIERA EN SISTEMAS | H54: DIRECCION DE INGENIERIA EN TECNOLOGIAS DE MANUFACTURA | I54: SANDRA ELIZABETH | J54: DOMINGUEZ | K54: AGUILAR | L54: Mujer | M54: =6762.58*2 -> 13525.16 | N54: PESOS | O54: =5917.3*2 -> 11834.6 | P54: PESOS | Q54: =Tabla_411974!A50 -> 47 | R54: =Tabla_411961!A50 -> 47 | S54: =Tabla_411975!A50 -> 47 | T54: =Tabla_411945!A50 -> 47 | U54: =Tabla_411965!A50 -> 47 | V54: =Tabla_411952!A50 -> 47 | W54: =Tabla_411962!A50 -> 47 | X54: =Tabla_411953!A50 -> 47 | Y54: =Tabla_411954!A50 -> 47 | Z54: =Tabla_411972!A50 -> 47 | AA54: =Tabla_411976!A50 -> 47 | AB54: =Tabla_411973!A50 -> 47 | AC54: =Tabla_411977!A50 -> 47 | AD54: DIRECCION DE ADMINISTRACION DE PERSONAL Y ORGANIZACIÓN | AE54: 45458 | AF54: SIN DATOS
A55: 2024 | B55: 45292 | C55: 45382 | D55: Personal de confianza | E55: 110907 | F55: INGENIERA EN SISTEMAS | G55: INGENIERA EN SISTEMAS | H55: DIRECCION DE LA LICENCIATURA EN ADMINISTRACION Y GESTION DE PEQUEÑAS Y MEDIANAS EMPRESAS | I55: NELLY ELIZABETH | J55: ALVAREZ | K55: VAZQUEZ | L55: Mujer | M55: =6762.58*2 -> 13525.16 | N55: PESOS | O55: =5921.31*2 -> 11842.62 | P55: PESOS | Q55: =Tabla_411974!A51 -> 48 | R55: =Tabla_411961!A51 -> 48 | S55: =Tabla_411975!A51 -> 48 | T55: =Tabla_411945!A51 -> 48 | U55: =Tabla_411965!A51 -> 48 | V55: =Tabla_411952!A51 -> 48 | W55: =Tabla_411962!A51 -> 48 | X55: =Tabla_411953!A51 -> 48 | Y55: =Tabla_411954!A51 -> 48 | Z55: =Tabla_411972!A51 -> 48 | AA55: =Tabla_411976!A51 -> 48 | AB55: =Tabla_411973!A51 -> 48 | AC55: =Tabla_411977!A51 -> 48 | AD55: DIRECCION DE ADMINISTRACION DE PERSONAL Y ORGANIZACIÓN | AE55: 45459 | AF55: SIN DATOS
A56: 2024 | B56: 45292 | C56: 45382 | D56: Personal de confianza | E56: 110907 | F56: SECRETARIO ADMINISTRATIVO | G56: SECRETARIO ADMINISTRATIVO | H56: SECRETARIA ADMINISTRATIVA | I56: LUIS RAQUEL | J56: SERRANO | K56: POZO | L56: Hombre | M56: =30824.25*2 -> 61648.5 | N56: PESOS | O56: =23362.59*2 -> 46725.18 | P56: PESOS | Q56: =Tabla_411974!A52 -> 49 | R56: =Tabla_411961!A52 -> 49 | S56: =Tabla_411975!A52 -> 49 | T56: =Tabla_411945!A52 -> 49 | U56: =Tabla_411965!A52 -> 49 | V56: =Tabla_411952!A52 -> 49 | W56: =Tabla_411962!A52 -> 49 | X56: =Tabla_411953!A52 -> 49 | Y56: =Tabla_411954!A52 -> 49 | Z56: =Tabla_411972!A52 -> 49 | AA56: =Tabla_411976!A52 -> 49 | AB56: =Tabla_411973!A52 -> 49 | AC56: =Tabla_411977!A52 -> 49 | AD56: DIRECCION DE ADMINISTRACION DE PERSONAL Y ORGANIZACIÓN | AE56: 45460 | AF56: SIN DATOS
A57: 2024 | B57: 45292 | C57: 45382 | D57: Personal de confianza | E57: 110907 | F57: JEFE DE OFICINA | G57: JEFE DE OFICINA | H57: SECRETARIA ADMINISTRATIVA | I57: GONZALO | J57: MORENO | K57: BAUTISTA | L57: Hombre | M57: =5374.5*2 -> 10749 | N57: PESOS | O57: =4796.22*2 -> 9592.44 | P57: PESOS | Q57: =Tabla_411974!A53 -> 50 | R57: =Tabla_411961!A53 -> 50 | S57: =Tabla_411975!A53 -> 50 | T57: =Tabla_411945!A53 -> 50 | U57: =Tabla_411965!A53 -> 50 | V57: =Tabla_411952!A53 -> 50 | W57: =Tabla_411962!A53 -> 50 | X57: =Tabla_411953!A53 -> 50 | Y57: =Tabla_411954!A53 -> 50 | Z57: =Tabla_411972!A53 -> 50 | AA57: =Tabla_411976!A53 -> 50 | AB57: =Tabla_411973!A53 -> 50 | AC57: =Tabla_411977!A53 -> 50 | AD57: DIRECCION DE ADMINISTRACION DE PERSONAL Y ORGANIZACIÓN | AE57: 45461 | AF57: SIN DATOS
A58: 2024 | B58: 45292 | C58: 45382 | D58: Personal de confianza | E58: 110305 | F58: DIRECTOR DE ÁREA | G58: DIRECTOR DE ÁREA | H58: DIRECCION DE ADMINISTRACION DE PERSONAL Y ORGANIZACIÓN | I58: LUIS | J58: CAMARILLO | K58: TORRES | L58: Hombre | M58: =27199.6*2 -> 54399.2 | N58: PESOS | O58: =20934.83*2 -> 41869.66 | P58: PESOS | Q58: =Tabla_411974!A54 -> 51 | R58: =Tabla_411961!A54 -> 51 | S58: =Tabla_411975!A54 -> 51 | T58: =Tabla_411945!A54 -> 51 | U58: =Tabla_411965!A54 -> 51 | V58: =Tabla_411952!A54 -> 51 | W58: =Tabla_411962!A54 -> 51 | X58: =Tabla_411953!A54 -> 51 | Y58: =Tabla_411954!A54 -> 51 | Z58: =Tabla_411972!A54 -> 51 | AA58: =Tabla_411976!A54 -> 51 | AB58: =Tabla_411973!A54 -> 51 | AC58: =Tabla_411977!A54 -> 51 | AD58: DIRECCION DE ADMINISTRACION DE PERSONAL Y ORGANIZACIÓN | AE58: 45462 | AF58: SIN DATOS
A59: 2024 | B59: 45292 | C59: 45382 | D59: Personal de confianza | E59: 110507 | F59: JEFE DE DEPARTAMENTO | G59: JEFE DE DEPARTAMENTO | H59: DEPARTAMENTO DE PROMOCION LABORAL Y CAPACITACION | I59: FERNANDO | J59: GARCIA | K59: DOMINGUEZ | L59: Hombre | M59: =14017.93*2 -> 28035.86 | N59: PESOS | O59: =11425.44*2 -> 22850.88 | P59: PESOS | Q59: =Tabla_411974!A55 -> 52 | R59: =Tabla_411961!A55 -> 52 | S59: =Tabla_411975!A55 -> 52 | T59: =Tabla_411945!A55 -> 52 | U59: =Tabla_411965!A55 -> 52 | V59: =Tabla_411952!A55 -> 52 | W59: =Tabla_411962!A55 -> 52 | X59: =Tabla_411953!A55 -> 52 | Y59: =Tabla_411954!A55 -> 52 | Z59: =Tabla_411972!A55 -> 52 | AA59: =Tabla_411976!A55 -> 52 | AB59: =Tabla_411973!A55 -> 52 | AC59: =Tabla_411977!A55 -> 52 | AD59: DIRECCION DE ADMINISTRACION DE PERSONAL Y ORGANIZACIÓN | AE59: 45463 | AF59: SIN DATOS
A60: 2024 | B60: 45292 | C60: 45382 | D60: Personal de confianza | E60: 110907 | F60: INGENIERA EN SISTEMAS | G60: INGENIERA EN SISTEMAS | H60: DEPARTAMENTO DE PROMOCION LABORAL Y CAPACITACION | I60: FABIOLA | J60: DIAZ | K60: PENAGOS | L60: Mujer | M60: =6762.58*2 -> 13525.16 | N60: PESOS | O60: =5918.24*2 -> 11836.48 | P60: PESOS | Q60: =Tabla_411974!A56 -> 53 | R60: =Tabla_411961!A56 -> 53 | S60: =Tabla_411975!A56 -> 53 | T60: =Tabla_411945!A56 -> 53 | U60: =Tabla_411965!A56 -> 53 | V60: =Tabla_411952!A56 -> 53 | W60: =Tabla_411962!A56 -> 53 | X60: =Tabla_411953!A56 -> 53 | Y60: =Tabla_411954!A56 -> 53 | Z60: =Tabla_411972!A56 -> 53 | AA60: =Tabla_411976!A56 -> 53 | AB60: =Tabla_411973!A56 -> 53 | AC60: =Tabla_411977!A56 -> 53 | AD60: DIRECCION DE ADMINISTRACION DE PERSONAL Y ORGANIZACIÓN | AE60: 45464 | AF60: SIN DATOS
A61: 2024 | B61: 45292 | C61: 45382 | D61: Personal de confianza | E61: 110507 | F61: JEFA DE DEPARTAMENTO | G61: JEFA DE DEPARTAMENTO | H61: DEPARTAMENTO DE MOVIMIENTOS NOMINALES, REMUNERACIONES Y ORGANIZACIÓN | I61: FULVY IVETTE | J61: HERNANDEZ | K61: JIMENEZ | L61: Mujer | M61: =14017.93*2 -> 28035.86 | N61: PESOS | O61: =11427.39*2 -> 22854.78 | P61: PESOS | Q61: =Tabla_411974!A57 -> 54 | R61: =Tabla_411961!A57 -> 54 | S61: =Tabla_411975!A57 -> 54 | T61: =Tabla_411945!A57 -> 54 | U61: =Tabla_411965!A57 -> 54 | V61: =Tabla_411952!A57 -> 54 | W61: =Tabla_411962!A57 -> 54 | X61: =Tabla_411953!A57 -> 54 | Y61: =Tabla_411954!A57 -> 54 | Z61: =Tabla_411972!A57 -> 54 | AA61: =Tabla_411976!A57 -> 54 | AB61: =Tabla_411973!A57 -> 54 | AC61: =Tabla_411977!A57 -> 54 | AD61: DIRECCION DE ADMINISTRACION DE PERSONAL Y ORGANIZACIÓN | AE61: 45465 | AF61: SIN DATOS
A62: 2024 | B62: 45292 | C62: 45382 | D62: Personal de confianza | E62: 110707 | F62: COORDINADORA | G62: COORDINADORA | H62: DEPARTAMENTO DE MOVIMIENTOS NOMINALES, REMUNERACIONES Y ORGANIZACIÓN | I62: KARLA ADRIANA | J62: DE LOS SANTOS | K62: GARCIA | L62: Mujer | M62: =8596.35*2 -> 17192.7 | N62: PESOS | O62: =7333.26*2 -> 14666.52 | P62: PESOS | Q62: =Tabla_411974!A58 -> 55 | R62: =Tabla_411961!A58 -> 55 | S62: =Tabla_411975!A58 -> 55 | T62: =Tabla_411945!A58 -> 55 | U62: =Tabla_411965!A58 -> 55 | V62: =Tabla_411952!A58 -> 55 | W62: =Tabla_411962!A58 -> 55 | X62: =Tabla_411953!A58 -> 55 | Y62: =Tabla_411954!A58 -> 55 | Z62: =Tabla_411972!A58 -> 55 | AA62: =Tabla_411976!A58 -> 55 | AB62: =Tabla_411973!A58 -> 55 | AC62: =Tabla_411977!A58 -> 55 | AD62: DIRECCION DE ADMINISTRACION DE PERSONAL Y ORGANIZACIÓN | AE62: 45466 | AF62: SIN DATOS
A63: 2024 | B63: 45292 | C63: 45382 | D63: Personal de confianza | E63: 110305 | F63: DIRECTOR DE ÁREA | G63: DIRECTOR DE ÁREA | H63: DIRECCION DE FINANZAS Y FIDEICOMISOS | I63: JUAN CARLOS | J63: MARTINEZ | K63: PEREZ | L63: Hombre | M63: =27199.6*2 -> 54399.2 | N63: PESOS | O63: =20934.82*2 -> 41869.64 | P63: PESOS | Q63: =Tabla_411974!A59 -> 56 | R63: =Tabla_411961!A59 -> 56 | S63: =Tabla_411975!A59 -> 56 | T63: =Tabla_411945!A59 -> 56 | U63: =Tabla_411965!A59 -> 56 | V63: =Tabla_411952!A59 -> 56 | W63: =Tabla_411962!A59 -> 56 | X63: =Tabla_411953!A59 -> 56 | Y63: =Tabla_411954!A59 -> 56 | Z63: =Tabla_411972!A59 -> 56 | AA63: =Tabla_411976!A59 -> 56 | AB63: =Tabla_411973!A59 -> 56 | AC63: =Tabla_411977!A59 -> 56 | AD63: DIRECCION DE ADMINISTRACION DE PERSONAL Y ORGANIZACIÓN | AE63: 45467 | AF63: SIN DATOS
A64: 2024 | B64: 45292 | C64: 45382 | D64: Personal de confianza | E64: 110404 | F64: JEFE DE DEPARTAMENTO | G64: JEFE DE DEPARTAMENTO | H64: DIRECCION DE FINANZAS Y FIDEICOMISOS | I64: MARIO ARAON | J64: HERNANDEZ | K64: PEREZ | L64: Hombre | M64: =14017.93*2 -> 28035.86 | N64: PESOS | O64: =11425.44*2 -> 22850.88 | P64: PESOS | Q64: =Tabla_411974!A60 -> 57 | R64: =Tabla_411961!A60 -> 57 | S64: =Tabla_411975!A60 -> 57 | T64: =Tabla_411945!A60 -> 57 | U64: =Tabla_411965!A60 -> 57 | V64: =Tabla_411952!A60 -> 57 | W64: =Tabla_411962!A60 -> 57 | X64: =Tabla_411953!A60 -> 57 | Y64: =Tabla_411954!A60 -> 57 | Z64: =Tabla_411972!A60 -> 57 | AA64: =Tabla_411976!A60 -> 57 | AB64: =Tabla_411973!A60 -> 57 | AC64: =Tabla_411977!A60 -> 57 | AD64: DIRECCION DE ADMINISTRACION DE PERSONAL Y ORGANIZACIÓN | AE64: 45468 | AF64: SIN DATOS
A65: 2024 | B65: 45292 | C65: 45382 | D65: Personal de confianza | E65: 110705 | F65: COORDINADORA | G65: COORDINADORA | H65: DIRECCION DE FINANZAS Y FIDEICOMISOS | I65: LAURA GUADALUPE | J65: MONTES | K65: MORALES | L65: Mujer | M65: =8596.35*2 -> 17192.7 | N65: PESOS | O65: =5993.65*2 -> 11987.3 | P65: PESOS | Q65: =Tabla_411974!A61 -> 58 | R65: =Tabla_411961!A61 -> 58 | S65: =Tabla_411975!A61 -> 58 | T65: =Tabla_411945!A61 -> 58 | U65: =Tabla_411965!A61 -> 58 | V65: =Tabla_411952!A61 -> 58 | W65: =Tabla_411962!A61 -> 58 | X65: =Tabla_411953!A61 -> 58 | Y65: =Tabla_411954!A61 -> 58 | Z65: =Tabla_411972!A61 -> 58 | AA65: =Tabla_411976!A61 -> 58 | AB65: =Tabla_411973!A61 -> 58 | AC65: =Tabla_411977!A61 -> 58 | AD65: DIRECCION DE ADMINISTRACION DE PERSONAL Y ORGANIZACIÓN | AE65: 45469 | AF65: SIN DATOS
A66: 2024 | B66: 45292 | C66: 45382 | D66: Personal de confianza | E66: 110902 | F66: ESPECIALISTA TÉCNICO | G66: ESPECIALISTA TÉCNICO | H66: DIRECCION DE FINANZAS Y FIDEICOMISOS | I66: IRIS GUADALUPE | J66: PEREZ | K66: DOMINGUEZ | L66: Mujer | M66: =5966.45*2 -> 11932.9 | N66: PESOS | O66: =5284.36*2 -> 10568.72 | P66: PESOS | Q66: =Tabla_411974!A62 -> 59 | R66: =Tabla_411961!A62 -> 59 | S66: =Tabla_411975!A62 -> 59 | T66: =Tabla_411945!A62 -> 59 | U66: =Tabla_411965!A62 -> 59 | V66: =Tabla_411952!A62 -> 59 | W66: =Tabla_411962!A62 -> 59 | X66: =Tabla_411953!A62 -> 59 | Y66: =Tabla_411954!A62 -> 59 | Z66: =Tabla_411972!A62 -> 59 | AA66: =Tabla_411976!A62 -> 59 | AB66: =Tabla_411973!A62 -> 59 | AC66: =Tabla_411977!A62 -> 59 | AD66: DIRECCION DE ADMINISTRACION DE PERSONAL Y ORGANIZACIÓN | AE66: 45470 | AF66: SIN DATOS
A67: 2024 | B67: 45292 | C67: 45382 | D67: Personal de confianza | E67: 110305 | F67: DIRECTOR DE ÁREA | G67: DIRECTOR DE ÁREA | H67: DIRECCION DE RECURSOS MATERIALES E INFRAESTRUCTURA | I67: OSCAR | J67: OVANDO | K67: TOBILLA | L67: Hombre | M67: =27199.6*2 -> 54399.2 | N67: PESOS | O67: =20934.82*2 -> 41869.64 | P67: PESOS | Q67: =Tabla_411974!A63 -> 60 | R67: =Tabla_411961!A63 -> 60 | S67: =Tabla_411975!A63 -> 60 | T67: =Tabla_411945!A63 -> 60 | U67: =Tabla_411965!A63 -> 60 | V67: =Tabla_411952!A63 -> 60 | W67: =Tabla_411962!A63 -> 60 | X67: =Tabla_411953!A63 -> 60 | Y67: =Tabla_411954!A63 -> 60 | Z67: =Tabla_411972!A63 -> 60 | AA67: =Tabla_411976!A63 -> 60 | AB67: =Tabla_411973!A63 -> 60 | AC67: =Tabla_411977!A63 -> 60 | AD67: DIRECCION DE ADMINISTRACION DE PERSONAL Y ORGANIZACIÓN | AE67: 45471 | AF67: SIN DATOS
A68: 2024 | B68: 45292 | C68: 45382 | D68: Personal de confianza | E68: 110507 | F68: JEFE DE DEPARTAMENTO | G68: JEFE DE DEPARTAMENTO | H68: DEPARTAMENTO DE RECURSOS MATERIALES Y ALMACEN | I68: CARLOS MARIO | J68: COELLO | K68: RUIZ | L68: Hombre | M68: =14017.93*2 -> 28035.86 | N68: PESOS | O68: =11425.44*2 -> 22850.88 | P68: PESOS | Q68: =Tabla_411974!A64 -> 61 | R68: =Tabla_411961!A64 -> 61 | S68: =Tabla_411975!A64 -> 61 | T68: =Tabla_411945!A64 -> 61 | U68: =Tabla_411965!A64 -> 61 | V68: =Tabla_411952!A64 -> 61 | W68: =Tabla_411962!A64 -> 61 | X68: =Tabla_411953!A64 -> 61 | Y68: =Tabla_411954!A64 -> 61 | Z68: =Tabla_411972!A64 -> 61 | AA68: =Tabla_411976!A64 -> 61 | AB68: =Tabla_411973!A64 -> 61 | AC68: =Tabla_411977!A64 -> 61 | AD68: DIRECCION DE ADMINISTRACION DE PERSONAL Y ORGANIZACIÓN | AE68: 45472 | AF68: SIN DATOS
A69: 2024 | B69: 45292 | C69: 45382 | D69: Personal de confianza | E69: 110404 | F69: JEFE DE DEPARTAMENTO | G69: JEFE DE DEPARTAMENTO | H69: DEPARTAMENTO DE RECURSOS MATERIALES Y ALMACEN | I69: GABRIEL | J69: RODRIGUEZ | K69: ARRAZOLA | L69: Hombre | M69: =14017.93*2 -> 28035.86 | N69: PESOS | O69: =11425.44*2 -> 22850.88 | P69: PESOS | Q69: =Tabla_411974!A65 -> 62 | R69: =Tabla_411961!A65 -> 62 | S69: =Tabla_411975!A65 -> 62 | T69: =Tabla_411945!A65 -> 62 | U69: =Tabla_411965!A65 -> 62 | V69: =Tabla_411952!A65 -> 62 | W69: =Tabla_411962!A65 -> 62 | X69: =Tabla_411953!A65 -> 62 | Y69: =Tabla_411954!A65 -> 62 | Z69: =Tabla_411972!A65 -> 62 | AA69: =Tabla_411976!A65 -> 62 | AB69: =Tabla_411973!A65 -> 62 | AC69: =Tabla_411977!A65 -> 62 | AD69: DIRECCION DE ADMINISTRACION DE PERSONAL Y ORGANIZACIÓN | AE69: 45473 | AF69: SIN DATOS
A70: 2024 | B70: 45292 | C70: 45382 | D70: Personal de confianza | E70: 110902 | F70: TÉCNICO ESPECIALIZADO EN MANTENIMIENTO | G70: TÉCNICO ESPECIALIZADO EN MANTENIMIENTO | H70: DEPARTAMENTO DE RECURSOS MATERIALES Y ALMACEN | I70: RODOLFO DE JESUS | J70: FLORES | K70: SOLIS | L70: Hombre | M70: =4159.95*2 -> 8319.9 | N70: PESOS | O70: =3752.49*2 -> 7504.98 | P70: PESOS | Q70: =Tabla_411974!A66 -> 63 | R70: =Tabla_411961!A66 -> 63 | S70: =Tabla_411975!A66 -> 63 | T70: =Tabla_411945!A66 -> 63 | U70: =Tabla_411965!A66 -> 63 | V70: =Tabla_411952!A66 -> 63 | W70: =Tabla_411962!A66 -> 63 | X70: =Tabla_411953!A66 -> 63 | Y70: =Tabla_411954!A66 -> 63 | Z70: =Tabla_411972!A66 -> 63 | AA70: =Tabla_411976!A66 -> 63 | AB70: =Tabla_411973!A66 -> 63 | AC70: =Tabla_411977!A66 -> 63 | AD70: DIRECCION DE ADMINISTRACION DE PERSONAL Y ORGANIZACIÓN | AE70: 45474 | AF70: SIN DATOS
A71: 2024 | B71: 45292 | C71: 45382 | D71: Personal de confianza | E71: 110507 | F71: JEFE DE DEPARTAMENTO | G71: JEFE DE DEPARTAMENTO | H71: DEPARTAMENTO DE INFRAESTRUCTURA Y SERVICIOS GENERALES | I71: NORBERTO ALEJANDRO | J71: FERNANDEZ | K71: CAMAS | L71: Hombre | M71: =14017.93*2 -> 28035.86 | N71: PESOS | O71: =11427.39*2 -> 22854.78 | P71: PESOS | Q71: =Tabla_411974!A67 -> 64 | R71: =Tabla_411961!A67 -> 64 | S71: =Tabla_411975!A67 -> 64 | T71: =Tabla_411945!A67 -> 64 | U71: =Tabla_411965!A67 -> 64 | V71: =Tabla_411952!A67 -> 64 | W71: =Tabla_411962!A67 -> 64 | X71: =Tabla_411953!A67 -> 64 | Y71: =Tabla_411954!A67 -> 64 | Z71: =Tabla_411972!A67 -> 64 | AA71: =Tabla_411976!A67 -> 64 | AB71: =Tabla_411973!A67 -> 64 | AC71: =Tabla_411977!A67 -> 64 | AD71: DIRECCION DE ADMINISTRACION DE PERSONAL Y ORGANIZACIÓN | AE71: 45475 | AF71: SIN DATOS
A72: 2024 | B72: 45292 | C72: 45382 | D72: Personal de confianza | E72: 110907 | F72: INGENIERO EN SISTEMAS | G72: INGENIERO EN SISTEMAS | H72: DEPARTAMENTO DE INFRAESTRUCTURA Y SERVICIOS GENERALES | I72: CESAR DE JESUS | J72: GARCIA | K72: CASTILLO | L72: Hombre | M72: =6762.58*2 -> 13525.16 | N72: PESOS | O72: =5917.3*2 -> 11834.6 | P72: PESOS | Q72: =Tabla_411974!A68 -> 65 | R72: =Tabla_411961!A68 -> 65 | S72: =Tabla_411975!A68 -> 65 | T72: =Tabla_411945!A68 -> 65 | U72: =Tabla_411965!A68 -> 65 | V72: =Tabla_411952!A68 -> 65 | W72: =Tabla_411962!A68 -> 65 | X72: =Tabla_411953!A68 -> 65 | Y72: =Tabla_411954!A68 -> 65 | Z72: =Tabla_411972!A68 -> 65 | AA72: =Tabla_411976!A68 -> 65 | AB72: =Tabla_411973!A68 -> 65 | AC72: =Tabla_411977!A68 -> 65 | AD72: DIRECCION DE ADMINISTRACION DE PERSONAL Y ORGANIZACIÓN | AE72: 45476 | AF72: SIN DATOS
A73: 2024 | B73: 45292 | C73: 45382 | D73: Personal de confianza | E73: 110907 | F73: TÉCNICO ESPECIALIZADO EN MANTENIMIENTO | G73: TÉCNICO ESPECIALIZADO EN MANTENIMIENTO | H73: DEPARTAMENTO DE INFRAESTRUCTURA Y SERVICIOS GENERALES | I73: JOSE ENRIQUE | J73: VAZQUEZ | K73: PEREZ | L73: Hombre | M73: =4159.95*2 -> 8319.9 | N73: PESOS | O73: =3754.18*2 -> 7508.36 | P73: PESOS | Q73: =Tabla_411974!A69 -> 66 | R73: =Tabla_411961!A69 -> 66 | S73: =Tabla_411975!A69 -> 66 | T73: =Tabla_411945!A69 -> 66 | U73: =Tabla_411965!A69 -> 66 | V73: =Tabla_411952!A69 -> 66 | W73: =Tabla_411962!A69 -> 66 | X73: =Tabla_411953!A69 -> 66 | Y73: =Tabla_411954!A69 -> 66 | Z73: =Tabla_411972!A69 -> 66 | AA73: =Tabla_411976!A69 -> 66 | AB73: =Tabla_411973!A69 -> 66 | AC73: =Tabla_411977!A69 -> 66 | AD73: DIRECCION DE ADMINISTRACION DE PERSONAL Y ORGANIZACIÓN | AE73: 45477 | AF73: SIN DATOS
A74: 2024 | B74: 45292 | C74: 45382 | D74: Personal de confianza | E74: 110305 | F74: DIRECTOR DE ÁREA | G74: DIRECTOR DE ÁREA | H74: DIRECTOR DE PROGRAMACION Y PRESUPUESTO | I74: HECTOR | J74: DE LA CRUZ | K74: SOLIS | L74: Hombre | M74: =27199.6*2 -> 54399.2 | N74: PESOS | O74: =20934.83*2 -> 41869.66 | P74: PESOS | Q74: =Tabla_411974!A70 -> 67 | R74: =Tabla_411961!A70 -> 67 | S74: =Tabla_411975!A70 -> 67 | T74: =Tabla_411945!A70 -> 67 | U74: =Tabla_411965!A70 -> 67 | V74: =Tabla_411952!A70 -> 67 | W74: =Tabla_411962!A70 -> 67 | X74: =Tabla_411953!A70 -> 67 | Y74: =Tabla_411954!A70 -> 67 | Z74: =Tabla_411972!A70 -> 67 | AA74: =Tabla_411976!A70 -> 67 | AB74: =Tabla_411973!A70 -> 67 | AC74: =Tabla_411977!A70 -> 67 | AD74: DIRECCION DE ADMINISTRACION DE PERSONAL Y ORGANIZACIÓN | AE74: 45478 | AF74: SIN DATOS
A75: 2024 | B75: 45292 | C75: 45382 | D75: Personal de confianza | E75: 110404 | F75: JEFA DE DEPARTAMENTO | G75: JEFA DE DEPARTAMENTO | H75: DIRECCION DE PROGRAMACION Y PRESUPUESTO | I75: MARIA OLIVIA | J75: VAZQUEZ | K75: MARTINEZ | L75: Mujer | M75: =9869.15*2 -> 19738.3 | N75: PESOS | O75: =8293.06*2 -> 16586.12 | P75: PESOS | Q75: =Tabla_411974!A71 -> 68 | R75: =Tabla_411961!A71 -> 68 | S75: =Tabla_411975!A71 -> 68 | T75: =Tabla_411945!A71 -> 68 | U75: =Tabla_411965!A71 -> 68 | V75: =Tabla_411952!A71 -> 68 | W75: =Tabla_411962!A71 -> 68 | X75: =Tabla_411953!A71 -> 68 | Y75: =Tabla_411954!A71 -> 68 | Z75: =Tabla_411972!A71 -> 68 | AA75: =Tabla_411976!A71 -> 68 | AB75: =Tabla_411973!A71 -> 68 | AC75: =Tabla_411977!A71 -> 68 | AD75: DIRECCION DE ADMINISTRACION DE PERSONAL Y ORGANIZACIÓN | AE75: 45479 | AF75: SIN DATOS
A76: 2024 | B76: 45292 | C76: 45382 | D76: Personal de confianza | E76: 110705 | F76: INGENIERO EN SISTEMAS | G76: INGENIERO EN SISTEMAS | H76: DIRECCION DE PROGRAMACION Y PRESUPUESTO | I76: GILBERTO DE JESUS | J76: VELAZQUEZ | K76: DIAZ | L76: Hombre | M76: =6762.58*2 -> 13525.16 | N76: PESOS | O76: =5921.31*2 -> 11842.62 | P76: PESOS | Q76: =Tabla_411974!A72 -> 69 | R76: =Tabla_411961!A72 -> 69 | S76: =Tabla_411975!A72 -> 69 | T76: =Tabla_411945!A72 -> 69 | U76: =Tabla_411965!A72 -> 69 | V76: =Tabla_411952!A72 -> 69 | W76: =Tabla_411962!A72 -> 69 | X76: =Tabla_411953!A72 -> 69 | Y76: =Tabla_411954!A72 -> 69 | Z76: =Tabla_411972!A72 -> 69 | AA76: =Tabla_411976!A72 -> 69 | AB76: =Tabla_411973!A72 -> 69 | AC76: =Tabla_411977!A72 -> 69 | AD76: DIRECCION DE ADMINISTRACION DE PERSONAL Y ORGANIZACIÓN | AE76: 45480 | AF76: SIN DATOS
A77: 2024 | B77: 45292 | C77: 45382 | D77: Personal de confianza | E77: 321941 | F77: PROFESOR TITULAR "A" | G77: PROFESOR DE TIEMPO COMPLETO | H77: DIRECCION DE INGENIERIA MECATRONICA | I77: OMAR | J77: ACEVES | K77: SURIANO | L77: Hombre | M77: 29027.2 | N77: PESOS | O77: 23848.32 | P77: PESOS | Q77: =Tabla_411974!A73 -> 70 | R77: =Tabla_411961!A73 -> 70 | S77: =Tabla_411975!A73 -> 70 | T77: =Tabla_411945!A73 -> 70 | U77: =Tabla_411965!A73 -> 70 | V77: =Tabla_411952!A73 -> 70 | W77: =Tabla_411962!A73 -> 70 | X77: =Tabla_411953!A73 -> 70 | Y77: =Tabla_411954!A73 -> 70 | Z77: =Tabla_411972!A73 -> 70 | AA77: =Tabla_411976!A73 -> 70 | AB77: =Tabla_411973!A73 -> 70 | AC77: =Tabla_411977!A73 -> 70 | AD77: DIRECCION DE ADMINISTRACION DE PERSONAL Y ORGANIZACIÓN | AE77: 45481 | AF77: SIN DATOS
A78: 2024 | B78: 45292 | C78: 45382 | D78: Personal de confianza | E78: 321941 | F78: PROFESOR TITULAR "A" | G78: PROFESOR DE TIEMPO COMPLETO | H78: DIRECCION DE INGENIERIA MECATRONICA | I78: ALEXANDER | J78: ARROYO | K78: NUÑEZ | L78: Hombre | M78: 29027.2 | N78: PESOS | O78: 23848.32 | P78: PESOS | Q78: =Tabla_411974!A74 -> 71 | R78: =Tabla_411961!A74 -> 71 | S78: =Tabla_411975!A74 -> 71 | T78: =Tabla_411945!A74 -> 71 | U78: =Tabla_411965!A74 -> 71 | V78: =Tabla_411952!A74 -> 71 | W78: =Tabla_411962!A74 -> 71 | X78: =Tabla_411953!A74 -> 71 | Y78: =Tabla_411954!A74 -> 71 | Z78: =Tabla_411972!A74 -> 71 | AA78: =Tabla_411976!A74 -> 71 | AB78: =Tabla_411973!A74 -> 71 | AC78: =Tabla_411977!A74 -> 71 | AD78: DIRECCION DE ADMINISTRACION DE PERSONAL Y ORGANIZACIÓN | AE78: 45482 | AF78: SIN DATOS
A79: 2024 | B79: 45292 | C79: 45382 | D79: Personal de confianza | E79: 321941 | F79: PROFESOR TITULAR "A" | G79: PROFESOR DE TIEMPO COMPLETO | H79: DIRECCION DE INGENIERIA MECATRONICA | I79: ELIAS | J79: BELTRAN | K79: NATURI | L79: Hombre | M79: 29027.2 | N79: PESOS | O79: 23848.32 | P79: PESOS | Q79: =Tabla_411974!A75 -> 72 | R79: =Tabla_411961!A75 -> 72 | S79: =Tabla_411975!A75 -> 72 | T79: =Tabla_411945!A75 -> 72 | U79: =Tabla_411965!A75 -> 72 | V79: =Tabla_411952!A75 -> 72 | W79: =Tabla_411962!A75 -> 72 | X79: =Tabla_411953!A75 -> 72 | Y79: =Tabla_411954!A75 -> 72 | Z79: =Tabla_411972!A75 -> 72 | AA79: =Tabla_411976!A75 -> 72 | AB79: =Tabla_411973!A75 -> 72 | AC79: =Tabla_411977!A75 -> 72 | AD79: DIRECCION DE ADMINISTRACION DE PERSONAL Y ORGANIZACIÓN | AE79: 45483 | AF79: SIN DATOS
A80: 2024 | B80: 45292 | C80: 45382 | D80: Personal de confianza | E80: 321941 | F80: PROFESOR TITULAR "B" | G80: PROFESOR DE TIEMPO COMPLETO | H80: DIRECCION DE INGENIERIA MECATRONICA | I80: ROBERTO | J80: BERRONES | K80: HERNANDEZ | L80: Hombre | M80: 34277.9 | N80: PESOS | O80: 20613.82 | P80: PESOS | Q80: =Tabla_411974!A76 -> 73 | R80: =Tabla_411961!A76 -> 73 | S80: =Tabla_411975!A76 -> 73 | T80: =Tabla_411945!A76 -> 73 | U80: =Tabla_411965!A76 -> 73 | V80: =Tabla_411952!A76 -> 73 | W80: =Tabla_411962!A76 -> 73 | X80: =Tabla_411953!A76 -> 73 | Y80: =Tabla_411954!A76 -> 73 | Z80: =Tabla_411972!A76 -> 73 | AA80: =Tabla_411976!A76 -> 73 | AB80: =Tabla_411973!A76 -> 73 | AC80: =Tabla_411977!A76 -> 73 | AD80: DIRECCION DE ADMINISTRACION DE PERSONAL Y ORGANIZACIÓN | AE80: 45484 | AF80: SIN DATOS
A81: 2024 | B81: 45292 | C81: 45382 | D81: Personal de confianza | E81: 321941 | F81: PROFESOR TITULAR "A" | G81: PROFESOR DE TIEMPO COMPLETO | H81: DIRECCION DE INGENIERIA MECATRONICA | I81: SANTIAGO ERWIN | J81: BEUTELSPACHER | K81: SANTIAGO | L81: Hombre | M81: 29027.2 | N81: PESOS | O81: 23848.32 | P81: PESOS | Q81: =Tabla_411974!A77 -> 74 | R81: =Tabla_411961!A77 -> 74 | S81: =Tabla_411975!A77 -> 74 | T81: =Tabla_411945!A77 -> 74 | U81: =Tabla_411965!A77 -> 74 | V81: =Tabla_411952!A77 -> 74 | W81: =Tabla_411962!A77 -> 74 | X81: =Tabla_411953!A77 -> 74 | Y81: =Tabla_411954!A77 -> 74 | Z81: =Tabla_411972!A77 -> 74 | AA81: =Tabla_411976!A77 -> 74 | AB81: =Tabla_411973!A77 -> 74 | AC81: =Tabla_411977!A77 -> 74 | AD81: DIRECCION DE ADMINISTRACION DE PERSONAL Y ORGANIZACIÓN | AE81: 45485 | AF81: SIN DATOS
A82: 2024 | B82: 45292 | C82: 45382 | D82: Personal de confianza | E82: 321941 | F82: PROFESORA TITULAR "A" | G82: PROFESORA DE TIEMPO COMPLETO | H82: DIRECCION DE INGENIERIA MECATRONICA | I82: CRISTINA | J82: BLANCO | K82: GONZALEZ | L82: Mujer | M82: 34277.9 | N82: PESOS | O82: 27787.62 | P82: PESOS | Q82: =Tabla_411974!A78 -> 75 | R82: =Tabla_411961!A78 -> 75 | S82: =Tabla_411975!A78 -> 75 | T82: =Tabla_411945!A78 -> 75 | U82: =Tabla_411965!A78 -> 75 | V82: =Tabla_411952!A78 -> 75 | W82: =Tabla_411962!A78 -> 75 | X82: =Tabla_411953!A78 -> 75 | Y82: =Tabla_411954!A78 -> 75 | Z82: =Tabla_411972!A78 -> 75 | AA82: =Tabla_411976!A78 -> 75 | AB82: =Tabla_411973!A78 -> 75 | AC82: =Tabla_411977!A78 -> 75 | AD82: DIRECCION DE ADMINISTRACION DE PERSONAL Y ORGANIZACIÓN | AE82: 45486 | AF82: SIN DATOS
A83: 2024 | B83: 45292 | C83: 45382 | D83: Personal de confianza | E83: 321941 | F83: PROFESOR TITULAR "A" | G83: PROFESOR DE TIEMPO COMPLETO | H83: DIRECCION DE INGENIERIA MECATRONICA | I83: VICENTE | J83: CAPISTRAN | K83: GOMEZ | L83: Hombre | M83: 29027.2 | N83: PESOS | O83: 20271.08 | P83: PESOS | Q83: =Tabla_411974!A79 -> 76 | R83: =Tabla_411961!A79 -> 76 | S83: =Tabla_411975!A79 -> 76 | T83: =Tabla_411945!A79 -> 76 | U83: =Tabla_411965!A79 -> 76 | V83: =Tabla_411952!A79 -> 76 | W83: =Tabla_411962!A79 -> 76 | X83: =Tabla_411953!A79 -> 76 | Y83: =Tabla_411954!A79 -> 76 | Z83: =Tabla_411972!A79 -> 76 | AA83: =Tabla_411976!A79 -> 76 | AB83: =Tabla_411973!A79 -> 76 | AC83: =Tabla_411977!A79 -> 76 | AD83: DIRECCION DE ADMINISTRACION DE PERSONAL Y ORGANIZACIÓN | AE83: 45487 | AF83: SIN DATOS
A84: 2024 | B84: 45292 | C84: 45382 | D84: Personal de confianza | E84: 321941 | F84: PROFESORA TITULAR "A" | G84: PROFESORA DE TIEMPO COMPLETO | H84: DIRECCION DE INGENIERIA MECATRONICA | I84: ANA TERESA | J84: FINOL | K84: GONZALEZ | L84: Mujer | M84: 29027.2 | N84: PESOS | O84: 23848.32 | P84: PESOS | Q84: =Tabla_411974!A80 -> 77 | R84: =Tabla_411961!A80 -> 77 | S84: =Tabla_411975!A80 -> 77 | T84: =Tabla_411945!A80 -> 77 | U84: =Tabla_411965!A80 -> 77 | V84: =Tabla_411952!A80 -> 77 | W84: =Tabla_411962!A80 -> 77 | X84: =Tabla_411953!A80 -> 77 | Y84: =Tabla_411954!A80 -> 77 | Z84: =Tabla_411972!A80 -> 77 | AA84: =Tabla_411976!A80 -> 77 | AB84: =Tabla_411973!A80 -> 77 | AC84: =Tabla_411977!A80 -> 77 | AD84: DIRECCION DE ADMINISTRACION DE PERSONAL Y ORGANIZACIÓN | AE84: 45488 | AF84: SIN DATOS
A85: 2024 | B85: 45292 | C85: 45382 | D85: Personal de confianza | E85: 321941 | F85: PROFESOR TITULAR "A" | G85: PROFESOR DE TIEMPO COMPLETO | H85: DIRECCION DE INGENIERIA MECATRONICA | I85: JUAN PABLO | J85: CASTILLO | K85: GONZALEZ | L85: Hombre | M85: 29027.2 | N85: PESOS | O85: 23848.32 | P85: PESOS | Q85: =Tabla_411974!A81 -> 78 | R85: =Tabla_411961!A81 -> 78 | S85: =Tabla_411975!A81 -> 78 | T85: =Tabla_411945!A81 -> 78 | U85: =Tabla_411965!A81 -> 78 | V85: =Tabla_411952!A81 -> 78 | W85: =Tabla_411962!A81 -> 78 | X85: =Tabla_411953!A81 -> 78 | Y85: =Tabla_411954!A81 -> 78 | Z85: =Tabla_411972!A81 -> 78 | AA85: =Tabla_411976!A81 -> 78 | AB85: =Tabla_411973!A81 -> 78 | AC85: =Tabla_411977!A81 -> 78 | AD85: DIRECCION DE ADMINISTRACION DE PERSONAL Y ORGANIZACIÓN | AE85: 45489 | AF85: SIN DATOS
A86: 2024 | B86: 45292 | C86: 45382 | D86: Personal de confianza | E86: 321941 | F86: PROFESORA TITULAR "A" | G86: PROFESORA DE TIEMPO COMPLETO | H86: DIRECCION DE INGENIERIA MECATRONICA | I86: ANA LAURA | J86: CAZARIN | K86: VAZQUEZ | L86: Mujer | M86: 29027.2 | N86: PESOS | O86: 23848.32 | P86: PESOS | Q86: =Tabla_411974!A82 -> 79 | R86: =Tabla_411961!A82 -> 79 | S86: =Tabla_411975!A82 -> 79 | T86: =Tabla_411945!A82 -> 79 | U86: =Tabla_411965!A82 -> 79 | V86: =Tabla_411952!A82 -> 79 | W86: =Tabla_411962!A82 -> 79 | X86: =Tabla_411953!A82 -> 79 | Y86: =Tabla_411954!A82 -> 79 | Z86: =Tabla_411972!A82 -> 79 | AA86: =Tabla_411976!A82 -> 79 | AB86: =Tabla_411973!A82 -> 79 | AC86: =Tabla_411977!A82 -> 79 | AD86: DIRECCION DE ADMINISTRACION DE PERSONAL Y ORGANIZACIÓN | AE86: 45490 | AF86: SIN DATOS
A87: 2024 | B87: 45292 | C87: 45382 | D87: Personal de confianza | E87: 321941 | F87: PROFESOR TITULAR "B" | G87: PROFESOR DE TIEMPO COMPLETO | H87: DIRECCION DE INGENIERIA MECATRONICA | I87: JOSUE | J87: CHANONA | K87: SOTO | L87: Hombre | M87: 34277.9 | N87: PESOS | O87: 27787.62 | P87: PESOS | Q87: =Tabla_411974!A83 -> 80 | R87: =Tabla_411961!A83 -> 80 | S87: =Tabla_411975!A83 -> 80 | T87: =Tabla_411945!A83 -> 80 | U87: =Tabla_411965!A83 -> 80 | V87: =Tabla_411952!A83 -> 80 | W87: =Tabla_411962!A83 -> 80 | X87: =Tabla_411953!A83 -> 80 | Y87: =Tabla_411954!A83 -> 80 | Z87: =Tabla_411972!A83 -> 80 | AA87: =Tabla_411976!A83 -> 80 | AB87: =Tabla_411973!A83 -> 80 | AC87: =Tabla_411977!A83 -> 80 | AD87: DIRECCION DE ADMINISTRACION DE PERSONAL Y ORGANIZACIÓN | AE87: 45491 | AF87: SIN DATOS
A88: 2024 | B88: 45292 | C88: 45382 | D88: Personal de confianza | E88: 321941 | F88: PROFESOR TITULAR "A" | G88: PROFESOR DE TIEMPO COMPLETO | H88: DIRECCION DE INGENIERIA MECATRONICA | I88: EGLAIN | J88: CONSTANTINO | K88: CORTES | L88: Hombre | M88: 29027.2 | N88: PESOS | O88: 15197.14 | P88: PESOS | Q88: =Tabla_411974!A84 -> 81 | R88: =Tabla_411961!A84 -> 81 | S88: =Tabla_411975!A84 -> 81 | T88: =Tabla_411945!A84 -> 81 | U88: =Tabla_411965!A84 -> 81 | V88: =Tabla_411952!A84 -> 81 | W88: =Tabla_411962!A84 -> 81 | X88: =Tabla_411953!A84 -> 81 | Y88: =Tabla_411954!A84 -> 81 | Z88: =Tabla_411972!A84 -> 81 | AA88: =Tabla_411976!A84 -> 81 | AB88: =Tabla_411973!A84 -> 81 | AC88: =Tabla_411977!A84 -> 81 | AD88: DIRECCION DE ADMINISTRACION DE PERSONAL Y ORGANIZACIÓN | AE88: 45492 | AF88: SIN DATOS
... A134: 2024 | B134: 45292 | C134: 45382 | D134: Personal de confianza | E134: 321941 | F134: PROFESOR TITULAR "A" | G134: PROFESOR DE TIEMPO COMPLETO | H134: DIRECCION DE LICENCIATURA PYMES | I134: ALEJANDRO | J134: ZUÑIGA | K134: ROSALES | L134: Hombre | M134: 29027.2 | N134: PESOS | O134: 23848.32 | P134: PESOS | Q134: =Tabla_411974!A130 -> 127 | R134: =Tabla_411961!A130 -> 127 | S134: =Tabla_411975!A130 -> 127 | T134: =Tabla_411945!A130 -> 127 | U134: =Tabla_411965!A130 -> 127 | V134: =Tabla_411952!A130 -> 127 | W134: =Tabla_411962!A130 -> 127 | X134: =Tabla_411953!A130 -> 127 | Y134: =Tabla_411954!A130 -> 127 | Z134: =Tabla_411972!A130 -> 127 | AA134: =Tabla_411976!A130 -> 127 | AB134: =Tabla_411973!A130 -> 127 | AC134: =Tabla_411977!A130 -> 127 | AD134: DIRECCION DE ADMINISTRACION DE PERSONAL Y ORGANIZACIÓN | AE134: 45415 | AF134: SIN DATOS

Sheet Hidden_1
A1: Funcionaria (o)
A2: Persona servidora pública
A3: Persona servidora pública eventual
A4: Integrante
A5: Empleada (o)
A6: Representante popular
A7: Miembro del poder judicial
A8: Miembro de órgano autónomo
A9: Personal de confianza
A10: Persona prestadora de servicios profesionales
A11: Otro

Sheet Hidden_2
A1: Hombre
A2: Mujer

Sheet Tabla_411974
B1: 2 | C1: 6 | D1: 6 | E1: 1 | F1: 1
B2: 53352 | C2: 53353 | D2: 53354 | E2: 53355 | F2: 53356
A3: ID | B3: Denominación de las percepciones adicionales en dinero | C3: Monto bruto de las percepciones adicionales en dinero | D3: Monto neto de las percepciones adicionales en dinero | E3: Tipo de moneda de las percepciones adicionales en dinero | F3: Periodicidad de las percepciones adicionales en dinero
A4: 1 | B4: NO EXISTEN PERCEPCIONES ADICIONALES | C4: 0 | D4: 0 | E4: NO EXISTEN PERCEPCIONES ADICIONALES | F4: NO EXISTEN PERCEPCIONES ADICIONALES
A5: 2 | B5: NO EXISTEN PERCEPCIONES ADICIONALES | C5: 0 | D5: 0 | E5: NO EXISTEN PERCEPCIONES ADICIONALES | F5: NO EXISTEN PERCEPCIONES ADICIONALES
A6: 3 | B6: NO EXISTEN PERCEPCIONES ADICIONALES | C6: 0 | D6: 0 | E6: NO EXISTEN PERCEPCIONES ADICIONALES | F6: NO EXISTEN PERCEPCIONES ADICIONALES
A7: 4 | B7: NO EXISTEN PERCEPCIONES ADICIONALES | C7: 0 | D7: 0 | E7: NO EXISTEN PERCEPCIONES ADICIONALES | F7: NO EXISTEN PERCEPCIONES ADICIONALES
A8: 5 | B8: NO EXISTEN PERCEPCIONES ADICIONALES | C8: 0 | D8: 0 | E8: NO EXISTEN PERCEPCIONES ADICIONALES | F8: NO EXISTEN PERCEPCIONES ADICIONALES
A9: 6 | B9: NO EXISTEN PERCEPCIONES ADICIONALES | C9: 0 | D9: 0 | E9: NO EXISTEN PERCEPCIONES ADICIONALES | F9: NO EXISTEN PERCEPCIONES ADICIONALES
A10: 7 | B10: NO EXISTEN PERCEPCIONES ADICIONALES | C10: 0 | D10: 0 | E10: NO EXISTEN PERCEPCIONES ADICIONALES | F10: NO EXISTEN PERCEPCIONES ADICIONALES
A11: 8 | B11: NO EXISTEN PERCEPCIONES ADICIONALES | C11: 0 | D11: 0 | E11: NO EXISTEN PERCEPCIONES ADICIONALES | F11: NO EXISTEN PERCEPCIONES ADICIONALES
A12: 9 | B12: NO EXISTEN PERCEPCIONES ADICIONALES | C12: 0 | D12: 0 | E12: NO EXISTEN PERCEPCIONES ADICIONALES | F12: NO EXISTEN PERCEPCIONES ADICIONALES
A13: 10 | B13: NO EXISTEN PERCEPCIONES ADICIONALES | C13: 0 | D13: 0 | E13: NO EXISTEN PERCEPCIONES ADICIONALES | F13: NO EXISTEN PERCEPCIONES ADICIONALES
A14: 11 | B14: NO EXISTEN PERCEPCIONES ADICIONALES | C14: 0 | D14: 0 | E14: NO EXISTEN PERCEPCIONES ADICIONALES | F14: NO EXISTEN PERCEPCIONES ADICIONALES
A15: 12 | B15: NO EXISTEN PERCEPCIONES ADICIONALES | C15: 0 | D15: 0 | E15: NO EXISTEN PERCEPCIONES ADICIONALES | F15: NO EXISTEN PERCEPCIONES ADICIONALES
... A130: 127 | B130: NO EXISTEN PERCEPCIONES ADICIONALES | C130: 0 | D130: 0 | E130: NO EXISTEN PERCEPCIONES ADICIONALES | F130: NO EXISTEN PERCEPCIONES ADICIONALES

Sheet Tabla_411961
B1: 2 | C1: 1
B2: 53330 | C2: 53331
A3: ID | B3: Descripción de las percepciones adicionales en especie | C3: Periodicidad de las percepciones adicionales en especie
A4: 1 | B4: NO EXISTEN PERCECIONES EN ESPECIE | C4: NO EXISTEN PERCECIONES EN ESPECIE
A5: 2 | B5: NO EXISTEN PERCECIONES EN ESPECIE | C5: NO EXISTEN PERCECIONES EN ESPECIE
A6: 3 | B6: NO EXISTEN PERCECIONES EN ESPECIE | C6: NO EXISTEN PERCECIONES EN ESPECIE
A7: 4 | B7: NO EXISTEN PERCECIONES EN ESPECIE | C7: NO EXISTEN PERCECIONES EN ESPECIE
A8: 5 | B8: NO EXISTEN PERCECIONES EN ESPECIE | C8: NO EXISTEN PERCECIONES EN ESPECIE
A9: 6 | B9: NO EXISTEN PERCECIONES EN ESPECIE | C9: NO EXISTEN PERCECIONES EN ESPECIE
A10: 7 | B10: NO EXISTEN PERCECIONES EN ESPECIE | C10: NO EXISTEN PERCECIONES EN ESPECIE
A11: 8 | B11: NO EXISTEN PERCECIONES EN ESPECIE | C11: NO EXISTEN PERCECIONES EN ESPECIE
A12: 9 | B12: NO EXISTEN PERCECIONES EN ESPECIE | C12: NO EXISTEN PERCECIONES EN ESPECIE
A13: 10 | B13: NO EXISTEN PERCECIONES EN ESPECIE | C13: NO EXISTEN PERCECIONES EN ESPECIE
A14: 11 | B14: NO EXISTEN PERCECIONES EN ESPECIE | C14: NO EXISTEN PERCECIONES EN ESPECIE
A15: 12 | B15: NO EXISTEN PERCECIONES EN ESPECIE | C15: NO EXISTEN PERCECIONES EN ESPECIE
... A130: 127 | B130: NO EXISTEN PERCECIONES EN ESPECIE | C130: NO EXISTEN PERCECIONES EN ESPECIE

Sheet Tabla_411975
B1: 2 | C1: 6 | D1: 6 | E1: 1 | F1: 1
B2: 53359 | C2: 53360 | D2: 53361 | E2: 53357 | F2: 53358
A3: ID | B3: Denominación de los ingresos | C3: Monto bruto de los ingresos | D3: Monto neto de los ingresos | E3: Tipo de moneda de los ingresos | F3: Periodicidad de los ingresos
A4: 1 | B4: NO EXISTEN INGRESOS | C4: 0 | D4: 0 | E4: NO EXISTEN INGRESOS | F4: NO EXISTEN INGRESOS
A5: 2 | B5: NO EXISTEN INGRESOS | C5: 0 | D5: 0 | E5: NO EXISTEN INGRESOS | F5: NO EXISTEN INGRESOS
A6: 3 | B6: NO EXISTEN INGRESOS | C6: 0 | D6: 0 | E6: NO EXISTEN INGRESOS | F6: NO EXISTEN INGRESOS
A7: 4 | B7: NO EXISTEN INGRESOS | C7: 0 | D7: 0 | E7: NO EXISTEN INGRESOS | F7: NO EXISTEN INGRESOS
A8: 5 | B8: NO EXISTEN INGRESOS | C8: 0 | D8: 0 | E8: NO EXISTEN INGRESOS | F8: NO EXISTEN INGRESOS
A9: 6 | B9: NO EXISTEN INGRESOS | C9: 0 | D9: 0 | E9: NO EXISTEN INGRESOS | F9: NO EXISTEN INGRESOS
A10: 7 | B10: NO EXISTEN INGRESOS | C10: 0 | D10: 0 | E10: NO EXISTEN INGRESOS | F10: NO EXISTEN INGRESOS
A11: 8 | B11: NO EXISTEN INGRESOS | C11: 0 | D11: 0 | E11: NO EXISTEN INGRESOS | F11: NO EXISTEN INGRESOS
A12: 9 | B12: NO EXISTEN INGRESOS | C12: 0 | D12: 0 | E12: NO EXISTEN INGRESOS | F12: NO EXISTEN INGRESOS
A13: 10 | B13: NO EXISTEN INGRESOS | C13: 0 | D13: 0 | E13: NO EXISTEN INGRESOS | F13: NO EXISTEN INGRESOS
A14: 11 | B14: NO EXISTEN INGRESOS | C14: 0 | D14: 0 | E14: NO EXISTEN INGRESOS | F14: NO EXISTEN INGRESOS
A15: 12 | B15: NO EXISTEN INGRESOS | C15: 0 | D15: 0 | E15: NO EXISTEN INGRESOS | F15: NO EXISTEN INGRESOS
... A130: 127 | B130: NO EXISTEN INGRESOS | C130: 0 | D130: 0 | E130: NO EXISTEN INGRESOS | F130: NO EXISTEN INGRESOS

Sheet Tabla_411945
B1: 1 | C1: 6 | D1: 6 | E1: 1 | F1: 1
B2: 53310 | C2: 53311 | D2: 53312 | E2: 53313 | F2: 53314
A3: ID | B3: Denominación de los sistemas de compensación | C3: Monto bruto de los sistemas de compensación | D3: Monto neto de los sistemas de compensación | E3: Tipo de moneda de los sistemas de compensación | F3: Periodicidad de los sistemas de compensación
A4: 1 | B4: NO EXISTEN SISTEMAS DE COMPENSACION | C4: 0 | D4: 0 | E4: NO EXISTEN SISTEMAS DE COMPENSACION | F4: NO EXISTEN SISTEMAS DE COMPENSACION
A5: 2 | B5: NO EXISTEN SISTEMAS DE COMPENSACION | C5: 0 | D5: 0 | E5: NO EXISTEN SISTEMAS DE COMPENSACION | F5: NO EXISTEN SISTEMAS DE COMPENSACION
A6: 3 | B6: NO EXISTEN SISTEMAS DE COMPENSACION | C6: 0 | D6: 0 | E6: NO EXISTEN SISTEMAS DE COMPENSACION | F6: NO EXISTEN SISTEMAS DE COMPENSACION
A7: 4 | B7: NO EXISTEN SISTEMAS DE COMPENSACION | C7: 0 | D7: 0 | E7: NO EXISTEN SISTEMAS DE COMPENSACION | F7: NO EXISTEN SISTEMAS DE COMPENSACION
A8: 5 | B8: NO EXISTEN SISTEMAS DE COMPENSACION | C8: 0 | D8: 0 | E8: NO EXISTEN SISTEMAS DE COMPENSACION | F8: NO EXISTEN SISTEMAS DE COMPENSACION
A9: 6 | B9: NO EXISTEN SISTEMAS DE COMPENSACION | C9: 0 | D9: 0 | E9: NO EXISTEN SISTEMAS DE COMPENSACION | F9: NO EXISTEN SISTEMAS DE COMPENSACION
A10: 7 | B10: NO EXISTEN SISTEMAS DE COMPENSACION | C10: 0 | D10: 0 | E10: NO EXISTEN SISTEMAS DE COMPENSACION | F10: NO EXISTEN SISTEMAS DE COMPENSACION
A11: 8 | B11: NO EXISTEN SISTEMAS DE COMPENSACION | C11: 0 | D11: 0 | E11: NO EXISTEN SISTEMAS DE COMPENSACION | F11: NO EXISTEN SISTEMAS DE COMPENSACION
A12: 9 | B12: NO EXISTEN SISTEMAS DE COMPENSACION | C12: 0 | D12: 0 | E12: NO EXISTEN SISTEMAS DE COMPENSACION | F12: NO EXISTEN SISTEMAS DE COMPENSACION
A13: 10 | B13: NO EXISTEN SISTEMAS DE COMPENSACION | C13: 0 | D13: 0 | E13: NO EXISTEN SISTEMAS DE COMPENSACION | F13: NO EXISTEN SISTEMAS DE COMPENSACION
A14: 11 | B14: NO EXISTEN SISTEMAS DE COMPENSACION | C14: 0 | D14: 0 | E14: NO EXISTEN SISTEMAS DE COMPENSACION | F14: NO EXISTEN SISTEMAS DE COMPENSACION
A15: 12 | B15: NO EXISTEN SISTEMAS DE COMPENSACION | C15: 0 | D15: 0 | E15: NO EXISTEN SISTEMAS DE COMPENSACION | F15: NO EXISTEN SISTEMAS DE COMPENSACION
... A130: 127 | B130: NO EXISTEN SISTEMAS DE COMPENSACION | C130: 0 | D130: 0 | E130: NO EXISTEN SISTEMAS DE COMPENSACION | F130: NO EXISTEN SISTEMAS DE COMPENSACION

Sheet Tabla_411965
B1: 1 | C1: 6 | D1: 6 | E1: 1 | F1: 1
B2: 53337 | C2: 53338 | D2: 53339 | E2: 53340 | F2: 53341
A3: ID | B3: Denominación de las gratificaciones | C3: Monto bruto de las gratificaciones | D3: Monto neto de las gratificaciones | E3: Tipo de moneda de las gratificaciones | F3: Periodicidad de las gratificaciones
A4: 1 | B4: NO EXISTEN GRATIFICACIONES | C4: 0 | D4: 0 | E4: NO EXISTEN GRATIFICACIONES | F4: NO EXISTEN GRATIFICACIONES
A5: 2 | B5: NO EXISTEN GRATIFICACIONES | C5: 0 | D5: 0 | E5: NO EXISTEN GRATIFICACIONES | F5: NO EXISTEN GRATIFICACIONES
A6: 3 | B6: NO EXISTEN GRATIFICACIONES | C6: 0 | D6: 0 | E6: NO EXISTEN GRATIFICACIONES | F6: NO EXISTEN GRATIFICACIONES
A7: 4 | B7: NO EXISTEN GRATIFICACIONES | C7: 0 | D7: 0 | E7: NO EXISTEN GRATIFICACIONES | F7: NO EXISTEN GRATIFICACIONES
A8: 5 | B8: NO EXISTEN GRATIFICACIONES | C8: 0 | D8: 0 | E8: NO EXISTEN GRATIFICACIONES | F8: NO EXISTEN GRATIFICACIONES
A9: 6 | B9: NO EXISTEN GRATIFICACIONES | C9: 0 | D9: 0 | E9: NO EXISTEN GRATIFICACIONES | F9: NO EXISTEN GRATIFICACIONES
A10: 7 | B10: NO EXISTEN GRATIFICACIONES | C10: 0 | D10: 0 | E10: NO EXISTEN GRATIFICACIONES | F10: NO EXISTEN GRATIFICACIONES
A11: 8 | B11: NO EXISTEN GRATIFICACIONES | C11: 0 | D11: 0 | E11: NO EXISTEN GRATIFICACIONES | F11: NO EXISTEN GRATIFICACIONES
A12: 9 | B12: NO EXISTEN GRATIFICACIONES | C12: 0 | D12: 0 | E12: NO EXISTEN GRATIFICACIONES | F12: NO EXISTEN GRATIFICACIONES
A13: 10 | B13: NO EXISTEN GRATIFICACIONES | C13: 0 | D13: 0 | E13: NO EXISTEN GRATIFICACIONES | F13: NO EXISTEN GRATIFICACIONES
A14: 11 | B14: NO EXISTEN GRATIFICACIONES | C14: 0 | D14: 0 | E14: NO EXISTEN GRATIFICACIONES | F14: NO EXISTEN GRATIFICACIONES
A15: 12 | B15: NO EXISTEN GRATIFICACIONES | C15: 0 | D15: 0 | E15: NO EXISTEN GRATIFICACIONES | F15: NO EXISTEN GRATIFICACIONES
... A130: 127 | B130: NO EXISTEN GRATIFICACIONES | C130: 0 | D130: 0 | E130: NO EXISTEN GRATIFICACIONES | F130: NO EXISTEN GRATIFICACIONES

Sheet Tabla_411952
B1: 1 | C1: 6 | D1: 6 | E1: 1 | F1: 1
B2: 53315 | C2: 53316 | D2: 53317 | E2: 53318 | F2: 53319
A3: ID | B3: Denominación de las primas | C3: Monto bruto de las primas | D3: Monto neto de las primas | E3: Tipo de moneda de las primas | F3: Periodicidad de las primas
A4: 1 | B4: NO EXISTEN PRIMAS | C4: 0 | D4: 0 | E4: NO EXISTEN PRIMAS | F4: NO EXISTEN PRIMAS
A5: 2 | B5: NO EXISTEN PRIMAS | C5: 0 | D5: 0 | E5: NO EXISTEN PRIMAS | F5: NO EXISTEN PRIMAS
A6: 3 | B6: NO EXISTEN PRIMAS | C6: 0 | D6: 0 | E6: NO EXISTEN PRIMAS | F6: NO EXISTEN PRIMAS
A7: 4 | B7: NO EXISTEN PRIMAS | C7: 0 | D7: 0 | E7: NO EXISTEN PRIMAS | F7: NO EXISTEN PRIMAS
A8: 5 | B8: NO EXISTEN PRIMAS | C8: 0 | D8: 0 | E8: NO EXISTEN PRIMAS | F8: NO EXISTEN PRIMAS
A9: 6 | B9: NO EXISTEN PRIMAS | C9: 0 | D9: 0 | E9: NO EXISTEN PRIMAS | F9: NO EXISTEN PRIMAS
A10: 7 | B10: NO EXISTEN PRIMAS | C10: 0 | D10: 0 | E10: NO EXISTEN PRIMAS | F10: NO EXISTEN PRIMAS
A11: 8 | B11: NO EXISTEN PRIMAS | C11: 0 | D11: 0 | E11: NO EXISTEN PRIMAS | F11: NO EXISTEN PRIMAS
A12: 9 | B12: NO EXISTEN PRIMAS | C12: 0 | D12: 0 | E12: NO EXISTEN PRIMAS | F12: NO EXISTEN PRIMAS
A13: 10 | B13: NO EXISTEN PRIMAS | C13: 0 | D13: 0 | E13: NO EXISTEN PRIMAS | F13: NO EXISTEN PRIMAS
A14: 11 | B14: NO EXISTEN PRIMAS | C14: 0 | D14: 0 | E14: NO EXISTEN PRIMAS | F14: NO EXISTEN PRIMAS
A15: 12 | B15: NO EXISTEN PRIMAS | C15: 0 | D15: 0 | E15: NO EXISTEN PRIMAS | F15: NO EXISTEN PRIMAS
... A130: 127 | B130: NO EXISTEN PRIMAS | C130: 0 | D130: 0 | E130: NO EXISTEN PRIMAS | F130: NO EXISTEN PRIMAS

Sheet Tabla_411962
B1: 1 | C1: 6 | D1: 6 | E1: 1 | F1: 1
B2: 53332 | C2: 53333 | D2: 53334 | E2: 53335 | F2: 53336
A3: ID | B3: Denominación de las comisiones | C3: Monto bruto de las comisiones | D3: Monto neto de las comisiones | E3: Tipo de moneda de las comisiones | F3: Periodicidad de las comisiones
A4: 1 | B4: NO EXISTEN COMISIONES | C4: 0 | D4: 0 | E4: NO EXISTEN COMISIONES | F4: NO EXISTEN COMISIONES
A5: 2 | B5: NO EXISTEN COMISIONES | C5: 0 | D5: 0 | E5: NO EXISTEN COMISIONES | F5: NO EXISTEN COMISIONES
A6: 3 | B6: NO EXISTEN COMISIONES | C6: 0 | D6: 0 | E6: NO EXISTEN COMISIONES | F6: NO EXISTEN COMISIONES
A7: 4 | B7: NO EXISTEN COMISIONES | C7: 0 | D7: 0 | E7: NO EXISTEN COMISIONES | F7: NO EXISTEN COMISIONES
A8: 5 | B8: NO EXISTEN COMISIONES | C8: 0 | D8: 0 | E8: NO EXISTEN COMISIONES | F8: NO EXISTEN COMISIONES
A9: 6 | B9: NO EXISTEN COMISIONES | C9: 0 | D9: 0 | E9: NO EXISTEN COMISIONES | F9: NO EXISTEN COMISIONES
A10: 7 | B10: NO EXISTEN COMISIONES | C10: 0 | D10: 0 | E10: NO EXISTEN COMISIONES | F10: NO EXISTEN COMISIONES
A11: 8 | B11: NO EXISTEN COMISIONES | C11: 0 | D11: 0 | E11: NO EXISTEN COMISIONES | F11: NO EXISTEN COMISIONES
A12: 9 | B12: NO EXISTEN COMISIONES | C12: 0 | D12: 0 | E12: NO EXISTEN COMISIONES | F12: NO EXISTEN COMISIONES
A13: 10 | B13: NO EXISTEN COMISIONES | C13: 0 | D13: 0 | E13: NO EXISTEN COMISIONES | F13: NO EXISTEN COMISIONES
A14: 11 | B14: NO EXISTEN COMISIONES | C14: 0 | D14: 0 | E14: NO EXISTEN COMISIONES | F14: NO EXISTEN COMISIONES
A15: 12 | B15: NO EXISTEN COMISIONES | C15: 0 | D15: 0 | E15: NO EXISTEN COMISIONES | F15: NO EXISTEN COMISIONES
... A130: 127 | B130: NO EXISTEN COMISIONES | C130: 0 | D130: 0 | E130: NO EXISTEN COMISIONES | F130: NO EXISTEN COMISIONES

Sheet Tabla_411953
B1: 1 | C1: 6 | D1: 6 | E1: 1 | F1: 1
B2: 53320 | C2: 53321 | D2: 53322 | E2: 53323 | F2: 53324
A3: ID | B3: Denominación de las dietas | C3: Monto bruto de las dietas | D3: Monto neto de las dietas | E3: Tipo de moneda de las dietas | F3: Periodicidad de las dietas
A4: 1 | B4: NO EXISTEN DIETAS | C4: 0 | D4: 0 | E4: NO EXISTEN DIETAS | F4: NO EXISTEN DIETAS
A5: 2 | B5: NO EXISTEN DIETAS | C5: 0 | D5: 0 | E5: NO EXISTEN DIETAS | F5: NO EXISTEN DIETAS
A6: 3 | B6: NO EXISTEN DIETAS | C6: 0 | D6: 0 | E6: NO EXISTEN DIETAS | F6: NO EXISTEN DIETAS
A7: 4 | B7: NO EXISTEN DIETAS | C7: 0 | D7: 0 | E7: NO EXISTEN DIETAS | F7: NO EXISTEN DIETAS
A8: 5 | B8: NO EXISTEN DIETAS | C8: 0 | D8: 0 | E8: NO EXISTEN DIETAS | F8: NO EXISTEN DIETAS
A9: 6 | B9: NO EXISTEN DIETAS | C9: 0 | D9: 0 | E9: NO EXISTEN DIETAS | F9: NO EXISTEN DIETAS
A10: 7 | B10: NO EXISTEN DIETAS | C10: 0 | D10: 0 | E10: NO EXISTEN DIETAS | F10: NO EXISTEN DIETAS
A11: 8 | B11: NO EXISTEN DIETAS | C11: 0 | D11: 0 | E11: NO EXISTEN DIETAS | F11: NO EXISTEN DIETAS
A12: 9 | B12: NO EXISTEN DIETAS | C12: 0 | D12: 0 | E12: NO EXISTEN DIETAS | F12: NO EXISTEN DIETAS
A13: 10 | B13: NO EXISTEN DIETAS | C13: 0 | D13: 0 | E13: NO EXISTEN DIETAS | F13: NO EXISTEN DIETAS
A14: 11 | B14: NO EXISTEN DIETAS | C14: 0 | D14: 0 | E14: NO EXISTEN DIETAS | F14: NO EXISTEN DIETAS
A15: 12 | B15: NO EXISTEN DIETAS | C15: 0 | D15: 0 | E15: NO EXISTEN DIETAS | F15: NO EXISTEN DIETAS
... A130: 127 | B130: NO EXISTEN DIETAS | C130: 0 | D130: 0 | E130: NO EXISTEN DIETAS | F130: NO EXISTEN DIETAS

Sheet Tabla_411954
B1: 1 | C1: 6 | D1: 6 | E1: 1 | F1: 1
B2: 53325 | C2: 53326 | D2: 53327 | E2: 53328 | F2: 53329
A3: ID | B3: Denominación de los bonos | C3: Monto bruto de los bonos | D3: Monto neto de los bonos | E3: Tipo de moneda de los bonos | F3: Periodicidad de los bonos
A4: 1 | B4: NO EXISTEN BONOS | C4: 0 | D4: 0 | E4: NO EXISTEN BONOS | F4: NO EXISTEN BONOS
A5: 2 | B5: NO EXISTEN BONOS | C5: 0 | D5: 0 | E5: NO EXISTEN BONOS | F5: NO EXISTEN BONOS
A6: 3 | B6: NO EXISTEN BONOS | C6: 0 | D6: 0 | E6: NO EXISTEN BONOS | F6: NO EXISTEN BONOS
A7: 4 | B7: NO EXISTEN BONOS | C7: 0 | D7: 0 | E7: NO EXISTEN BONOS | F7: NO EXISTEN BONOS
A8: 5 | B8: NO EXISTEN BONOS | C8: 0 | D8: 0 | E8: NO EXISTEN BONOS | F8: NO EXISTEN BONOS
A9: 6 | B9: NO EXISTEN BONOS | C9: 0 | D9: 0 | E9: NO EXISTEN BONOS | F9: NO EXISTEN BONOS
A10: 7 | B10: NO EXISTEN BONOS | C10: 0 | D10: 0 | E10: NO EXISTEN BONOS | F10: NO EXISTEN BONOS
A11: 8 | B11: NO EXISTEN BONOS | C11: 0 | D11: 0 | E11: NO EXISTEN BONOS | F11: NO EXISTEN BONOS
A12: 9 | B12: NO EXISTEN BONOS | C12: 0 | D12: 0 | E12: NO EXISTEN BONOS | F12: NO EXISTEN BONOS
A13: 10 | B13: NO EXISTEN BONOS | C13: 0 | D13: 0 | E13: NO EXISTEN BONOS | F13: NO EXISTEN BONOS
A14: 11 | B14: NO EXISTEN BONOS | C14: 0 | D14: 0 | E14: NO EXISTEN BONOS | F14: NO EXISTEN BONOS
A15: 12 | B15: NO EXISTEN BONOS | C15: 0 | D15: 0 | E15: NO EXISTEN BONOS | F15: NO EXISTEN BONOS
... A130: 127 | B130: NO EXISTEN BONOS | C130: 0 | D130: 0 | E130: NO EXISTEN BONOS | F130: NO EXISTEN BONOS

Sheet Tabla_411972
B1: 1 | C1: 6 | D1: 6 | E1: 1 | F1: 1
B2: 53342 | C2: 53343 | D2: 53344 | E2: 53345 | F2: 53346
A3: ID | B3: Denominación de los estímulos | C3: Monto bruto de los estímulos | D3: Monto neto de los estímulos | E3: Tipo de moneda de los estímulos | F3: Periodicidad de los estímulos
A4: 1 | B4: NO EXISTEN ESTIMULOS | C4: 0 | D4: 0 | E4: NO EXISTEN ESTIMULOS | F4: NO EXISTEN ESTIMULOS
A5: 2 | B5: NO EXISTEN ESTIMULOS | C5: 0 | D5: 0 | E5: NO EXISTEN ESTIMULOS | F5: NO EXISTEN ESTIMULOS
A6: 3 | B6: NO EXISTEN ESTIMULOS | C6: 0 | D6: 0 | E6: NO EXISTEN ESTIMULOS | F6: NO EXISTEN ESTIMULOS
A7: 4 | B7: NO EXISTEN ESTIMULOS | C7: 0 | D7: 0 | E7: NO EXISTEN ESTIMULOS | F7: NO EXISTEN ESTIMULOS
A8: 5 | B8: NO EXISTEN ESTIMULOS | C8: 0 | D8: 0 | E8: NO EXISTEN ESTIMULOS | F8: NO EXISTEN ESTIMULOS
A9: 6 | B9: NO EXISTEN ESTIMULOS | C9: 0 | D9: 0 | E9: NO EXISTEN ESTIMULOS | F9: NO EXISTEN ESTIMULOS
A10: 7 | B10: NO EXISTEN ESTIMULOS | C10: 0 | D10: 0 | E10: NO EXISTEN ESTIMULOS | F10: NO EXISTEN ESTIMULOS
A11: 8 | B11: NO EXISTEN ESTIMULOS | C11: 0 | D11: 0 | E11: NO EXISTEN ESTIMULOS | F11: NO EXISTEN ESTIMULOS
A12: 9 | B12: NO EXISTEN ESTIMULOS | C12: 0 | D12: 0 | E12: NO EXISTEN ESTIMULOS | F12: NO EXISTEN ESTIMULOS
A13: 10 | B13: NO EXISTEN ESTIMULOS | C13: 0 | D13: 0 | E13: NO EXISTEN ESTIMULOS | F13: NO EXISTEN ESTIMULOS
A14: 11 | B14: NO EXISTEN ESTIMULOS | C14: 0 | D14: 0 | E14: NO EXISTEN ESTIMULOS | F14: NO EXISTEN ESTIMULOS
A15: 12 | B15: NO EXISTEN ESTIMULOS | C15: 0 | D15: 0 | E15: NO EXISTEN ESTIMULOS | F15: NO EXISTEN ESTIMULOS
... A130: 127 | B130: NO EXISTEN ESTIMULOS | C130: 0 | D130: 0 | E130: NO EXISTEN ESTIMULOS | F130: NO EXISTEN ESTIMULOS

Sheet Tabla_411976
B1: 1 | C1: 6 | D1: 6 | E1: 1 | F1: 1
B2: 53362 | C2: 53363 | D2: 53364 | E2: 53365 | F2: 53366
A3: ID | B3: Denominación de los apoyos económicos | C3: Monto bruto de los apoyos económicos | D3: Monto neto de los apoyos económicos | E3: Tipo de moneda de los apoyos económicos | F3: Periodicidad de los apoyos económicos
A4: 1 | B4: NO EXISTEN APOYOS ECONOMICOS | C4: 0 | D4: 0 | E4: NO EXISTEN APOYOS ECONOMICOS | F4: NO EXISTEN APOYOS ECONOMICOS
A5: 2 | B5: NO EXISTEN APOYOS ECONOMICOS | C5: 0 | D5: 0 | E5: NO EXISTEN APOYOS ECONOMICOS | F5: NO EXISTEN APOYOS ECONOMICOS
A6: 3 | B6: NO EXISTEN APOYOS ECONOMICOS | C6: 0 | D6: 0 | E6: NO EXISTEN APOYOS ECONOMICOS | F6: NO EXISTEN APOYOS ECONOMICOS
A7: 4 | B7: NO EXISTEN APOYOS ECONOMICOS | C7: 0 | D7: 0 | E7: NO EXISTEN APOYOS ECONOMICOS | F7: NO EXISTEN APOYOS ECONOMICOS
A8: 5 | B8: NO EXISTEN APOYOS ECONOMICOS | C8: 0 | D8: 0 | E8: NO EXISTEN APOYOS ECONOMICOS | F8: NO EXISTEN APOYOS ECONOMICOS
A9: 6 | B9: NO EXISTEN APOYOS ECONOMICOS | C9: 0 | D9: 0 | E9: NO EXISTEN APOYOS ECONOMICOS | F9: NO EXISTEN APOYOS ECONOMICOS
A10: 7 | B10: NO EXISTEN APOYOS ECONOMICOS | C10: 0 | D10: 0 | E10: NO EXISTEN APOYOS ECONOMICOS | F10: NO EXISTEN APOYOS ECONOMICOS
A11: 8 | B11: NO EXISTEN APOYOS ECONOMICOS | C11: 0 | D11: 0 | E11: NO EXISTEN APOYOS ECONOMICOS | F11: NO EXISTEN APOYOS ECONOMICOS
A12: 9 | B12: NO EXISTEN APOYOS ECONOMICOS | C12: 0 | D12: 0 | E12: NO EXISTEN APOYOS ECONOMICOS | F12: NO EXISTEN APOYOS ECONOMICOS
A13: 10 | B13: NO EXISTEN APOYOS ECONOMICOS | C13: 0 | D13: 0 | E13: NO EXISTEN APOYOS ECONOMICOS | F13: NO EXISTEN APOYOS ECONOMICOS
A14: 11 | B14: NO EXISTEN APOYOS ECONOMICOS | C14: 0 | D14: 0 | E14: NO EXISTEN APOYOS ECONOMICOS | F14: NO EXISTEN APOYOS ECONOMICOS
A15: 12 | B15: NO EXISTEN APOYOS ECONOMICOS | C15: 0 | D15: 0 | E15: NO EXISTEN APOYOS ECONOMICOS | F15: NO EXISTEN APOYOS ECONOMICOS
... A130: 127 | B130: NO EXISTEN APOYOS ECONOMICOS | C130: 0 | D130: 0 | E130: NO EXISTEN APOYOS ECONOMICOS | F130: NO EXISTEN APOYOS ECONOMICOS

Sheet Tabla_411973
B1: 1 | C1: 6 | D1: 6 | E1: 1 | F1: 1
B2: 53347 | C2: 53348 | D2: 53349 | E2: 53350 | F2: 53351
A3: ID | B3: Denominación de las prestaciones económicas | C3: Monto bruto de las prestaciones económicas | D3: Monto neto de las prestaciones económicas | E3: Tipo de moneda de las prestaciones económicas | F3: Periodicidad de las prestaciones económicas
A4: 1 | B4: NO EXISTEN PRESTACIONES ECONOMICAS | C4: 0 | D4: 0 | E4: NO EXISTEN PRESTACIONES ECONOMICAS | F4: NO EXISTEN PRESTACIONES ECONOMICAS
A5: 2 | B5: NO EXISTEN PRESTACIONES ECONOMICAS | C5: 0 | D5: 0 | E5: NO EXISTEN PRESTACIONES ECONOMICAS | F5: NO EXISTEN PRESTACIONES ECONOMICAS
A6: 3 | B6: NO EXISTEN PRESTACIONES ECONOMICAS | C6: 0 | D6: 0 | E6: NO EXISTEN PRESTACIONES ECONOMICAS | F6: NO EXISTEN PRESTACIONES ECONOMICAS
A7: 4 | B7: NO EXISTEN PRESTACIONES ECONOMICAS | C7: 0 | D7: 0 | E7: NO EXISTEN PRESTACIONES ECONOMICAS | F7: NO EXISTEN PRESTACIONES ECONOMICAS
A8: 5 | B8: NO EXISTEN PRESTACIONES ECONOMICAS | C8: 0 | D8: 0 | E8: NO EXISTEN PRESTACIONES ECONOMICAS | F8: NO EXISTEN PRESTACIONES ECONOMICAS
A9: 6 | B9: NO EXISTEN PRESTACIONES ECONOMICAS | C9: 0 | D9: 0 | E9: NO EXISTEN PRESTACIONES ECONOMICAS | F9: NO EXISTEN PRESTACIONES ECONOMICAS
A10: 7 | B10: NO EXISTEN PRESTACIONES ECONOMICAS | C10: 0 | D10: 0 | E10: NO EXISTEN PRESTACIONES ECONOMICAS | F10: NO EXISTEN PRESTACIONES ECONOMICAS
A11: 8 | B11: NO EXISTEN PRESTACIONES ECONOMICAS | C11: 0 | D11: 0 | E11: NO EXISTEN PRESTACIONES ECONOMICAS | F11: NO EXISTEN PRESTACIONES ECONOMICAS
A12: 9 | B12: NO EXISTEN PRESTACIONES ECONOMICAS | C12: 0 | D12: 0 | E12: NO EXISTEN PRESTACIONES ECONOMICAS | F12: NO EXISTEN PRESTACIONES ECONOMICAS
A13: 10 | B13: NO EXISTEN PRESTACIONES ECONOMICAS | C13: 0 | D13: 0 | E13: NO EXISTEN PRESTACIONES ECONOMICAS | F13: NO EXISTEN PRESTACIONES ECONOMICAS
A14: 11 | B14: NO EXISTEN PRESTACIONES ECONOMICAS | C14: 0 | D14: 0 | E14: NO EXISTEN PRESTACIONES ECONOMICAS | F14: NO EXISTEN PRESTACIONES ECONOMICAS
A15: 12 | B15: NO EXISTEN PRESTACIONES ECONOMICAS | C15: 0 | D15: 0 | E15: NO EXISTEN PRESTACIONES ECONOMICAS | F15: NO EXISTEN PRESTACIONES ECONOMICAS
... A130: 127 | B130: NO EXISTEN PRESTACIONES ECONOMICAS | C130: 0 | D130: 0 | E130: NO EXISTEN PRESTACIONES ECONOMICAS | F130: NO EXISTEN PRESTACIONES ECONOMICAS

Sheet Tabla_411977
B1: 1 | C1: 1
B2: 53367 | C2: 53368
A3: ID | B3: Descripción de las prestaciones en especie | C3: Periodicidad de las prestaciones en especie
A4: 1 | B4: NO EXISTEN PRESTACIONES EN ESPECIE | C4: NO EXISTEN PRESTACIONES EN ESPECIE
A5: 2 | B5: NO EXISTEN PRESTACIONES EN ESPECIE | C5: NO EXISTEN PRESTACIONES EN ESPECIE
A6: 3 | B6: NO EXISTEN PRESTACIONES EN ESPECIE | C6: NO EXISTEN PRESTACIONES EN ESPECIE
A7: 4 | B7: NO EXISTEN PRESTACIONES EN ESPECIE | C7: NO EXISTEN PRESTACIONES EN ESPECIE
A8: 5 | B8: NO EXISTEN PRESTACIONES EN ESPECIE | C8: NO EXISTEN PRESTACIONES EN ESPECIE
A9: 6 | B9: NO EXISTEN PRESTACIONES EN ESPECIE | C9: NO EXISTEN PRESTACIONES EN ESPECIE
A10: 7 | B10: NO EXISTEN PRESTACIONES EN ESPECIE | C10: NO EXISTEN PRESTACIONES EN ESPECIE
A11: 8 | B11: NO EXISTEN PRESTACIONES EN ESPECIE | C11: NO EXISTEN PRESTACIONES EN ESPECIE
A12: 9 | B12: NO EXISTEN PRESTACIONES EN ESPECIE | C12: NO EXISTEN PRESTACIONES EN ESPECIE
A13: 10 | B13: NO EXISTEN PRESTACIONES EN ESPECIE | C13: NO EXISTEN PRESTACIONES EN ESPECIE
A14: 11 | B14: NO EXISTEN PRESTACIONES EN ESPECIE | C14: NO EXISTEN PRESTACIONES EN ESPECIE
A15: 12 | B15: NO EXISTEN PRESTACIONES EN ESPECIE | C15: NO EXISTEN PRESTACIONES EN ESPECIE
... A130: 127 | B130: NO EXISTEN PRESTACIONES EN ESPECIE | C130: NO EXISTEN PRESTACIONES EN ESPECIE
