Workbook
Name Hidden_13: Hidden_1!$A$1:$A$11
Name Hidden_211: Hidden_2!$A$1:$A$2
Name Hidden_312: [1]Hidden_3!$A$1:$A$2

Sheet Reporte de Formatos
A1: 47605
A2: TÍTULO | D2: NOMBRE CORTO | G2: DESCRIPCIÓN
A3: Remuneraciones brutas y netas de todas las personas servidoras públicas de base y de confianza | D3: 18LTAIPECHF8 | G3: La información relativa a la remuneración mensual bruta y neta de conformidad con el tabulador de sueldos y salarios aplicable a cada sujeto obligado, así como todos los conceptos que sean adicionales y distintos a las remuneraciones, especificando la periodicidad con que se otorga cada uno de éstos (quincenal, mensual, semestral, anual, por única ocasión, etcétera)
A4: 1 | B4: 4 | C4: 4 | D4: 9 | E4: 1 | F4: 2 | G4: 2 | H4: 2 | I4: 1 | J4: 1 | K4: 1 | L4: 9 | M4: 6 | N4: 1 | O4: 6 | P4: 1 | Q4: 10 | R4: 10 | S4: 10 | T4: 10 | U4: 10 | V4: 10 | W4: 10 | X4: 10 | Y4: 10 | Z4: 10 | AA4: 10 | AB4: 10 | AC4: 10 | AD4: 2 | AE4: 13 | AF4: 14
A5: 411955 | B5: 411967 | C5: 411947 | D5: 411968 | E5: 411969 | F5: 411950 | G5: 411956 | H5: 411957 | I5: 411958 | J5: 411951 | K5: 411948 | L5: 570349 | M5: 411970 | N5: 411971 | O5: 411960 | P5: 411949 | Q5: 411974 | R5: 411961 | S5: 411975 | T5: 411945 | U5: 411965 | V5: 411952 | W5: 411962 | X5: 411953 | Y5: 411954 | Z5: 411972 | AA5: 411976 | AB5: 411973 | AC5: 411977 | AD5: 411963 | AE5: 411966 | AF5: 411946
A6: Tabla Campos
A7: Ejercicio | B7: Fecha de inicio del periodo que se informa | C7: Fecha de término del periodo que se informa | D7: Tipo de integrante del sujeto obligado (catálogo) | E7: Clave o nivel del puesto | F7: Denominación o descripción del puesto (Redactados con perspectiva de género) | G7: Denominación del cargo (de conformidad con el nombramiento otorgado) | H7: Área de adscripción | I7: Nombre (s) | J7: Primer apellido | K7: Segundo apellido | L7: ESTE CRITERIO APLICA A PARTIR DEL 01/01/2023 -> Sexo (catálogo ) | M7: Monto de la remuneración mensual bruta, de conformidad al Tabulador de sueldos y salarios que corresponda | N7: Tipo de moneda de la remuneración mensual bruta | O7: Monto de la remuneración mensual neta, de conformidad al Tabulador de sueldos y salarios que corresponda | P7: Tipo de moneda de la remuneración mensual neta | Q7: Percepciones adicionales en dinero, Monto bruto y neto, tipo de moneda y su periodicidad Tabla_411974 | R7: Percepciones adicionales en especie y su periodicidad Tabla_411961 | S7: Ingresos, monto bruto y neto, tipo de moneda y su periodicidad Tabla_411975 | T7: Sistemas de compensación, monto bruto y neto, tipo de moneda y su periodicidad Tabla_411945 | U7: Gratificaciones, monto bruto y neto, tipo de moneda y su periodicidad Tabla_411965 | V7: Primas, monto bruto y neto, tipo de moneda y su periodicidad Tabla_411952 | W7: Comisiones, monto bruto y neto, tipo de moneda y su periodicidad Tabla_411962 | X7: Dietas, monto bruto y neto, tipo de moneda y su periodicidad Tabla_411953 | Y7: Bonos, monto bruto y neto, tipo de moneda y su periodicidad Tabla_411954 | Z7: Estímulos, monto bruto y neto, tipo de moneda y su periodicidad Tabla_411972 | AA7: Apoyos económicos, monto bruto y neto, tipo de moneda y su periodicidad Tabla_411976 | AB7: Prestaciones económicas, monto bruto y neto, tipo de moneda y su periodicidad Tabla_411973 | AC7: Prestaciones en especie y su periodicidad Tabla_411977 | AD7: Área(s) responsable(s) que genera(n), posee(n), publica(n) y actualizan la información | AE7: Fecha de Actualización | AF7: Nota
A8: 2024 | B8: 45292 | C8: 45382 | D8: Personal de confianza | E8: 110101 | F8: RECTOR | G8: RECTOR | H8: RECTORIA | I8: ANTONIO MAGDIEL | J8: VELAZQUEZ | K8: MENDEZ | L8: Hombre | M8: =36261*2 -> 72522 | N8: PESOS | O8: =27051.94*2 -> 54103.88 | P8: PESOS | Q8: =Tabla_411974!A4 -> 1 | R8: =Tabla_411961!A4 -> 1 | S8: =Tabla_411975!A4 -> 1 | T8: =Tabla_411945!A4 -> 1 | U8: =Tabla_411965!A4 -> 1 | V8: =Tabla_411952!A4 -> 1 | W8: =Tabla_411962!A4 -> 1 | X8: =Tabla_411953!A4 -> 1 | Y8: =Tabla_411954!A4 -> 1 | Z8: =Tabla_411972!A4 -> 1 | AA8: =Tabla_411976!A4 -> 1 | AB8: =Tabla_411973!A4 -> 1 | AC8: =Tabla_411977!A4 -> 1 | AD8: DIRECCION DE ADMINISTRACION DE PERSONAL Y ORGANIZACIÓN | AE8: 45412 | AF8: SIN DATOS
A9: 2024 | B9: 45292 | C9: 45382 | D9: Personal de confianza | E9: 110406 | F9: SUBDIRECTOR | G9: SUBDIRECTOR | H9: RECTORIA | I9: ALEXANDER | J9: OCAÑA | K9: RAMIREZ | L9: Hombre | M9: =19290.5*2 -> 38581 | N9: PESOS | O9: =15325.23*2 -> 30650.46 | P9: PESOS | Q9: =Tabla_411974!A5 -> 2 | R9: =Tabla_411961!A5 -> 2 | S9: =Tabla_411975!A5 -> 2 | T9: =Tabla_411945!A5 -> 2 | U9: =Tabla_411965!A5 -> 2 | V9: =Tabla_411952!A5 -> 2 | W9: =Tabla_411962!A5 -> 2 | X9: =Tabla_411953!A5 -> 2 | Y9: =Tabla_411954!A5 -> 2 | Z9: =Tabla_411972!A5 -> 2 | AA9: =Tabla_411976!A5 -> 2 | AB9: =Tabla_411973!A5 -> 2 | AC9: =Tabla_411977!A5 -> 2 | AD9: DIRECCION DE ADMINISTRACION DE PERSONAL Y ORGANIZACIÓN | AE9: 45413 | AF9: SIN DATOS
A10: 2024 | B10: 45292 | C10: 45382 | D10: Personal de confianza | E10: 110404 | F10: COORDINADOR | G10: COORDINADOR | H10: RECTORIA | I10: MARCO ANTONIO | J10: MELCHOR | K10: CASTILLEJOS | L10: Hombre | M10: =8596.35*2 -> 17192.7 | N10: PESOS | O10: =7333.26*2 -> 14666.52 | P10: PESOS | Q10: =Tabla_411974!A6 -> 3 | R10: =Tabla_411961!A6 -> 3 | S10: =Tabla_411975!A6 -> 3 | T10: =Tabla_411945!A6 -> 3 | U10: =Tabla_411965!A6 -> 3 | V10: =Tabla_411952!A6 -> 3 | W10: =Tabla_411962!A6 -> 3 | X10: =Tabla_411953!A6 -> 3 | Y10: =Tabla_411954!A6 -> 3 | Z10: =Tabla_411972!A6 -> 3 | AA10: =Tabla_411976!A6 -> 3 | AB10: =Tabla_411973!A6 -> 3 | AC10: =Tabla_411977!A6 -> 3 | AD10: DIRECCION DE ADMINISTRACION DE PERSONAL Y ORGANIZACIÓN | AE10: 45414 | AF10: SIN DATOS
A11: 2024 | B11: 45292 | C11: 45382 | D11: Personal de confianza | E11: 110402 | F11: COORDINADOR | G11: COORDINADOR | H11: RECTORIA | I11: JUAN ANTONIO | J11: SANTIAGO | K11: CHAMPO | L11: Hombre | M11: =8596.35*2 -> 17192.7 | N11: PESOS | O11: =7333.26*2 -> 14666.52 | P11: PESOS | Q11: =Tabla_411974!A7 -> 4 | R11: =Tabla_411961!A7 -> 4 | S11: =Tabla_411975!A7 -> 4 | T11: =Tabla_411945!A7 -> 4 | U11: =Tabla_411965!A7 -> 4 | V11: =Tabla_411952!A7 -> 4 | W11: =Tabla_411962!A7 -> 4 | X11: =Tabla_411953!A7 -> 4 | Y11: =Tabla_411954!A7 -> 4 | Z11: =Tabla_411972!A7 -> 4 | AA11: =Tabla_411976!A7 -> 4 | AB11: =Tabla_411973!A7 -> 4 | AC11: =Tabla_411977!A7 -> 4 | AD11: DIRECCION DE ADMINISTRACION DE PERSONAL Y ORGANIZACIÓN | AE11: 45415 | AF11: SIN DATOS
A12: 2024 | B12: 45292 | C12: 45382 | D12: Personal de confianza | E12: 110902 | F12: TÉCNICO ESPECIALIZADO EN MANTENIMIENTO | G12: TÉCNICO ESPECIALIZADO EN MANTENIMIENTO | H12: RECTORIA | I12: RODOLFO | J12: AVENDAÑO | K12: JIMENEZ | L12: Hombre | M12: =4159.95*2 -> 8319.9 | N12: PESOS | O12: =3751.92*2 -> 7503.84 | P12: PESOS | Q12: =Tabla_411974!A8 -> 5 | R12: =Tabla_411961!A8 -> 5 | S12: =Tabla_411975!A8 -> 5 | T12: =Tabla_411945!A8 -> 5 | U12: =Tabla_411965!A8 -> 5 | V12: =Tabla_411952!A8 -> 5 | W12: =Tabla_411962!A8 -> 5 | X12: =Tabla_411953!A8 -> 5 | Y12: =Tabla_411954!A8 -> 5 | Z12: =Tabla_411972!A8 -> 5 | AA12: =Tabla_411976!A8 -> 5 | AB12: =Tabla_411973!A8 -> 5 | AC12: =Tabla_411977!A8 -> 5 | AD12: DIRECCION DE ADMINISTRACION DE PERSONAL Y ORGANIZACIÓN | AE12: 45416 | AF12: SIN DATOS
A13: 2024 | B13: 45292 | C13: 45382 | D13: Personal de confianza | E13: 110907 | F13: COORDINADORA | G13: COORDINADORA | H13: RECTORIA | I13: MARIANA MONSERRAT | J13: MARTINEZ | K13: SANCHEZ | L13: Mujer | M13: =8596.35*2 -> 17192.7 | N13: PESOS | O13: =7333.26*2 -> 14666.52 | P13: PESOS | Q13: =Tabla_411974!A9 -> 6 | R13: =Tabla_411961!A9 -> 6 | S13: =Tabla_411975!A9 -> 6 | T13: =Tabla_411945!A9 -> 6 | U13: =Tabla_411965!A9 -> 6 | V13: =Tabla_411952!A9 -> 6 | W13: =Tabla_411962!A9 -> 6 | X13: =Tabla_411953!A9 -> 6 | Y13: =Tabla_411954!A9 -> 6 | Z13: =Tabla_411972!A9 -> 6 | AA13: =Tabla_411976!A9 -> 6 | AB13: =Tabla_411973!A9 -> 6 | AC13: =Tabla_411977!A9 -> 6 | AD13: DIRECCION DE ADMINISTRACION DE PERSONAL Y ORGANIZACIÓN | AE13: 45417 | AF13: SIN DATOS
A14: 2024 | B14: 45292 | C14: 45382 | D14: Personal de confianza | E14: 111203 | F14: ESPECIALISTA TÉCNICO | G14: ESPECIALISTA TÉCNICO | H14: RECTORIA | I14: ROBERTO | J14: ESPINOSA | K14: GARCIA | L14: Hombre | M14: =5966.45*2 -> 11932.9 | N14: PESOS | O14: =5281.65*2 -> 10563.3 | P14: PESOS | Q14: =Tabla_411974!A10 -> 7 | R14: =Tabla_411961!A10 -> 7 | S14: =Tabla_411975!A10 -> 7 | T14: =Tabla_411945!A10 -> 7 | U14: =Tabla_411965!A10 -> 7 | V14: =Tabla_411952!A10 -> 7 | W14: =Tabla_411962!A10 -> 7 | X14: =Tabla_411953!A10 -> 7 | Y14: =Tabla_411954!A10 -> 7 | Z14: =Tabla_411972!A10 -> 7 | AA14: =Tabla_411976!A10 -> 7 | AB14: =Tabla_411973!A10 -> 7 | AC14: =Tabla_411977!A10 -> 7 | AD14: DIRECCION DE ADMINISTRACION DE PERSONAL Y ORGANIZACIÓN | AE14: 45418 | AF14: SIN DATOS
A15: 2024 | B15: 45292 | C15: 45382 | D15: Personal de confianza | E15: 110305 | F15: ABOGADO GENERAL | G15: ABOGADO GENERAL | H15: COORDINACION JURIDICA | I15: CARLOS EUGENIO | J15: SERRANO | K15: HERRERA | L15: Hombre | M15: =27199.6*2 -> 54399.2 | N15: PESOS | O15: =20938.61*2 -> 41877.22 | P15: PESOS | Q15: =Tabla_411974!A11 -> 8 | R15: =Tabla_411961!A11 -> 8 | S15: =Tabla_411975!A11 -> 8 | T15: =Tabla_411945!A11 -> 8 | U15: =Tabla_411965!A11 -> 8 | V15: =Tabla_411952!A11 -> 8 | W15: =Tabla_411962!A11 -> 8 | X15: =Tabla_411953!A11 -> 8 | Y15: =Tabla_411954!A11 -> 8 | Z15: =Tabla_411972!A11 -> 8 | AA15: =Tabla_411976!A11 -> 8 | AB15: =Tabla_411973!A11 -> 8 | AC15: =Tabla_411977!A11 -> 8 | AD15: DIRECCION DE ADMINISTRACION DE PERSONAL Y ORGANIZACIÓN | AE15: 45419 | AF15: SIN DATOS
A16: 2024 | B16: 45292 | C16: 45382 | D16: Personal de confianza | E16: 110707 | F16: COORDINADOR | G16: COORDINADOR | H16: COORDINACION JURIDICA | I16: ROGER ANTONIO | J16: MARROQUIN | K16: TOLEDO | L16: Hombre | M16: =8596.35*2 -> 17192.7 | N16: PESOS | O16: =7333.26*2 -> 14666.52 | P16: PESOS | Q16: =Tabla_411974!A12 -> 9 | R16: =Tabla_411961!A12 -> 9 | S16: =Tabla_411975!A12 -> 9 | T16: =Tabla_411945!A12 -> 9 | U16: =Tabla_411965!A12 -> 9 | V16: =Tabla_411952!A12 -> 9 | W16: =Tabla_411962!A12 -> 9 | X16: =Tabla_411953!A12 -> 9 | Y16: =Tabla_411954!A12 -> 9 | Z16: =Tabla_411972!A12 -> 9 | AA16: =Tabla_411976!A12 -> 9 | AB16: =Tabla_411973!A12 -> 9 | AC16: =Tabla_411977!A12 -> 9 | AD16: DIRECCION DE ADMINISTRACION DE PERSONAL Y ORGANIZACIÓN | AE16: 45420 | AF16: SIN DATOS
A17: 2024 | B17: 45292 | C17: 45382 | D17: Personal de confianza | E17: 110305 | F17: DIRECTOR DE ÁREA | G17: DIRECTOR DE ÁREA | H17: COORDINACION DE TECNOLOGIAS DE LA INFORMACIÓN | I17: EDIN YOBANI | J17: PEREZ | K17: CASTILLO | L17: Hombre | M17: =21582.98*2 -> 43165.96 | N17: PESOS | O17: =17006.88*2 -> 34013.76 | P17: PESOS | Q17: =Tabla_411974!A13 -> 10 | R17: =Tabla_411961!A13 -> 10 | S17: =Tabla_411975!A13 -> 10 | T17: =Tabla_411945!A13 -> 10 | U17: =Tabla_411965!A13 -> 10 | V17: =Tabla_411952!A13 -> 10 | W17: =Tabla_411962!A13 -> 10 | X17: =Tabla_411953!A13 -> 10 | Y17: =Tabla_411954!A13 -> 10 | Z17: =Tabla_411972!A13 -> 10 | AA17: =Tabla_411976!A13 -> 10 | AB17: =Tabla_411973!A13 -> 10 | AC17: =Tabla_411977!A13 -> 10 | AD17: DIRECCION DE ADMINISTRACION DE PERSONAL Y ORGANIZACIÓN | AE17: 45421 | AF17: SIN DATOS
A18: 2024 | B18: 45292 | C18: 45382 | D18: Personal de confianza | E18: 110404 | F18: COORDINADORA | G18: COORDINADORA | H18: COORDINACION DE TECNOLOGIAS DE LA INFORMACIÓN | I18: BELLANET | J18: RODRIGUEZ | K18: SANTIAGO | L18: Mujer | M18: =8596.35*2 -> 17192.7 | N18: PESOS | O18: =7333.26*2 -> 14666.52 | P18: PESOS | Q18: =Tabla_411974!A14 -> 11 | R18: =Tabla_411961!A14 -> 11 | S18: =Tabla_411975!A14 -> 11 | T18: =Tabla_411945!A14 -> 11 | U18: =Tabla_411965!A14 -> 11 | V18: =Tabla_411952!A14 -> 11 | W18: =Tabla_411962!A14 -> 11 | X18: =Tabla_411953!A14 -> 11 | Y18: =Tabla_411954!A14 -> 11 | Z18: =Tabla_411972!A14 -> 11 | AA18: =Tabla_411976!A14 -> 11 | AB18: =Tabla_411973!A14 -> 11 | AC18: =Tabla_411977!A14 -> 11 | AD18: DIRECCION DE ADMINISTRACION DE PERSONAL Y ORGANIZACIÓN | AE18: 45422 | AF18: SIN DATOS
A19: 2024 | B19: 45292 | C19: 45382 | D19: Personal de confianza | E19: 110305 | F19: DIRECTOR DE ÁREA | G19: DIRECTOR DE ÁREA | H19: COORDINACION DE COMUNICACIÓN SOCIAL | I19: ISAIAS GUADALUPE | J19: GORDILLO | K19: FLORES | L19: Hombre | M19: =21582.98*2 -> 43165.96 | N19: PESOS | O19: =17006.88*2 -> 34013.76 | P19: PESOS | Q19: =Tabla_411974!A15 -> 12 | R19: =Tabla_411961!A15 -> 12 | S19: =Tabla_411975!A15 -> 12 | T19: =Tabla_411945!A15 -> 12 | U19: =Tabla_411965!A15 -> 12 | V19: =Tabla_411952!A15 -> 12 | W19: =Tabla_411962!A15 -> 12 | X19: =Tabla_411953!A15 -> 12 | Y19: =Tabla_411954!A15 -> 12 | Z19: =Tabla_411972!A15 -> 12 | AA19: =Tabla_411976!A15 -> 12 | AB19: =Tabla_411973!A15 -> 12 | AC19: =Tabla_411977!A15 -> 12 | AD19: DIRECCION DE ADMINISTRACION DE PERSONAL Y ORGANIZACIÓN | AE19: 45423 | AF19: SIN DATOS
A20: 2024 | B20: 45292 | C20: 45382 | D20: Personal de confianza | E20: 110705 | F20: INGENIERO EN SISTEMAS | G20: INGENIERO EN SISTEMAS | H20: COORDINACION DE COMUNICACIÓN SOCIAL | I20: ARTURO | J20: ROJAS | K20: JIMENEZ | L20: Hombre | M20: =6762.58*2 -> 13525.16 | N20: PESOS | O20: =5917.3*2 -> 11834.6 | P20: PESOS | Q20: =Tabla_411974!A16 -> 13 | R20: =Tabla_411961!A16 -> 13 | S20: =Tabla_411975!A16 -> 13 | T20: =Tabla_411945!A16 -> 13 | U20: =Tabla_411965!A16 -> 13 | V20: =Tabla_411952!A16 -> 13 | W20: =Tabla_411962!A16 -> 13 | X20: =Tabla_411953!A16 -> 13 | Y20: =Tabla_411954!A16 -> 13 | Z20: =Tabla_411972!A16 -> 13 | AA20: =Tabla_411976!A16 -> 13 | AB20: =Tabla_411973!A16 -> 13 | AC20: =Tabla_411977!A16 -> 13 | AD20: DIRECCION DE ADMINISTRACION DE PERSONAL Y ORGANIZACIÓN | AE20: 45424 | AF20: SIN DATOS
A21: 2024 | B21: 45292 | C21: 45382 | D21: Personal de confianza | E21: 110305 | F21: DIRECTORA DE ÁREA | G21: DIRECTORA DE ÁREA | H21: UNIDAD DE IGUALDAD DE GENERO | I21: GUADALUPE YANET | J21: DOMINGUEZ | K21: ESPINOSA | L21: Mujer | M21: =27199.6*2 -> 54399.2 | N21: PESOS | O21: =20934.83*2 -> 41869.66 | P21: PESOS | Q21: =Tabla_411974!A17 -> 14 | R21: =Tabla_411961!A17 -> 14 | S21: =Tabla_411975!A17 -> 14 | T21: =Tabla_411945!A17 -> 14 | U21: =Tabla_411965!A17 -> 14 | V21: =Tabla_411952!A17 -> 14 | W21: =Tabla_411962!A17 -> 14 | X21: =Tabla_411953!A17 -> 14 | Y21: =Tabla_411954!A17 -> 14 | Z21: =Tabla_411972!A17 -> 14 | AA21: =Tabla_411976!A17 -> 14 | AB21: =Tabla_411973!A17 -> 14 | AC21: =Tabla_411977!A17 -> 14 | AD21: DIRECCION DE ADMINISTRACION DE PERSONAL Y ORGANIZACIÓN | AE21: 45425 | AF21: SIN DATOS
A22: 2024 | B22: 45292 | C22: 45382 | D22: Personal de confianza | E22: 110707 | F22: COORDINADORA | G22: COORDINADORA | H22: UNIDAD DE IGUALDAD DE GENERO | I22: BRENDA | J22: CABRERA | K22: GARCIA | L22: Mujer | M22: =8596.35*2 -> 17192.7 | N22: PESOS | O22: =7333.26*2 -> 14666.52 | P22: PESOS | Q22: =Tabla_411974!A18 -> 15 | R22: =Tabla_411961!A18 -> 15 | S22: =Tabla_411975!A18 -> 15 | T22: =Tabla_411945!A18 -> 15 | U22: =Tabla_411965!A18 -> 15 | V22: =Tabla_411952!A18 -> 15 | W22: =Tabla_411962!A18 -> 15 | X22: =Tabla_411953!A18 -> 15 | Y22: =Tabla_411954!A18 -> 15 | Z22: =Tabla_411972!A18 -> 15 | AA22: =Tabla_411976!A18 -> 15 | AB22: =Tabla_411973!A18 -> 15 | AC22: =Tabla_411977!A18 -> 15 | AD22: DIRECCION DE ADMINISTRACION DE PERSONAL Y ORGANIZACIÓN | AE22: 45426 | AF22: SIN DATOS
A23: 2024 | B23: 45292 | C23: 45382 | D23: Personal de confianza | E23: 110707 | F23: COORDINADORA | G23: COORDINADORA | H23: UNIDAD DE IGUALDAD DE GENERO | I23: GABRIELA GUADALUPE | J23: RAMOS | K23: ALVAREZ | L23: Mujer | M23: =8596.35*2 -> 17192.7 | N23: PESOS | O23: =7333.26*2 -> 14666.52 | P23: PESOS | Q23: =Tabla_411974!A19 -> 16 | R23: =Tabla_411961!A19 -> 16 | S23: =Tabla_411975!A19 -> 16 | T23: =Tabla_411945!A19 -> 16 | U23: =Tabla_411965!A19 -> 16 | V23: =Tabla_411952!A19 -> 16 | W23: =Tabla_411962!A19 -> 16 | X23: =Tabla_411953!A19 -> 16 | Y23: =Tabla_411954!A19 -> 16 | Z23: =Tabla_411972!A19 -> 16 | AA23: =Tabla_411976!A19 -> 16 | AB23: =Tabla_411973!A19 -> 16 | AC23: =Tabla_411977!A19 -> 16 | AD23: DIRECCION DE ADMINISTRACION DE PERSONAL Y ORGANIZACIÓN | AE23: 45427 | AF23: SIN DATOS
A24: 2024 | B24: 45292 | C24: 45382 | D24: Personal de confianza | E24: 110201 | F24: SESCRETARIO ACADEMICO | G24: SESCRETARIO ACADEMICO | H24: SECRETARIA ACADEMICA | I24: OSCAR DE JESUS | J24: SARMIENTO | K24: MANDUJANO | L24: Hombre | M24: =30824.25*2 -> 61648.5 | N24: PESOS | O24: =23362.59*2 -> 46725.18 | P24: PESOS | Q24: =Tabla_411974!A20 -> 17 | R24: =Tabla_411961!A20 -> 17 | S24: =Tabla_411975!A20 -> 17 | T24: =Tabla_411945!A20 -> 17 | U24: =Tabla_411965!A20 -> 17 | V24: =Tabla_411952!A20 -> 17 | W24: =Tabla_411962!A20 -> 17 | X24: =Tabla_411953!A20 -> 17 | Y24: =Tabla_411954!A20 -> 17 | Z24: =Tabla_411972!A20 -> 17 | AA24: =Tabla_411976!A20 -> 17 | AB24: =Tabla_411973!A20 -> 17 | AC24: =Tabla_411977!A20 -> 17 | AD24: DIRECCION DE ADMINISTRACION DE PERSONAL Y ORGANIZACIÓN | AE24: 45428 | AF24: SIN DATOS
A25: 2024 | B25: 45292 | C25: 45382 | D25: Personal de confianza | E25: 110404 | F25: COORDINADOR | G25: COORDINADOR | H25: SECRETARIA ACADEMICA | I25: MAURICIO | J25: REYES | K25: GUZMAN | L25: Hombre | M25: =8596.35*2 -> 17192.7 | N25: PESOS | O25: =7333.26*2 -> 14666.52 | P25: PESOS | Q25: =Tabla_411974!A21 -> 18 | R25: =Tabla_411961!A21 -> 18 | S25: =Tabla_411975!A21 -> 18 | T25: =Tabla_411945!A21 -> 18 | U25: =Tabla_411965!A21 -> 18 | V25: =Tabla_411952!A21 -> 18 | W25: =Tabla_411962!A21 -> 18 | X25: =Tabla_411953!A21 -> 18 | Y25: =Tabla_411954!A21 -> 18 | Z25: =Tabla_411972!A21 -> 18 | AA25: =Tabla_411976!A21 -> 18 | AB25: =Tabla_411973!A21 -> 18 | AC25: =Tabla_411977!A21 -> 18 | AD25: DIRECCION DE ADMINISTRACION DE PERSONAL Y ORGANIZACIÓN | AE25: 45429 | AF25: SIN DATOS
A26: 2024 | B26: 45292 | C26: 45382 | D26: Personal de confianza | E26: 110907 | F26: JEFA DE OFICINA | G26: JEFA DE OFICINA | H26: SECRETARIA ACADEMICA | I26: VIVIANA | J26: PEREZ | K26: SANTOS | L26: Mujer | M26: =5374.5*2 -> 10749 | N26: PESOS | O26: =4796.22*2 -> 9592.44 | P26: PESOS | Q26: =Tabla_411974!A22 -> 19 | R26: =Tabla_411961!A22 -> 19 | S26: =Tabla_411975!A22 -> 19 | T26: =Tabla_411945!A22 -> 19 | U26: =Tabla_411965!A22 -> 19 | V26: =Tabla_411952!A22 -> 19 | W26: =Tabla_411962!A22 -> 19 | X26: =Tabla_411953!A22 -> 19 | Y26: =Tabla_411954!A22 -> 19 | Z26: =Tabla_411972!A22 -> 19 | AA26: =Tabla_411976!A22 -> 19 | AB26: =Tabla_411973!A22 -> 19 | AC26: =Tabla_411977!A22 -> 19 | AD26: DIRECCION DE ADMINISTRACION DE PERSONAL Y ORGANIZACIÓN | AE26: 45430 | AF26: SIN DATOS
A27: 2024 | B27: 45292 | C27: 45382 | D27: Personal de confianza | E27: 110907 | F27: DIRECTOR DE ÁREA | G27: DIRECTOR DE ÁREA | H27: SECRETARIA ACADEMICA | I27: PASCUAL | J27: RAMOS | K27: GARCIA | L27: Hombre | M27: =27199.6*2 -> 54399.2 | N27: PESOS | O27: =20934.83*2 -> 41869.66 | P27: PESOS | Q27: =Tabla_411974!A23 -> 20 | R27: =Tabla_411961!A23 -> 20 | S27: =Tabla_411975!A23 -> 20 | T27: =Tabla_411945!A23 -> 20 | U27: =Tabla_411965!A23 -> 20 | V27: =Tabla_411952!A23 -> 20 | W27: =Tabla_411962!A23 -> 20 | X27: =Tabla_411953!A23 -> 20 | Y27: =Tabla_411954!A23 -> 20 | Z27: =Tabla_411972!A23 -> 20 | AA27: =Tabla_411976!A23 -> 20 | AB27: =Tabla_411973!A23 -> 20 | AC27: =Tabla_411977!A23 -> 20 | AD27: DIRECCION DE ADMINISTRACION DE PERSONAL Y ORGANIZACIÓN | AE27: 45431 | AF27: SIN DATOS
A28: 2024 | B28: 45292 | C28: 45382 | D28: Personal de confianza | E28: 110907 | F28: JEFA DE DEPARTAMENTO | G28: JEFA DE DEPARTAMENTO | H28: DIRECCION DE PLANEACION EDUCATIVA | I28: MARIA ELENA | J28: MENDOZA | K28: RINCON | L28: Mujer | M28: =14017.93*2 -> 28035.86 | N28: PESOS | O28: =11425.44*2 -> 22850.88 | P28: PESOS | Q28: =Tabla_411974!A24 -> 21 | R28: =Tabla_411961!A24 -> 21 | S28: =Tabla_411975!A24 -> 21 | T28: =Tabla_411945!A24 -> 21 | U28: =Tabla_411965!A24 -> 21 | V28: =Tabla_411952!A24 -> 21 | W28: =Tabla_411962!A24 -> 21 | X28: =Tabla_411953!A24 -> 21 | Y28: =Tabla_411954!A24 -> 21 | Z28: =Tabla_411972!A24 -> 21 | AA28: =Tabla_411976!A24 -> 21 | AB28: =Tabla_411973!A24 -> 21 | AC28: =Tabla_411977!A24 -> 21 | AD28: DIRECCION DE ADMINISTRACION DE PERSONAL Y ORGANIZACIÓN | AE28: 45432 | AF28: SIN DATOS
A29: 2024 | B29: 45292 | C29: 45382 | D29: Personal de confianza | E29: 110907 | F29: COORDINADORA | G29: COORDINADORA | H29: DIRECCION DE PLANEACION EDUCATIVA | I29: PATRICIA | J29: GUZMAN | K29: AVILA | L29: Mujer | M29: =8596.35*2 -> 17192.7 | N29: PESOS | O29: =7333.26*2 -> 14666.52 | P29: PESOS | Q29: =Tabla_411974!A25 -> 22 | R29: =Tabla_411961!A25 -> 22 | S29: =Tabla_411975!A25 -> 22 | T29: =Tabla_411945!A25 -> 22 | U29: =Tabla_411965!A25 -> 22 | V29: =Tabla_411952!A25 -> 22 | W29: =Tabla_411962!A25 -> 22 | X29: =Tabla_411953!A25 -> 22 | Y29: =Tabla_411954!A25 -> 22 | Z29: =Tabla_411972!A25 -> 22 | AA29: =Tabla_411976!A25 -> 22 | AB29: =Tabla_411973!A25 -> 22 | AC29: =Tabla_411977!A25 -> 22 | AD29: DIRECCION DE ADMINISTRACION DE PERSONAL Y ORGANIZACIÓN | AE29: 45433 | AF29: SIN DATOS
A30: 2024 | B30: 45292 | C30: 45382 | D30: Personal de confianza | E30: 110907 | F30: JEFE DE DEPARTAMENTO | G30: JEFE DE DEPARTAMENTO | H30: DIRECCION DE PLANEACION EDUCATIVA | I30: ULISES | J30: CRUZ | K30: RUIZ | L30: Hombre | M30: =14017.93*2 -> 28035.86 | N30: PESOS | O30: =11433.76*2 -> 22867.52 | P30: PESOS | Q30: =Tabla_411974!A26 -> 23 | R30: =Tabla_411961!A26 -> 23 | S30: =Tabla_411975!A26 -> 23 | T30: =Tabla_411945!A26 -> 23 | U30: =Tabla_411965!A26 -> 23 | V30: =Tabla_411952!A26 -> 23 | W30: =Tabla_411962!A26 -> 23 | X30: =Tabla_411953!A26 -> 23 | Y30: =Tabla_411954!A26 -> 23 | Z30: =Tabla_411972!A26 -> 23 | AA30: =Tabla_411976!A26 -> 23 | AB30: =Tabla_411973!A26 -> 23 | AC30: =Tabla_411977!A26 -> 23 | AD30: DIRECCION DE ADMINISTRACION DE PERSONAL Y ORGANIZACIÓN | AE30: 45434 | AF30: SIN DATOS
A31: 2024 | B31: 45292 | C31: 45382 | D31: Personal de confianza | E31: 110907 | F31: INGENIERO EN SISTEMAS | G31: INGENIERO EN SISTEMAS | H31: DIRECCION DE PLANEACION EDUCATIVA | I31: MARIO ALBERTO | J31: DOMINGUEZ | K31: GARCIA | L31: Hombre | M31: =6762.58*2 -> 13525.16 | N31: PESOS | O31: =5917.3*2 -> 11834.6 | P31: PESOS | Q31: =Tabla_411974!A27 -> 24 | R31: =Tabla_411961!A27 -> 24 | S31: =Tabla_411975!A27 -> 24 | T31: =Tabla_411945!A27 -> 24 | U31: =Tabla_411965!A27 -> 24 | V31: =Tabla_411952!A27 -> 24 | W31: =Tabla_411962!A27 -> 24 | X31: =Tabla_411953!A27 -> 24 | Y31: =Tabla_411954!A27 -> 24 | Z31: =Tabla_411972!A27 -> 24 | AA31: =Tabla_411976!A27 -> 24 | AB31: =Tabla_411973!A27 -> 24 | AC31: =Tabla_411977!A27 -> 24 | AD31: DIRECCION DE ADMINISTRACION DE PERSONAL Y ORGANIZACIÓN | AE31: 45435 | AF31: SIN DATOS
A32: 2024 | B32: 45292 | C32: 45382 | D32: Personal de confianza | E32: 110907 | F32: DIRECTORA DE ÁREA | G32: DIRECTORA DE ÁREA | H32: DIRECCION DE INNOVACION EDUCATIVA, INVESTIGACION Y POSGRADO | I32: GABRIELA | J32: PALACIOS | K32: POLA | L32: Mujer | M32: =21582.98*2 -> 43165.96 | N32: PESOS | O32: =17006.88*2 -> 34013.76 | P32: PESOS | Q32: =Tabla_411974!A28 -> 25 | R32: =Tabla_411961!A28 -> 25 | S32: =Tabla_411975!A28 -> 25 | T32: =Tabla_411945!A28 -> 25 | U32: =Tabla_411965!A28 -> 25 | V32: =Tabla_411952!A28 -> 25 | W32: =Tabla_411962!A28 -> 25 | X32: =Tabla_411953!A28 -> 25 | Y32: =Tabla_411954!A28 -> 25 | Z32: =Tabla_411972!A28 -> 25 | AA32: =Tabla_411976!A28 -> 25 | AB32: =Tabla_411973!A28 -> 25 | AC32: =Tabla_411977!A28 -> 25 | AD32: DIRECCION DE ADMINISTRACION DE PERSONAL Y ORGANIZACIÓN | AE32: 45436 | AF32: SIN DATOS
A33: 2024 | B33: 45292 | C33: 45382 | D33: Personal de confianza | E33: 110907 | F33: INGENIERO EN SISTEMAS | G33: INGENIERO EN SISTEMAS | H33: DIRECCION DE INNOVACION EDUCATIVA, INVESTIGACION Y POSGRADO | I33: JUAN CARLOS | J33: HERNANDEZ | K33: CAMACHO | L33: Hombre | M33: =6762.58*2 -> 13525.16 | N33: PESOS | O33: =5918.24*2 -> 11836.48 | P33: PESOS | Q33: =Tabla_411974!A29 -> 26 | R33: =Tabla_411961!A29 -> 26 | S33: =Tabla_411975!A29 -> 26 | T33: =Tabla_411945!A29 -> 26 | U33: =Tabla_411965!A29 -> 26 | V33: =Tabla_411952!A29 -> 26 | W33: =Tabla_411962!A29 -> 26 | X33: =Tabla_411953!A29 -> 26 | Y33: =Tabla_411954!A29 -> 26 | Z33: =Tabla_411972!A29 -> 26 | AA33: =Tabla_411976!A29 -> 26 | AB33: =Tabla_411973!A29 -> 26 | AC33: =Tabla_411977!A29 -> 26 | AD33: DIRECCION DE ADMINISTRACION DE PERSONAL Y ORGANIZACIÓN | AE33: 45437 | AF33: SIN DATOS
A34: 2024 | B34: 45292 | C34: 45382 | D34: Personal de confianza | E34: 110907 | F34: DIRECTORA DE ÁREA | G34: DIRECTORA DE ÁREA | H34: DIRECCION DE SERVICIOS ACADEMICOS | I34: PATRICIA | J34: ABARCA | K34: ALFARO | L34: Mujer | M34: =27199.6*2 -> 54399.2 | N34: PESOS | O34: =20934.83*2 -> 41869.66 | P34: PESOS | Q34: =Tabla_411974!A30 -> 27 | R34: =Tabla_411961!A30 -> 27 | S34: =Tabla_411975!A30 -> 27 | T34: =Tabla_411945!A30 -> 27 | U34: =Tabla_411965!A30 -> 27 | V34: =Tabla_411952!A30 -> 27 | W34: =Tabla_411962!A30 -> 27 | X34: =Tabla_411953!A30 -> 27 | Y34: =Tabla_411954!A30 -> 27 | Z34: =Tabla_411972!A30 -> 27 | AA34: =Tabla_411976!A30 -> 27 | AB34: =Tabla_411973!A30 -> 27 | AC34: =Tabla_411977!A30 -> 27 | AD34: DIRECCION DE ADMINISTRACION DE PERSONAL Y ORGANIZACIÓN | AE34: 45438 | AF34: SIN DATOS
A35: 2024 | B35: 45292 | C35: 45382 | D35: Personal de confianza | E35: 110907 | F35: JEFA DE DEPARTAMENTO | G35: JEFA DE DEPARTAMENTO | H35: DEPARTAMENTO DE SERVICIOS ESCOLARE Y BIBLIOTECA | I35: BERENICE | J35: CASTILLEJOS | K35: VILLATORO | L35: Mujer | M35: =14017.93*2 -> 28035.86 | N35: PESOS | O35: =11425.44*2 -> 22850.88 | P35: PESOS | Q35: =Tabla_411974!A31 -> 28 | R35: =Tabla_411961!A31 -> 28 | S35: =Tabla_411975!A31 -> 28 | T35: =Tabla_411945!A31 -> 28 | U35: =Tabla_411965!A31 -> 28 | V35: =Tabla_411952!A31 -> 28 | W35: =Tabla_411962!A31 -> 28 | X35: =Tabla_411953!A31 -> 28 | Y35: =Tabla_411954!A31 -> 28 | Z35: =Tabla_411972!A31 -> 28 | AA35: =Tabla_411976!A31 -> 28 | AB35: =Tabla_411973!A31 -> 28 | AC35: =Tabla_411977!A31 -> 28 | AD35: DIRECCION DE ADMINISTRACION DE PERSONAL Y ORGANIZACIÓN | AE35: 45439 | AF35: SIN DATOS
A36: 2024 | B36: 45292 | C36: 45382 | D36: Personal de confianza | E36: 110907 | F36: COORDINADORA | G36: COORDINADORA | H36: DEPARTAMENTO DE SERVICIOS ESCOLARE Y BIBLIOTECA | I36: FLORENTINA DEL ROSARIO | J36: MAZA | K36: BORGES | L36: Mujer | M36: =8596.35*2 -> 17192.7 | N36: PESOS | O36: =7333.26*2 -> 14666.52 | P36: PESOS | Q36: =Tabla_411974!A32 -> 29 | R36: =Tabla_411961!A32 -> 29 | S36: =Tabla_411975!A32 -> 29 | T36: =Tabla_411945!A32 -> 29 | U36: =Tabla_411965!A32 -> 29 | V36: =Tabla_411952!A32 -> 29 | W36: =Tabla_411962!A32 -> 29 | X36: =Tabla_411953!A32 -> 29 | Y36: =Tabla_411954!A32 -> 29 | Z36: =Tabla_411972!A32 -> 29 | AA36: =Tabla_411976!A32 -> 29 | AB36: =Tabla_411973!A32 -> 29 | AC36: =Tabla_411977!A32 -> 29 | AD36: DIRECCION DE ADMINISTRACION DE PERSONAL Y ORGANIZACIÓN | AE36: 45440 | AF36: SIN DATOS
A37: 2024 | B37: 45292 | C37: 45382 | D37: Personal de confianza | E37: 110907 | F37: COORDINADORA | G37: COORDINADORA | H37: DEPARTAMENTO DE SERVICIOS ESCOLARE Y BIBLIOTECA | I37: EDITH | J37: PONCE | K37: RECINOS | L37: Mujer | M37: =8596.35*2 -> 17192.7 | N37: PESOS | O37: =7333.26*2 -> 14666.52 | P37: PESOS | Q37: =Tabla_411974!A33 -> 30 | R37: =Tabla_411961!A33 -> 30 | S37: =Tabla_411975!A33 -> 30 | T37: =Tabla_411945!A33 -> 30 | U37: =Tabla_411965!A33 -> 30 | V37: =Tabla_411952!A33 -> 30 | W37: =Tabla_411962!A33 -> 30 | X37: =Tabla_411953!A33 -> 30 | Y37: =Tabla_411954!A33 -> 30 | Z37: =Tabla_411972!A33 -> 30 | AA37: =Tabla_411976!A33 -> 30 | AB37: =Tabla_411973!A33 -> 30 | AC37: =Tabla_411977!A33 -> 30 | AD37: DIRECCION DE ADMINISTRACION DE PERSONAL Y ORGANIZACIÓN | AE37: 45441 | AF37: SIN DATOS
A38: 2024 | B38: 45292 | C38: 45382 | D38: Personal de confianza | E38: 110907 | F38: JEFA DE DEPARTAMENTO | G38: JEFA DE DEPARTAMENTO | H38: DIRECCION DE SERVICIOS ACADEMICOS | I38: INGRIS MAGALY | J38: SANTOS | K38: BARRIOS | L38: Mujer | M38: =14017.93*2 -> 28035.86 | N38: PESOS | O38: =11425.44*2 -> 22850.88 | P38: PESOS | Q38: =Tabla_411974!A34 -> 31 | R38: =Tabla_411961!A34 -> 31 | S38: =Tabla_411975!A34 -> 31 | T38: =Tabla_411945!A34 -> 31 | U38: =Tabla_411965!A34 -> 31 | V38: =Tabla_411952!A34 -> 31 | W38: =Tabla_411962!A34 -> 31 | X38: =Tabla_411953!A34 -> 31 | Y38: =Tabla_411954!A34 -> 31 | Z38: =Tabla_411972!A34 -> 31 | AA38: =Tabla_411976!A34 -> 31 | AB38: =Tabla_411973!A34 -> 31 | AC38: =Tabla_411977!A34 -> 31 | AD38: DIRECCION DE ADMINISTRACION DE PERSONAL Y ORGANIZACIÓN | AE38: 45442 | AF38: SIN DATOS
A39: 2024 | B39: 45292 | C39: 45382 | D39: Personal de confianza | E39: 110907 | F39: COORDINADOR | G39: COORDINADOR | H39: DEPARTAMENTO DE ATENCION INTEGRAL A LA COMUNIDAD UNIVERSITARIA Y TUTORIAS | I39: CESAR | J39: LADRON DE GUEVARA | K39: SANCHEZ | L39: Hombre | M39: =8596.35*2 -> 17192.7 | N39: PESOS | O39: =4754.61*2 -> 9509.22 | P39: PESOS | Q39: =Tabla_411974!A35 -> 32 | R39: =Tabla_411961!A35 -> 32 | S39: =Tabla_411975!A35 -> 32 | T39: =Tabla_411945!A35 -> 32 | U39: =Tabla_411965!A35 -> 32 | V39: =Tabla_411952!A35 -> 32 | W39: =Tabla_411962!A35 -> 32 | X39: =Tabla_411953!A35 -> 32 | Y39: =Tabla_411954!A35 -> 32 | Z39: =Tabla_411972!A35 -> 32 | AA39: =Tabla_411976!A35 -> 32 | AB39: =Tabla_411973!A35 -> 32 | AC39: =Tabla_411977!A35 -> 32 | AD39: DIRECCION DE ADMINISTRACION DE PERSONAL Y ORGANIZACIÓN | AE39: 45443 | AF39: SIN DATOS
A40: 2024 | B40: 45292 | C40: 45382 | D40: Personal de confianza | E40: 110907 | F40: COORDINADOR | G40: COORDINADOR | H40: DIRECCION DE INNOVACION EDUCATIVA Y POSGRADO | I40: FELIPE APOLINAR | J40: MELCHOR | K40: ANDRADE | L40: Hombre | M40: =8596.35*2 -> 17192.7 | N40: PESOS | O40: =7333.26*2 -> 14666.52 | P40: PESOS | Q40: =Tabla_411974!A36 -> 33 | R40: =Tabla_411961!A36 -> 33 | S40: =Tabla_411975!A36 -> 33 | T40: =Tabla_411945!A36 -> 33 | U40: =Tabla_411965!A36 -> 33 | V40: =Tabla_411952!A36 -> 33 | W40: =Tabla_411962!A36 -> 33 | X40: =Tabla_411953!A36 -> 33 | Y40: =Tabla_411954!A36 -> 33 | Z40: =Tabla_411972!A36 -> 33 | AA40: =Tabla_411976!A36 -> 33 | AB40: =Tabla_411973!A36 -> 33 | AC40: =Tabla_411977!A36 -> 33 | AD40: DIRECCION DE ADMINISTRACION DE PERSONAL Y ORGANIZACIÓN | AE40: 45444 | AF40: SIN DATOS
...

Sheet Hidden_1
A1: Funcionaria (o)
A2: Persona servidora pública
A3: Persona servidora pública eventual
A4: Integrante
A5: Empleada (o)
A6: Representante popular
A7: Miembro del poder judicial
A8: Miembro de órgano autónomo
A9: Personal de confianza
A10: Persona prestadora de servicios profesionales
A11: Otro

Sheet Hidden_2
A1: Hombre
A2: Mujer

Sheet Tabla_411974
B1: 2 | C1: 6 | D1: 6 | E1: 1 | F1: 1
B2: 53352 | C2: 53353 | D2: 53354 | E2: 53355 | F2: 53356
A3: ID | B3: Denominación de las percepciones adicionales en dinero | C3: Monto bruto de las percepciones adicionales en dinero | D3: Monto neto de las percepciones adicionales en dinero | E3: Tipo de moneda de las percepciones adicionales en dinero | F3: Periodicidad de las percepciones adicionales en dinero
A4: 1 | B4: NO EXISTEN PERCEPCIONES ADICIONALES | C4: 0 | D4: 0 | E4: NO EXISTEN PERCEPCIONES ADICIONALES | F4: NO EXISTEN PERCEPCIONES ADICIONALES
A5: 2 | B5: NO EXISTEN PERCEPCIONES ADICIONALES | C5: 0 | D5: 0 | E5: NO EXISTEN PERCEPCIONES ADICIONALES | F5: NO EXISTEN PERCEPCIONES ADICIONALES
A6: 3 | B6: NO EXISTEN PERCEPCIONES ADICIONALES | C6: 0 | D6: 0 | E6: NO EXISTEN PERCEPCIONES ADICIONALES | F6: NO EXISTEN PERCEPCIONES ADICIONALES
A7: 4 | B7: NO EXISTEN PERCEPCIONES ADICIONALES | C7: 0 | D7: 0 | E7: NO EXISTEN PERCEPCIONES ADICIONALES | F7: NO EXISTEN PERCEPCIONES ADICIONALES
A8: 5 | B8: NO EXISTEN PERCEPCIONES ADICIONALES | C8: 0 | D8: 0 | E8: NO EXISTEN PERCEPCIONES ADICIONALES | F8: NO EXISTEN PERCEPCIONES ADICIONALES
A9: 6 | B9: NO EXISTEN PERCEPCIONES ADICIONALES | C9: 0 | D9: 0 | E9: NO EXISTEN PERCEPCIONES ADICIONALES | F9: NO EXISTEN PERCEPCIONES ADICIONALES
A10: 7 | B10: NO EXISTEN PERCEPCIONES ADICIONALES | C10: 0 | D10: 0 | E10: NO EXISTEN PERCEPCIONES ADICIONALES | F10: NO EXISTEN PERCEPCIONES ADICIONALES
A11: 8 | B11: NO EXISTEN PERCEPCIONES ADICIONALES | C11: 0 | D11: 0 | E11: NO EXISTEN PERCEPCIONES ADICIONALES | F11: NO EXISTEN PERCEPCIONES ADICIONALES
A12: 9 | B12: NO EXISTEN PERCEPCIONES ADICIONALES | C12: 0 | D12: 0 | E12: NO EXISTEN PERCEPCIONES ADICIONALES | F12: NO EXISTEN PERCEPCIONES ADICIONALES
A13: 10 | B13: NO EXISTEN PERCEPCIONES ADICIONALES | C13: 0 | D13: 0 | E13: NO EXISTEN PERCEPCIONES ADICIONALES | F13: NO EXISTEN PERCEPCIONES ADICIONALES
A14: 11 | B14: NO EXISTEN PERCEPCIONES ADICIONALES | C14: 0 | D14: 0 | E14: NO EXISTEN PERCEPCIONES ADICIONALES | F14: NO EXISTEN PERCEPCIONES ADICIONALES
A15: 12 | B15: NO EXISTEN PERCEPCIONES ADICIONALES | C15: 0 | D15: 0 | E15: NO EXISTEN PERCEPCIONES ADICIONALES | F15: NO EXISTEN PERCEPCIONES ADICIONALES
... A130: 127 | B130: NO EXISTEN PERCEPCIONES ADICIONALES | C130: 0 | D130: 0 | E130: NO EXISTEN PERCEPCIONES ADICIONALES | F130: NO EXISTEN PERCEPCIONES ADICIONALES

Sheet Tabla_411961
B1: 2 | C1: 1
B2: 53330 | C2: 53331
A3: ID | B3: Descripción de las percepciones adicionales en especie | C3: Periodicidad de las percepciones adicionales en especie
A4: 1 | B4: NO EXISTEN PERCECIONES EN ESPECIE | C4: NO EXISTEN PERCECIONES EN ESPECIE
A5: 2 | B5: NO EXISTEN PERCECIONES EN ESPECIE | C5: NO EXISTEN PERCECIONES EN ESPECIE
A6: 3 | B6: NO EXISTEN PERCECIONES EN ESPECIE | C6: NO EXISTEN PERCECIONES EN ESPECIE
A7: 4 | B7: NO EXISTEN PERCECIONES EN ESPECIE | C7: NO EXISTEN PERCECIONES EN ESPECIE
A8: 5 | B8: NO EXISTEN PERCECIONES EN ESPECIE | C8: NO EXISTEN PERCECIONES EN ESPECIE
A9: 6 | B9: NO EXISTEN PERCECIONES EN ESPECIE | C9: NO EXISTEN PERCECIONES EN ESPECIE
A10: 7 | B10: NO EXISTEN PERCECIONES EN ESPECIE | C10: NO EXISTEN PERCECIONES EN ESPECIE
A11: 8 | B11: NO EXISTEN PERCECIONES EN ESPECIE | C11: NO EXISTEN PERCECIONES EN ESPECIE
A12: 9 | B12: NO EXISTEN PERCECIONES EN ESPECIE | C12: NO EXISTEN PERCECIONES EN ESPECIE
A13: 10 | B13: NO EXISTEN PERCECIONES EN ESPECIE | C13: NO EXISTEN PERCECIONES EN ESPECIE
A14: 11 | B14: NO EXISTEN PERCECIONES EN ESPECIE | C14: NO EXISTEN PERCECIONES EN ESPECIE
A15: 12 | B15: NO EXISTEN PERCECIONES EN ESPECIE | C15: NO EXISTEN PERCECIONES EN ESPECIE
... A130: 127 | B130: NO EXISTEN PERCECIONES EN ESPECIE | C130: NO EXISTEN PERCECIONES EN ESPECIE

Sheet Tabla_411975
B1: 2 | C1: 6 | D1: 6 | E1: 1 | F1: 1
B2: 53359 | C2: 53360 | D2: 53361 | E2: 53357 | F2: 53358
A3: ID | B3: Denominación de los ingresos | C3: Monto bruto de los ingresos | D3: Monto neto de los ingresos | E3: Tipo de moneda de los ingresos | F3: Periodicidad de los ingresos
A4: 1 | B4: NO EXISTEN INGRESOS | C4: 0 | D4: 0 | E4: NO EXISTEN INGRESOS | F4: NO EXISTEN INGRESOS
A5: 2 | B5: NO EXISTEN INGRESOS | C5: 0 | D5: 0 | E5: NO EXISTEN INGRESOS | F5: NO EXISTEN INGRESOS
A6: 3 | B6: NO EXISTEN INGRESOS | C6: 0 | D6: 0 | E6: NO EXISTEN INGRESOS | F6: NO EXISTEN INGRESOS
A7: 4 | B7: NO EXISTEN INGRESOS | C7: 0 | D7: 0 | E7: NO EXISTEN INGRESOS | F7: NO EXISTEN INGRESOS
A8: 5 | B8: NO EXISTEN INGRESOS | C8: 0 | D8: 0 | E8: NO EXISTEN INGRESOS | F8: NO EXISTEN INGRESOS
A9: 6 | B9: NO EXISTEN INGRESOS | C9: 0 | D9: 0 | E9: NO EXISTEN INGRESOS | F9: NO EXISTEN INGRESOS
A10: 7 | B10: NO EXISTEN INGRESOS | C10: 0 | D10: 0 | E10: NO EXISTEN INGRESOS | F10: NO EXISTEN INGRESOS
A11: 8 | B11: NO EXISTEN INGRESOS | C11: 0 | D11: 0 | E11: NO EXISTEN INGRESOS | F11: NO EXISTEN INGRESOS
A12: 9 | B12: NO EXISTEN INGRESOS | C12: 0 | D12: 0 | E12: NO EXISTEN INGRESOS | F12: NO EXISTEN INGRESOS
A13: 10 | B13: NO EXISTEN INGRESOS | C13: 0 | D13: 0 | E13: NO EXISTEN INGRESOS | F13: NO EXISTEN INGRESOS
A14: 11 | B14: NO EXISTEN INGRESOS | C14: 0 | D14: 0 | E14: NO EXISTEN INGRESOS | F14: NO EXISTEN INGRESOS
A15: 12 | B15: NO EXISTEN INGRESOS | C15: 0 | D15: 0 | E15: NO EXISTEN INGRESOS | F15: NO EXISTEN INGRESOS
... A130: 127 | B130: NO EXISTEN INGRESOS | C130: 0 | D130: 0 | E130: NO EXISTEN INGRESOS | F130: NO EXISTEN INGRESOS

Sheet Tabla_411945
B1: 1 | C1: 6 | D1: 6 | E1: 1 | F1: 1
B2: 53310 | C2: 53311 | D2: 53312 | E2: 53313 | F2: 53314
A3: ID | B3: Denominación de los sistemas de compensación | C3: Monto bruto de los sistemas de compensación | D3: Monto neto de los sistemas de compensación | E3: Tipo de moneda de los sistemas de compensación | F3: Periodicidad de los sistemas de compensación
A4: 1 | B4: NO EXISTEN SISTEMAS DE COMPENSACION | C4: 0 | D4: 0 | E4: NO EXISTEN SISTEMAS DE COMPENSACION | F4: NO EXISTEN SISTEMAS DE COMPENSACION
A5: 2 | B5: NO EXISTEN SISTEMAS DE COMPENSACION | C5: 0 | D5: 0 | E5: NO EXISTEN SISTEMAS DE COMPENSACION | F5: NO EXISTEN SISTEMAS DE COMPENSACION
A6: 3 | B6: NO EXISTEN SISTEMAS DE COMPENSACION | C6: 0 | D6: 0 | E6: NO EXISTEN SISTEMAS DE COMPENSACION | F6: NO EXISTEN SISTEMAS DE COMPENSACION
A7: 4 | B7: NO EXISTEN SISTEMAS DE COMPENSACION | C7: 0 | D7: 0 | E7: NO EXISTEN SISTEMAS DE COMPENSACION | F7: NO EXISTEN SISTEMAS DE COMPENSACION
A8: 5 | B8: NO EXISTEN SISTEMAS DE COMPENSACION | C8: 0 | D8: 0 | E8: NO EXISTEN SISTEMAS DE COMPENSACION | F8: NO EXISTEN SISTEMAS DE COMPENSACION
A9: 6 | B9: NO EXISTEN SISTEMAS DE COMPENSACION | C9: 0 | D9: 0 | E9: NO EXISTEN SISTEMAS DE COMPENSACION | F9: NO EXISTEN SISTEMAS DE COMPENSACION
A10: 7 | B10: NO EXISTEN SISTEMAS DE COMPENSACION | C10: 0 | D10: 0 | E10: NO EXISTEN SISTEMAS DE COMPENSACION | F10: NO EXISTEN SISTEMAS DE COMPENSACION
A11: 8 | B11: NO EXISTEN SISTEMAS DE COMPENSACION | C11: 0 | D11: 0 | E11: NO EXISTEN SISTEMAS DE COMPENSACION | F11: NO EXISTEN SISTEMAS DE COMPENSACION
A12: 9 | B12: NO EXISTEN SISTEMAS DE COMPENSACION | C12: 0 | D12: 0 | E12: NO EXISTEN SISTEMAS DE COMPENSACION | F12: NO EXISTEN SISTEMAS DE COMPENSACION
A13: 10 | B13: NO EXISTEN SISTEMAS DE COMPENSACION | C13: 0 | D13: 0 | E13: NO EXISTEN SISTEMAS DE COMPENSACION | F13: NO EXISTEN SISTEMAS DE COMPENSACION
A14: 11 | B14: NO EXISTEN SISTEMAS DE COMPENSACION | C14: 0 | D14: 0 | E14: NO EXISTEN SISTEMAS DE COMPENSACION | F14: NO EXISTEN SISTEMAS DE COMPENSACION
A15: 12 | B15: NO EXISTEN SISTEMAS DE COMPENSACION | C15: 0 | D15: 0 | E15: NO EXISTEN SISTEMAS DE COMPENSACION | F15: NO EXISTEN SISTEMAS DE COMPENSACION
... A130: 127 | B130: NO EXISTEN SISTEMAS DE COMPENSACION | C130: 0 | D130: 0 | E130: NO EXISTEN SISTEMAS DE COMPENSACION | F130: NO EXISTEN SISTEMAS DE COMPENSACION

Sheet Tabla_411965
B1: 1 | C1: 6 | D1: 6 | E1: 1 | F1: 1
B2: 53337 | C2: 53338 | D2: 53339 | E2: 53340 | F2: 53341
A3: ID | B3: Denominación de las gratificaciones | C3: Monto bruto de las gratificaciones | D3: Monto neto de las gratificaciones | E3: Tipo de moneda de las gratificaciones | F3: Periodicidad de las gratificaciones
A4: 1 | B4: NO EXISTEN GRATIFICACIONES | C4: 0 | D4: 0 | E4: NO EXISTEN GRATIFICACIONES | F4: NO EXISTEN GRATIFICACIONES
A5: 2 | B5: NO EXISTEN GRATIFICACIONES | C5: 0 | D5: 0 | E5: NO EXISTEN GRATIFICACIONES | F5: NO EXISTEN GRATIFICACIONES
A6: 3 | B6: NO EXISTEN GRATIFICACIONES | C6: 0 | D6: 0 | E6: NO EXISTEN GRATIFICACIONES | F6: NO EXISTEN GRATIFICACIONES
A7: 4 | B7: NO EXISTEN GRATIFICACIONES | C7: 0 | D7: 0 | E7: NO EXISTEN GRATIFICACIONES | F7: NO EXISTEN GRATIFICACIONES
A8: 5 | B8: NO EXISTEN GRATIFICACIONES | C8: 0 | D8: 0 | E8: NO EXISTEN GRATIFICACIONES | F8: NO EXISTEN GRATIFICACIONES
A9: 6 | B9: NO EXISTEN GRATIFICACIONES | C9: 0 | D9: 0 | E9: NO EXISTEN GRATIFICACIONES | F9: NO EXISTEN GRATIFICACIONES
A10: 7 | B10: NO EXISTEN GRATIFICACIONES | C10: 0 | D10: 0 | E10: NO EXISTEN GRATIFICACIONES | F10: NO EXISTEN GRATIFICACIONES
A11: 8 | B11: NO EXISTEN GRATIFICACIONES | C11: 0 | D11: 0 | E11: NO EXISTEN GRATIFICACIONES | F11: NO EXISTEN GRATIFICACIONES
A12: 9 | B12: NO EXISTEN GRATIFICACIONES | C12: 0 | D12: 0 | E12: NO EXISTEN GRATIFICACIONES | F12: NO EXISTEN GRATIFICACIONES
A13: 10 | B13: NO EXISTEN GRATIFICACIONES | C13: 0 | D13: 0 | E13: NO EXISTEN GRATIFICACIONES | F13: NO EXISTEN GRATIFICACIONES
A14: 11 | B14: NO EXISTEN GRATIFICACIONES | C14: 0 | D14: 0 | E14: NO EXISTEN GRATIFICACIONES | F14: NO EXISTEN GRATIFICACIONES
A15: 12 | B15: NO EXISTEN GRATIFICACIONES | C15: 0 | D15: 0 | E15: NO EXISTEN GRATIFICACIONES | F15: NO EXISTEN GRATIFICACIONES
... A130: 127 | B130: NO EXISTEN GRATIFICACIONES | C130: 0 | D130: 0 | E130: NO EXISTEN GRATIFICACIONES | F130: NO EXISTEN GRATIFICACIONES

Sheet Tabla_411952
B1: 1 | C1: 6 | D1: 6 | E1: 1 | F1: 1
B2: 53315 | C2: 53316 | D2: 53317 | E2: 53318 | F2: 53319
A3: ID | B3: Denominación de las primas | C3: Monto bruto de las primas | D3: Monto neto de las primas | E3: Tipo de moneda de las primas | F3: Periodicidad de las primas
A4: 1 | B4: NO EXISTEN PRIMAS | C4: 0 | D4: 0 | E4: NO EXISTEN PRIMAS | F4: NO EXISTEN PRIMAS
A5: 2 | B5: NO EXISTEN PRIMAS | C5: 0 | D5: 0 | E5: NO EXISTEN PRIMAS | F5: NO EXISTEN PRIMAS
A6: 3 | B6: NO EXISTEN PRIMAS | C6: 0 | D6: 0 | E6: NO EXISTEN PRIMAS | F6: NO EXISTEN PRIMAS
A7: 4 | B7: NO EXISTEN PRIMAS | C7: 0 | D7: 0 | E7: NO EXISTEN PRIMAS | F7: NO EXISTEN PRIMAS
A8: 5 | B8: NO EXISTEN PRIMAS | C8: 0 | D8: 0 | E8: NO EXISTEN PRIMAS | F8: NO EXISTEN PRIMAS
A9: 6 | B9: NO EXISTEN PRIMAS | C9: 0 | D9: 0 | E9: NO EXISTEN PRIMAS | F9: NO EXISTEN PRIMAS
A10: 7 | B10: NO EXISTEN PRIMAS | C10: 0 | D10: 0 | E10: NO EXISTEN PRIMAS | F10: NO EXISTEN PRIMAS
A11: 8 | B11: NO EXISTEN PRIMAS | C11: 0 | D11: 0 | E11: NO EXISTEN PRIMAS | F11: NO EXISTEN PRIMAS
A12: 9 | B12: NO EXISTEN PRIMAS | C12: 0 | D12: 0 | E12: NO EXISTEN PRIMAS | F12: NO EXISTEN PRIMAS
A13: 10 | B13: NO EXISTEN PRIMAS | C13: 0 | D13: 0 | E13: NO EXISTEN PRIMAS | F13: NO EXISTEN PRIMAS
A14: 11 | B14: NO EXISTEN PRIMAS | C14: 0 | D14: 0 | E14: NO EXISTEN PRIMAS | F14: NO EXISTEN PRIMAS
A15: 12 | B15: NO EXISTEN PRIMAS | C15: 0 | D15: 0 | E15: NO EXISTEN PRIMAS | F15: NO EXISTEN PRIMAS
... A130: 127 | B130: NO EXISTEN PRIMAS | C130: 0 | D130: 0 | E130: NO EXISTEN PRIMAS | F130: NO EXISTEN PRIMAS

Sheet Tabla_411962
B1: 1 | C1: 6 | D1: 6 | E1: 1 | F1: 1
B2: 53332 | C2: 53333 | D2: 53334 | E2: 53335 | F2: 53336
A3: ID | B3: Denominación de las comisiones | C3: Monto bruto de las comisiones | D3: Monto neto de las comisiones | E3: Tipo de moneda de las comisiones | F3: Periodicidad de las comisiones
A4: 1 | B4: NO EXISTEN COMISIONES | C4: 0 | D4: 0 | E4: NO EXISTEN COMISIONES | F4: NO EXISTEN COMISIONES
A5: 2 | B5: NO EXISTEN COMISIONES | C5: 0 | D5: 0 | E5: NO EXISTEN COMISIONES | F5: NO EXISTEN COMISIONES
A6: 3 | B6: NO EXISTEN COMISIONES | C6: 0 | D6: 0 | E6: NO EXISTEN COMISIONES | F6: NO EXISTEN COMISIONES
A7: 4 | B7: NO EXISTEN COMISIONES | C7: 0 | D7: 0 | E7: NO EXISTEN COMISIONES | F7: NO EXISTEN COMISIONES
A8: 5 | B8: NO EXISTEN COMISIONES | C8: 0 | D8: 0 | E8: NO EXISTEN COMISIONES | F8: NO EXISTEN COMISIONES
A9: 6 | B9: NO EXISTEN COMISIONES | C9: 0 | D9: 0 | E9: NO EXISTEN COMISIONES | F9: NO EXISTEN COMISIONES
A10: 7 | B10: NO EXISTEN COMISIONES | C10: 0 | D10: 0 | E10: NO EXISTEN COMISIONES | F10: NO EXISTEN COMISIONES
A11: 8 | B11: NO EXISTEN COMISIONES | C11: 0 | D11: 0 | E11: NO EXISTEN COMISIONES | F11: NO EXISTEN COMISIONES
A12: 9 | B12: NO EXISTEN COMISIONES | C12: 0 | D12: 0 | E12: NO EXISTEN COMISIONES | F12: NO EXISTEN COMISIONES
A13: 10 | B13: NO EXISTEN COMISIONES | C13: 0 | D13: 0 | E13: NO EXISTEN COMISIONES | F13: NO EXISTEN COMISIONES
A14: 11 | B14: NO EXISTEN COMISIONES | C14: 0 | D14: 0 | E14: NO EXISTEN COMISIONES | F14: NO EXISTEN COMISIONES
A15: 12 | B15: NO EXISTEN COMISIONES | C15: 0 | D15: 0 | E15: NO EXISTEN COMISIONES | F15: NO EXISTEN COMISIONES
... A130: 127 | B130: NO EXISTEN COMISIONES | C130: 0 | D130: 0 | E130: NO EXISTEN COMISIONES | F130: NO EXISTEN COMISIONES

Sheet Tabla_411953
B1: 1 | C1: 6 | D1: 6 | E1: 1 | F1: 1
B2: 53320 | C2: 53321 | D2: 53322 | E2: 53323 | F2: 53324
A3: ID | B3: Denominación de las dietas | C3: Monto bruto de las dietas | D3: Monto neto de las dietas | E3: Tipo de moneda de las dietas | F3: Periodicidad de las dietas
A4: 1 | B4: NO EXISTEN DIETAS | C4: 0 | D4: 0 | E4: NO EXISTEN DIETAS | F4: NO EXISTEN DIETAS
A5: 2 | B5: NO EXISTEN DIETAS | C5: 0 | D5: 0 | E5: NO EXISTEN DIETAS | F5: NO EXISTEN DIETAS
A6: 3 | B6: NO EXISTEN DIETAS | C6: 0 | D6: 0 | E6: NO EXISTEN DIETAS | F6: NO EXISTEN DIETAS
A7: 4 | B7: NO EXISTEN DIETAS | C7: 0 | D7: 0 | E7: NO EXISTEN DIETAS | F7: NO EXISTEN DIETAS
A8: 5 | B8: NO EXISTEN DIETAS | C8: 0 | D8: 0 | E8: NO EXISTEN DIETAS | F8: NO EXISTEN DIETAS
A9: 6 | B9: NO EXISTEN DIETAS | C9: 0 | D9: 0 | E9: NO EXISTEN DIETAS | F9: NO EXISTEN DIETAS
A10: 7 | B10: NO EXISTEN DIETAS | C10: 0 | D10: 0 | E10: NO EXISTEN DIETAS | F10: NO EXISTEN DIETAS
A11: 8 | B11: NO EXISTEN DIETAS | C11: 0 | D11: 0 | E11: NO EXISTEN DIETAS | F11: NO EXISTEN DIETAS
A12: 9 | B12: NO EXISTEN DIETAS | C12: 0 | D12: 0 | E12: NO EXISTEN DIETAS | F12: NO EXISTEN DIETAS
A13: 10 | B13: NO EXISTEN DIETAS | C13: 0 | D13: 0 | E13: NO EXISTEN DIETAS | F13: NO EXISTEN DIETAS
A14: 11 | B14: NO EXISTEN DIETAS | C14: 0 | D14: 0 | E14: NO EXISTEN DIETAS | F14: NO EXISTEN DIETAS
A15: 12 | B15: NO EXISTEN DIETAS | C15: 0 | D15: 0 | E15: NO EXISTEN DIETAS | F15: NO EXISTEN DIETAS
... A130: 127 | B130: NO EXISTEN DIETAS | C130: 0 | D130: 0 | E130: NO EXISTEN DIETAS | F130: NO EXISTEN DIETAS

Sheet Tabla_411954
B1: 1 | C1: 6 | D1: 6 | E1: 1 | F1: 1
B2: 53325 | C2: 53326 | D2: 53327 | E2: 53328 | F2: 53329
A3: ID | B3: Denominación de los bonos | C3: Monto bruto de los bonos | D3: Monto neto de los bonos | E3: Tipo de moneda de los bonos | F3: Periodicidad de los bonos
A4: 1 | B4: NO EXISTEN BONOS | C4: 0 | D4: 0 | E4: NO EXISTEN BONOS | F4: NO EXISTEN BONOS
A5: 2 | B5: NO EXISTEN BONOS | C5: 0 | D5: 0 | E5: NO EXISTEN BONOS | F5: NO EXISTEN BONOS
A6: 3 | B6: NO EXISTEN BONOS | C6: 0 | D6: 0 | E6: NO EXISTEN BONOS | F6: NO EXISTEN BONOS
A7: 4 | B7: NO EXISTEN BONOS | C7: 0 | D7: 0 | E7: NO EXISTEN BONOS | F7: NO EXISTEN BONOS
A8: 5 | B8: NO EXISTEN BONOS | C8: 0 | D8: 0 | E8: NO EXISTEN BONOS | F8: NO EXISTEN BONOS
A9: 6 | B9: NO EXISTEN BONOS | C9: 0 | D9: 0 | E9: NO EXISTEN BONOS | F9: NO EXISTEN BONOS
A10: 7 | B10: NO EXISTEN BONOS | C10: 0 | D10: 0 | E10: NO EXISTEN BONOS | F10: NO EXISTEN BONOS
A11: 8 | B11: NO EXISTEN BONOS | C11: 0 | D11: 0 | E11: NO EXISTEN BONOS | F11: NO EXISTEN BONOS
A12: 9 | B12: NO EXISTEN BONOS | C12: 0 | D12: 0 | E12: NO EXISTEN BONOS | F12: NO EXISTEN BONOS
A13: 10 | B13: NO EXISTEN BONOS | C13: 0 | D13: 0 | E13: NO EXISTEN BONOS | F13: NO EXISTEN BONOS
A14: 11 | B14: NO EXISTEN BONOS | C14: 0 | D14: 0 | E14: NO EXISTEN BONOS | F14: NO EXISTEN BONOS
A15: 12 | B15: NO EXISTEN BONOS | C15: 0 | D15: 0 | E15: NO EXISTEN BONOS | F15: NO EXISTEN BONOS
... A130: 127 | B130: NO EXISTEN BONOS | C130: 0 | D130: 0 | E130: NO EXISTEN BONOS | F130: NO EXISTEN BONOS

Sheet Tabla_411972
B1: 1 | C1: 6 | D1: 6 | E1: 1 | F1: 1
B2: 53342 | C2: 53343 | D2: 53344 | E2: 53345 | F2: 53346
A3: ID | B3: Denominación de los estímulos | C3: Monto bruto de los estímulos | D3: Monto neto de los estímulos | E3: Tipo de moneda de los estímulos | F3: Periodicidad de los estímulos
A4: 1 | B4: NO EXISTEN ESTIMULOS | C4: 0 | D4: 0 | E4: NO EXISTEN ESTIMULOS | F4: NO EXISTEN ESTIMULOS
A5: 2 | B5: NO EXISTEN ESTIMULOS | C5: 0 | D5: 0 | E5: NO EXISTEN ESTIMULOS | F5: NO EXISTEN ESTIMULOS
A6: 3 | B6: NO EXISTEN ESTIMULOS | C6: 0 | D6: 0 | E6: NO EXISTEN ESTIMULOS | F6: NO EXISTEN ESTIMULOS
A7: 4 | B7: NO EXISTEN ESTIMULOS | C7: 0 | D7: 0 | E7: NO EXISTEN ESTIMULOS | F7: NO EXISTEN ESTIMULOS
A8: 5 | B8: NO EXISTEN ESTIMULOS | C8: 0 | D8: 0 | E8: NO EXISTEN ESTIMULOS | F8: NO EXISTEN ESTIMULOS
A9: 6 | B9: NO EXISTEN ESTIMULOS | C9: 0 | D9: 0 | E9: NO EXISTEN ESTIMULOS | F9: NO EXISTEN ESTIMULOS
A10: 7 | B10: NO EXISTEN ESTIMULOS | C10: 0 | D10: 0 | E10: NO EXISTEN ESTIMULOS | F10: NO EXISTEN ESTIMULOS
A11: 8 | B11: NO EXISTEN ESTIMULOS | C11: 0 | D11: 0 | E11: NO EXISTEN ESTIMULOS | F11: NO EXISTEN ESTIMULOS
A12: 9 | B12: NO EXISTEN ESTIMULOS | C12: 0 | D12: 0 | E12: NO EXISTEN ESTIMULOS | F12: NO EXISTEN ESTIMULOS
A13: 10 | B13: NO EXISTEN ESTIMULOS | C13: 0 | D13: 0 | E13: NO EXISTEN ESTIMULOS | F13: NO EXISTEN ESTIMULOS
A14: 11 | B14: NO EXISTEN ESTIMULOS | C14: 0 | D14: 0 | E14: NO EXISTEN ESTIMULOS | F14: NO EXISTEN ESTIMULOS
A15: 12 | B15: NO EXISTEN ESTIMULOS | C15: 0 | D15: 0 | E15: NO EXISTEN ESTIMULOS | F15: NO EXISTEN ESTIMULOS
... A130: 127 | B130: NO EXISTEN ESTIMULOS | C130: 0 | D130: 0 | E130: NO EXISTEN ESTIMULOS | F130: NO EXISTEN ESTIMULOS

Sheet Tabla_411976
B1: 1 | C1: 6 | D1: 6 | E1: 1 | F1: 1
B2: 53362 | C2: 53363 | D2: 53364 | E2: 53365 | F2: 53366
A3: ID | B3: Denominación de los apoyos económicos | C3: Monto bruto de los apoyos económicos | D3: Monto neto de los apoyos económicos | E3: Tipo de moneda de los apoyos económicos | F3: Periodicidad de los apoyos económicos
A4: 1 | B4: NO EXISTEN APOYOS ECONOMICOS | C4: 0 | D4: 0 | E4: NO EXISTEN APOYOS ECONOMICOS | F4: NO EXISTEN APOYOS ECONOMICOS
A5: 2 | B5: NO EXISTEN APOYOS ECONOMICOS | C5: 0 | D5: 0 | E5: NO EXISTEN APOYOS ECONOMICOS | F5: NO EXISTEN APOYOS ECONOMICOS
A6: 3 | B6: NO EXISTEN APOYOS ECONOMICOS | C6: 0 | D6: 0 | E6: NO EXISTEN APOYOS ECONOMICOS | F6: NO EXISTEN APOYOS ECONOMICOS
A7: 4 | B7: NO EXISTEN APOYOS ECONOMICOS | C7: 0 | D7: 0 | E7: NO EXISTEN APOYOS ECONOMICOS | F7: NO EXISTEN APOYOS ECONOMICOS
A8: 5 | B8: NO EXISTEN APOYOS ECONOMICOS | C8: 0 | D8: 0 | E8: NO EXISTEN APOYOS ECONOMICOS | F8: NO EXISTEN APOYOS ECONOMICOS
A9: 6 | B9: NO EXISTEN APOYOS ECONOMICOS | C9: 0 | D9: 0 | E9: NO EXISTEN APOYOS ECONOMICOS | F9: NO EXISTEN APOYOS ECONOMICOS
A10: 7 | B10: NO EXISTEN APOYOS ECONOMICOS | C10: 0 | D10: 0 | E10: NO EXISTEN APOYOS ECONOMICOS | F10: NO EXISTEN APOYOS ECONOMICOS
A11: 8 | B11: NO EXISTEN APOYOS ECONOMICOS | C11: 0 | D11: 0 | E11: NO EXISTEN APOYOS ECONOMICOS | F11: NO EXISTEN APOYOS ECONOMICOS
A12: 9 | B12: NO EXISTEN APOYOS ECONOMICOS | C12: 0 | D12: 0 | E12: NO EXISTEN APOYOS ECONOMICOS | F12: NO EXISTEN APOYOS ECONOMICOS
A13: 10 | B13: NO EXISTEN APOYOS ECONOMICOS | C13: 0 | D13: 0 | E13: NO EXISTEN APOYOS ECONOMICOS | F13: NO EXISTEN APOYOS ECONOMICOS
A14: 11 | B14: NO EXISTEN APOYOS ECONOMICOS | C14: 0 | D14: 0 | E14: NO EXISTEN APOYOS ECONOMICOS | F14: NO EXISTEN APOYOS ECONOMICOS
A15: 12 | B15: NO EXISTEN APOYOS ECONOMICOS | C15: 0 | D15: 0 | E15: NO EXISTEN APOYOS ECONOMICOS | F15: NO EXISTEN APOYOS ECONOMICOS
... A130: 127 | B130: NO EXISTEN APOYOS ECONOMICOS | C130: 0 | D130: 0 | E130: NO EXISTEN APOYOS ECONOMICOS | F130: NO EXISTEN APOYOS ECONOMICOS

Sheet Tabla_411973
B1: 1 | C1: 6 | D1: 6 | E1: 1 | F1: 1
B2: 53347 | C2: 53348 | D2: 53349 | E2: 53350 | F2: 53351
A3: ID | B3: Denominación de las prestaciones económicas | C3: Monto bruto de las prestaciones económicas | D3: Monto neto de las prestaciones económicas | E3: Tipo de moneda de las prestaciones económicas | F3: Periodicidad de las prestaciones económicas
A4: 1 | B4: NO EXISTEN PRESTACIONES ECONOMICAS | C4: 0 | D4: 0 | E4: NO EXISTEN PRESTACIONES ECONOMICAS | F4: NO EXISTEN PRESTACIONES ECONOMICAS
A5: 2 | B5: NO EXISTEN PRESTACIONES ECONOMICAS | C5: 0 | D5: 0 | E5: NO EXISTEN PRESTACIONES ECONOMICAS | F5: NO EXISTEN PRESTACIONES ECONOMICAS
A6: 3 | B6: NO EXISTEN PRESTACIONES ECONOMICAS | C6: 0 | D6: 0 | E6: NO EXISTEN PRESTACIONES ECONOMICAS | F6: NO EXISTEN PRESTACIONES ECONOMICAS
A7: 4 | B7: NO EXISTEN PRESTACIONES ECONOMICAS | C7: 0 | D7: 0 | E7: NO EXISTEN PRESTACIONES ECONOMICAS | F7: NO EXISTEN PRESTACIONES ECONOMICAS
A8: 5 | B8: NO EXISTEN PRESTACIONES ECONOMICAS | C8: 0 | D8: 0 | E8: NO EXISTEN PRESTACIONES ECONOMICAS | F8: NO EXISTEN PRESTACIONES ECONOMICAS
A9: 6 | B9: NO EXISTEN PRESTACIONES ECONOMICAS | C9: 0 | D9: 0 | E9: NO EXISTEN PRESTACIONES ECONOMICAS | F9: NO EXISTEN PRESTACIONES ECONOMICAS
A10: 7 | B10: NO EXISTEN PRESTACIONES ECONOMICAS | C10: 0 | D10: 0 | E10: NO EXISTEN PRESTACIONES ECONOMICAS | F10: NO EXISTEN PRESTACIONES ECONOMICAS
A11: 8 | B11: NO EXISTEN PRESTACIONES ECONOMICAS | C11: 0 | D11: 0 | E11: NO EXISTEN PRESTACIONES ECONOMICAS | F11: NO EXISTEN PRESTACIONES ECONOMICAS
A12: 9 | B12: NO EXISTEN PRESTACIONES ECONOMICAS | C12: 0 | D12: 0 | E12: NO EXISTEN PRESTACIONES ECONOMICAS | F12: NO EXISTEN PRESTACIONES ECONOMICAS
A13: 10 | B13: NO EXISTEN PRESTACIONES ECONOMICAS | C13: 0 | D13: 0 | E13: NO EXISTEN PRESTACIONES ECONOMICAS | F13: NO EXISTEN PRESTACIONES ECONOMICAS
A14: 11 | B14: NO EXISTEN PRESTACIONES ECONOMICAS | C14: 0 | D14: 0 | E14: NO EXISTEN PRESTACIONES ECONOMICAS | F14: NO EXISTEN PRESTACIONES ECONOMICAS
A15: 12 | B15: NO EXISTEN PRESTACIONES ECONOMICAS | C15: 0 | D15: 0 | E15: NO EXISTEN PRESTACIONES ECONOMICAS | F15: NO EXISTEN PRESTACIONES ECONOMICAS
... A130: 127 | B130: NO EXISTEN PRESTACIONES ECONOMICAS | C130: 0 | D130: 0 | E130: NO EXISTEN PRESTACIONES ECONOMICAS | F130: NO EXISTEN PRESTACIONES ECONOMICAS

Sheet Tabla_411977
B1: 1 | C1: 1
B2: 53367 | C2: 53368
A3: ID | B3: Descripción de las prestaciones en especie | C3: Periodicidad de las prestaciones en especie
A4: 1 | B4: NO EXISTEN PRESTACIONES EN ESPECIE | C4: NO EXISTEN PRESTACIONES EN ESPECIE
A5: 2 | B5: NO EXISTEN PRESTACIONES EN ESPECIE | C5: NO EXISTEN PRESTACIONES EN ESPECIE
A6: 3 | B6: NO EXISTEN PRESTACIONES EN ESPECIE | C6: NO EXISTEN PRESTACIONES EN ESPECIE
A7: 4 | B7: NO EXISTEN PRESTACIONES EN ESPECIE | C7: NO EXISTEN PRESTACIONES EN ESPECIE
A8: 5 | B8: NO EXISTEN PRESTACIONES EN ESPECIE | C8: NO EXISTEN PRESTACIONES EN ESPECIE
A9: 6 | B9: NO EXISTEN PRESTACIONES EN ESPECIE | C9: NO EXISTEN PRESTACIONES EN ESPECIE
A10: 7 | B10: NO EXISTEN PRESTACIONES EN ESPECIE | C10: NO EXISTEN PRESTACIONES EN ESPECIE
A11: 8 | B11: NO EXISTEN PRESTACIONES EN ESPECIE | C11: NO EXISTEN PRESTACIONES EN ESPECIE
A12: 9 | B12: NO EXISTEN PRESTACIONES EN ESPECIE | C12: NO EXISTEN PRESTACIONES EN ESPECIE
A13: 10 | B13: NO EXISTEN PRESTACIONES EN ESPECIE | C13: NO EXISTEN PRESTACIONES EN ESPECIE
A14: 11 | B14: NO EXISTEN PRESTACIONES EN ESPECIE | C14: NO EXISTEN PRESTACIONES EN ESPECIE
A15: 12 | B15: NO EXISTEN PRESTACIONES EN ESPECIE | C15: NO EXISTEN PRESTACIONES EN ESPECIE
... A130: 127 | B130: NO EXISTEN PRESTACIONES EN ESPECIE | C130: NO EXISTEN PRESTACIONES EN ESPECIE
