Workbook
Name Hidden_13: Hidden_1!$A$1:$A$11
Name Hidden_211: Hidden_2!$A$1:$A$2
Name Hidden_312: Hidden_3!$A$1:$A$2

Sheet Reporte de Formatos
A1: 47605
A2: TÍTULO | D2: NOMBRE CORTO | G2: DESCRIPCIÓN
A3: Remuneración bruta y neta | D3: 18LTAIPECHF8 | G3: La información relativa a la remuneración mensual bruta y neta de conformidad con el tabulador de sueldos y salarios aplicable a cada sujeto obligado, así como todos los conceptos que sean adicionales y distintos a las remuneraciones, especificando la periodicidad con que se otorga cada uno de éstos (quincenal, mensual, semestral, anual, por única ocasión, etcétera)
A4: 1 | B4: 4 | C4: 4 | D4: 9 | E4: 1 | F4: 2 | G4: 2 | H4: 2 | I4: 1 | J4: 1 | K4: 1 | L4: 9 | M4: 9 | N4: 6 | O4: 1 | P4: 6 | Q4: 1 | R4: 10 | S4: 10 | T4: 10 | U4: 10 | V4: 10 | W4: 10 | X4: 10 | Y4: 10 | Z4: 10 | AA4: 10 | AB4: 10 | AC4: 10 | AD4: 10 | AE4: 2 | AF4: 4 | AG4: 13 | AH4: 14
A5: 411955 | B5: 411967 | C5: 411947 | D5: 411968 | E5: 411969 | F5: 411950 | G5: 411956 | H5: 411957 | I5: 411958 | J5: 411951 | K5: 411948 | L5: 411959 | M5: 570349 | N5: 411970 | O5: 411971 | P5: 411960 | Q5: 411949 | R5: 411974 | S5: 411961 | T5: 411975 | U5: 411945 | V5: 411965 | W5: 411952 | X5: 411962 | Y5: 411953 | Z5: 411954 | AA5: 411972 | AB5: 411976 | AC5: 411973 | AD5: 411977 | AE5: 411963 | AF5: 411964 | AG5: 411966 | AH5: 411946
A6: Tabla Campos
A7: Ejercicio | B7: Fecha de inicio del periodo que se informa | C7: Fecha de término del periodo que se informa | D7: Tipo de integrante del sujeto obligado (catálogo) | E7: Clave o nivel del puesto | F7: Denominación o descripción del puesto (Redactados con perspectiva de género) | G7: Denominación del cargo | H7: Área de adscripción | I7: Nombre (s) | J7: Primer apellido | K7: Segundo apellido | L7: ESTE CRITERIO APLICA PARA EJERCICIOS ANTERIORES AL 01/04/2023 -> Sexo (catálogo) | M7: ESTE CRITERIO APLICA A PARTIR DEL 01/04/2023 -> Sexo (catálogo ) | N7: Monto mensual bruto de la remuneración, en tabulador | O7: Tipo de moneda de la remuneración bruta | P7: Monto mensual neto de la remuneración, en tabulador | Q7: Tipo de moneda de la remuneración neta | R7: Percepciones adicionales en dinero, Monto bruto y neto, tipo de moneda y su periodicidad Tabla_411974 | S7: Percepciones adicionales en especie y su periodicidad Tabla_411961 | T7: Ingresos, monto bruto y neto, tipo de moneda y su periodicidad Tabla_411975 | U7: Sistemas de compensación, monto bruto y neto, tipo de moneda y su periodicidad Tabla_411945 | V7: Gratificaciones, monto bruto y neto, tipo de moneda y su periodicidad Tabla_411965 | W7: Primas, monto bruto y neto, tipo de moneda y su periodicidad Tabla_411952 | X7: Comisiones, monto bruto y neto, tipo de moneda y su periodicidad Tabla_411962 | Y7: Dietas, monto bruto y neto, tipo de moneda y su periodicidad Tabla_411953 | Z7: Bonos, monto bruto y neto, tipo de moneda y su periodicidad Tabla_411954 | AA7: Estímulos, monto bruto y neto, tipo de moneda y su periodicidad Tabla_411972 | AB7: Apoyos económicos, monto bruto y neto, tipo de moneda y su periodicidad Tabla_411976 | AC7: Prestaciones económicas, monto bruto y neto, tipo de moneda y su periodicidad Tabla_411973 | AD7: Prestaciones en especie y su periodicidad Tabla_411977 | AE7: Área(s) responsable(s) que genera(n), posee(n), publica(n) y actualizan la información | AF7: Fecha de validación | AG7: Fecha de Actualización | AH7: Nota
A8: 2023 | B8: 45108 | C8: 45169 | D8: Servidor(a) público(a) | E8: A001 | F8: =VLOOKUP(E8,[1]CATEGORÍA!$A$2:$B$83,2,0) -> DIRECTOR GENERAL | G8: DIRECTOR GENERAL | H8: 1000 | I8: SANDRO | J8: HERNANDEZ | K8: PIÑON | L8: Masculino | M8: Hombre | N8: 37290.85 | O8: 37290.85 | P8: 27735.57 | Q8: 27735.57 | R8: 1 | S8: 1 | T8: 1 | U8: 1 | V8: 1 | W8: 1 | X8: 1 | Y8: 1 | Z8: 1 | AA8: 1 | AB8: 1 | AC8: 1 | AD8: 1 | AE8: RECURSOS HUMANOS | AF8: 45169 | AG8: 45169 | AH8: ND
A9: 2023 | B9: 45108 | C9: 45169 | D9: Servidor(a) público(a) | E9: A002 | F9: =VLOOKUP(E9,[1]CATEGORÍA!$A$2:$B$83,2,0) -> DIRECTOR DE AREA | G9: DIRECTOR DE AREA | H9: 1000 | I9: MARIA GUADALUPE | J9: VARGAS | K9: AMORES | L9: Femenino | M9: Mujer | N9: 28170.1 | O9: 28170.1 | P9: 16816.87 | Q9: 17022.97 | R9: 2 | S9: 2 | T9: 2 | U9: 2 | V9: 2 | W9: 2 | X9: 2 | Y9: 2 | Z9: 2 | AA9: 2 | AB9: 2 | AC9: 2 | AD9: 2 | AE9: RECURSOS HUMANOS | AF9: 45169 | AG9: 45169 | AH9: ND
A10: 2023 | B10: 45108 | C10: 45169 | D10: Servidor(a) público(a) | E10: A002 | F10: =VLOOKUP(E10,[1]CATEGORÍA!$A$2:$B$83,2,0) -> DIRECTOR DE AREA | G10: DIRECTOR DE AREA | H10: 1000 | I10: ALEXANDRA MAGNOLIA | J10: FIGUEROA | K10: EWANCHYNA | L10: Femenino | M10: Mujer | N10: 28170.1 | O10: 28170.1 | P10: 21351.05 | Q10: 21351.05 | R10: 3 | S10: 3 | T10: 3 | U10: 3 | V10: 3 | W10: 3 | X10: 3 | Y10: 3 | Z10: 3 | AA10: 3 | AB10: 3 | AC10: 3 | AD10: 3 | AE10: RECURSOS HUMANOS | AF10: 45169 | AG10: 45169 | AH10: ND
A11: 2023 | B11: 45108 | C11: 45169 | D11: Servidor(a) público(a) | E11: A002 | F11: =VLOOKUP(E11,[1]CATEGORÍA!$A$2:$B$83,2,0) -> DIRECTOR DE AREA | G11: DIRECTOR DE AREA | H11: 1000 | I11: USLEY | J11: LOPEZ | K11: MARTINEZ | L11: Masculino | M11: Hombre | N11: 28170.1 | O11: 28170.1 | P11: 21351.05 | Q11: 21351.05 | R11: 4 | S11: 4 | T11: 4 | U11: 4 | V11: 4 | W11: 4 | X11: 4 | Y11: 4 | Z11: 4 | AA11: 4 | AB11: 4 | AC11: 4 | AD11: 4 | AE11: RECURSOS HUMANOS | AF11: 45169 | AG11: 45169 | AH11: ND
A12: 2023 | B12: 45108 | C12: 45169 | D12: Servidor(a) público(a) | E12: A002 | F12: =VLOOKUP(E12,[1]CATEGORÍA!$A$2:$B$83,2,0) -> DIRECTOR DE AREA | G12: DIRECTOR DE AREA | H12: 1000 | I12: ODILON ALBERTO | J12: GONZALEZ | K12: ESPONDA | L12: Masculino | M12: Hombre | N12: 28170.1 | O12: 28170.1 | P12: 21351.05 | Q12: 21351.05 | R12: 5 | S12: 5 | T12: 5 | U12: 5 | V12: 5 | W12: 5 | X12: 5 | Y12: 5 | Z12: 5 | AA12: 5 | AB12: 5 | AC12: 5 | AD12: 5 | AE12: RECURSOS HUMANOS | AF12: 45169 | AG12: 45169 | AH12: ND
A13: 2023 | B13: 45108 | C13: 45169 | D13: Servidor(a) público(a) | E13: A003 | F13: =VLOOKUP(E13,[1]CATEGORÍA!$A$2:$B$83,2,0) -> JEFE DE DEPARTAMENTO | G13: JEFE DE DEPARTAMENTO | H13: 1000 | I13: MARIA JOSE | J13: NOBLE | K13: CASTILLEJOS | L13: Femenino | M13: Mujer | N13: 20068 | O13: 20068 | P13: 14139.63 | Q13: 14301.89 | R13: 6 | S13: 6 | T13: 6 | U13: 6 | V13: 6 | W13: 6 | X13: 6 | Y13: 6 | Z13: 6 | AA13: 6 | AB13: 6 | AC13: 6 | AD13: 6 | AE13: RECURSOS HUMANOS | AF13: 45169 | AG13: 45169 | AH13: ND
A14: 2023 | B14: 45108 | C14: 45169 | D14: Servidor(a) público(a) | E14: A003 | F14: =VLOOKUP(E14,[1]CATEGORÍA!$A$2:$B$83,2,0) -> JEFE DE DEPARTAMENTO | G14: JEFE DE DEPARTAMENTO | H14: 1000 | I14: EIMAR | J14: DOMINGUEZ | K14: MORENO | L14: Masculino | M14: Hombre | N14: 20068 | O14: 20068 | P14: 14649.05 | Q14: 14696.82 | R14: 7 | S14: 7 | T14: 7 | U14: 7 | V14: 7 | W14: 7 | X14: 7 | Y14: 7 | Z14: 7 | AA14: 7 | AB14: 7 | AC14: 7 | AD14: 7 | AE14: RECURSOS HUMANOS | AF14: 45169 | AG14: 45169 | AH14: ND
A15: 2023 | B15: 45108 | C15: 45169 | D15: Servidor(a) público(a) | E15: A003 | F15: =VLOOKUP(E15,[1]CATEGORÍA!$A$2:$B$83,2,0) -> JEFE DE DEPARTAMENTO | G15: JEFE DE DEPARTAMENTO | H15: 1000 | I15: MARIA DE JESUS | J15: VELAZQUEZ | K15: HERNANDEZ | L15: Femenino | M15: Mujer | N15: 20068 | O15: 20068 | P15: 14648.53 | Q15: 14682.95 | R15: 8 | S15: 8 | T15: 8 | U15: 8 | V15: 8 | W15: 8 | X15: 8 | Y15: 8 | Z15: 8 | AA15: 8 | AB15: 8 | AC15: 8 | AD15: 8 | AE15: RECURSOS HUMANOS | AF15: 45169 | AG15: 45169 | AH15: ND
A16: 2023 | B16: 45108 | C16: 45169 | D16: Servidor(a) público(a) | E16: A003 | F16: =VLOOKUP(E16,[1]CATEGORÍA!$A$2:$B$83,2,0) -> JEFE DE DEPARTAMENTO | G16: JEFE DE DEPARTAMENTO | H16: 1000 | I16: MANUEL ENRIQUE | J16: ARROYO | K16: DOMINGUEZ | L16: Masculino | M16: Hombre | N16: 20068 | O16: 20068 | P16: 14650.39 | Q16: 14809.32 | R16: 9 | S16: 9 | T16: 9 | U16: 9 | V16: 9 | W16: 9 | X16: 9 | Y16: 9 | Z16: 9 | AA16: 9 | AB16: 9 | AC16: 9 | AD16: 9 | AE16: RECURSOS HUMANOS | AF16: 45169 | AG16: 45169 | AH16: ND
A17: 2023 | B17: 45108 | C17: 45169 | D17: Servidor(a) público(a) | E17: A003 | F17: =VLOOKUP(E17,[1]CATEGORÍA!$A$2:$B$83,2,0) -> JEFE DE DEPARTAMENTO | G17: JEFE DE DEPARTAMENTO | H17: 1000 | I17: STEPHANIE | J17: CALVO | K17: FLORES | L17: Femenino | M17: Mujer | N17: 20068 | O17: 20068 | P17: 15451.54 | Q17: 15483.34 | R17: 10 | S17: 10 | T17: 10 | U17: 10 | V17: 10 | W17: 10 | X17: 10 | Y17: 10 | Z17: 10 | AA17: 10 | AB17: 10 | AC17: 10 | AD17: 10 | AE17: RECURSOS HUMANOS | AF17: 45169 | AG17: 45169 | AH17: ND
A18: 2023 | B18: 45108 | C18: 45169 | D18: Servidor(a) público(a) | E18: A003 | F18: =VLOOKUP(E18,[1]CATEGORÍA!$A$2:$B$83,2,0) -> JEFE DE DEPARTAMENTO | G18: JEFE DE DEPARTAMENTO | H18: 1000 | I18: DANIEL MARTIN | J18: GOMEZ | K18: ASTURIAS | L18: Masculino | M18: Hombre | N18: 20068 | O18: 20068 | P18: 15782.71 | Q18: 15828.39 | R18: 11 | S18: 11 | T18: 11 | U18: 11 | V18: 11 | W18: 11 | X18: 11 | Y18: 11 | Z18: 11 | AA18: 11 | AB18: 11 | AC18: 11 | AD18: 11 | AE18: RECURSOS HUMANOS | AF18: 45169 | AG18: 45169 | AH18: ND
A19: 2023 | B19: 45108 | C19: 45169 | D19: Servidor(a) público(a) | E19: A003 | F19: =VLOOKUP(E19,[1]CATEGORÍA!$A$2:$B$83,2,0) -> JEFE DE DEPARTAMENTO | G19: JEFE DE DEPARTAMENTO | H19: 1000 | I19: JUAN RAMON ELIAS | J19: MARROQUIN | K19: FLORES | L19: Masculino | M19: Hombre | N19: 20068 | O19: 20068 | P19: 15592.53 | Q19: 15638.21 | R19: 12 | S19: 12 | T19: 12 | U19: 12 | V19: 12 | W19: 12 | X19: 12 | Y19: 12 | Z19: 12 | AA19: 12 | AB19: 12 | AC19: 12 | AD19: 12 | AE19: RECURSOS HUMANOS | AF19: 45169 | AG19: 45169 | AH19: ND
... A196: 2023 | B196: 45108 | C196: 45169 | D196: Servidor(a) público(a) | E196: A010 | F196: =VLOOKUP(E196,[1]CATEGORÍA!$A$2:$B$83,2,0) -> JEFE DE OFICINA | G196: JEFE DE OFICINA | H196: 2034 | I196: YANET | J196: MORALES | K196: GAMBOA | L196: Femenino | M196: Mujer | N196: 7867.6 | O196: 7867.6 | P196: 5611.66 | Q196: 5565.56 | R196: 189 | S196: 189 | T196: 189 | U196: 189 | V196: 189 | W196: 189 | X196: 189 | Y196: 189 | Z196: 189 | AA196: 189 | AB196: 189 | AC196: 189 | AD196: 189 | AE196: RECURSOS HUMANOS | AF196: 45169 | AG196: 45169 | AH196: ND
A197: 2023 | B197: 45108 | C197: 45169 | D197: Servidor(a) público(a) | E197: A010 | F197: =VLOOKUP(E197,[1]CATEGORÍA!$A$2:$B$83,2,0) -> JEFE DE OFICINA | G197: JEFE DE OFICINA | H197: 2008 | I197: JULIO CESAR | J197: PEREZ | L197: Masculino | M197: Hombre | N197: 7867.6 | O197: 7867.6 | P197: 5656.32 | Q197: 5717.34 | R197: 190 | S197: 190 | T197: 190 | U197: 190 | V197: 190 | W197: 190 | X197: 190 | Y197: 190 | Z197: 190 | AA197: 190 | AB197: 190 | AC197: 190 | AD197: 190 | AE197: RECURSOS HUMANOS | AF197: 45169 | AG197: 45169 | AH197: ND
A198: 2023 | B198: 45108 | C198: 45169 | D198: Servidor(a) público(a) | E198: A010 | F198: =VLOOKUP(E198,[1]CATEGORÍA!$A$2:$B$83,2,0) -> JEFE DE OFICINA | G198: JEFE DE OFICINA | H198: 2007 | I198: HUMBERTO | J198: VAZQUEZ | K198: FLORES | L198: Masculino | M198: Hombre | N198: 7867.6 | O198: 7867.6 | P198: 5700.43 | Q198: 5778.03 | R198: 191 | S198: 191 | T198: 191 | U198: 191 | V198: 191 | W198: 191 | X198: 191 | Y198: 191 | Z198: 191 | AA198: 191 | AB198: 191 | AC198: 191 | AD198: 191 | AE198: RECURSOS HUMANOS | AF198: 45169 | AG198: 45169 | AH198: ND
A199: 2023 | B199: 45108 | C199: 45169 | D199: Servidor(a) público(a) | E199: A010 | F199: =VLOOKUP(E199,[1]CATEGORÍA!$A$2:$B$83,2,0) -> JEFE DE OFICINA | G199: JEFE DE OFICINA | H199: 2024 | I199: AMADA | J199: LOPEZ | K199: SOLAR | L199: Femenino | M199: Mujer | N199: 7867.6 | O199: 7867.6 | P199: 5742.08 | Q199: 4739.86 | R199: 192 | S199: 192 | T199: 192 | U199: 192 | V199: 192 | W199: 192 | X199: 192 | Y199: 192 | Z199: 192 | AA199: 192 | AB199: 192 | AC199: 192 | AD199: 192 | AE199: RECURSOS HUMANOS | AF199: 45169 | AG199: 45169 | AH199: ND
A200: 2023 | B200: 45108 | C200: 45169 | D200: Servidor(a) público(a) | E200: A010 | F200: =VLOOKUP(E200,[1]CATEGORÍA!$A$2:$B$83,2,0) -> JEFE DE OFICINA | G200: JEFE DE OFICINA | H200: 2020 | I200: BLANCA ESTHER | J200: SANCHEZ | K200: LOPEZ | L200: Femenino | M200: Mujer | N200: 7867.6 | O200: 7867.6 | P200: 5742.88 | Q200: 4896.5 | R200: 193 | S200: 193 | T200: 193 | U200: 193 | V200: 193 | W200: 193 | X200: 193 | Y200: 193 | Z200: 193 | AA200: 193 | AB200: 193 | AC200: 193 | AD200: 193 | AE200: RECURSOS HUMANOS | AF200: 45169 | AG200: 45169 | AH200: ND
A201: 2023 | B201: 45108 | C201: 45169 | D201: Servidor(a) público(a) | E201: A010 | F201: =VLOOKUP(E201,[1]CATEGORÍA!$A$2:$B$83,2,0) -> JEFE DE OFICINA | G201: JEFE DE OFICINA | H201: 2008 | I201: JOSE ANGEL | J201: VELASCO | K201: LARA | L201: Masculino | M201: Hombre | N201: 7867.6 | O201: 7867.6 | P201: 5743.98 | Q201: 5038.36 | R201: 194 | S201: 194 | T201: 194 | U201: 194 | V201: 194 | W201: 194 | X201: 194 | Y201: 194 | Z201: 194 | AA201: 194 | AB201: 194 | AC201: 194 | AD201: 194 | AE201: RECURSOS HUMANOS | AF201: 45169 | AG201: 45169 | AH201: ND
A202: 2023 | B202: 45108 | C202: 45169 | D202: Servidor(a) público(a) | E202: A010 | F202: =VLOOKUP(E202,[1]CATEGORÍA!$A$2:$B$83,2,0) -> JEFE DE OFICINA | G202: JEFE DE OFICINA | H202: 2004 | I202: SANDRA | J202: SUAREZ | K202: RUIZ | L202: Femenino | M202: Mujer | N202: 6738.25 | O202: 6738.25 | P202: 4877.35 | Q202: 4842.79 | R202: 195 | S202: 195 | T202: 195 | U202: 195 | V202: 195 | W202: 195 | X202: 195 | Y202: 195 | Z202: 195 | AA202: 195 | AB202: 195 | AC202: 195 | AD202: 195 | AE202: RECURSOS HUMANOS | AF202: 45169 | AG202: 45169 | AH202: ND
A203: 2023 | B203: 45108 | C203: 45169 | D203: Servidor(a) público(a) | E203: A010 | F203: =VLOOKUP(E203,[1]CATEGORÍA!$A$2:$B$83,2,0) -> JEFE DE OFICINA | G203: JEFE DE OFICINA | H203: 2012 | I203: MARIA TERESA | J203: REYES | K203: GALVEZ | L203: Femenino | M203: Mujer | N203: 7867.6 | O203: 7867.6 | P203: 5752.02 | Q203: 4931.96 | R203: 196 | S203: 196 | T203: 196 | U203: 196 | V203: 196 | W203: 196 | X203: 196 | Y203: 196 | Z203: 196 | AA203: 196 | AB203: 196 | AC203: 196 | AD203: 196 | AE203: RECURSOS HUMANOS | AF203: 45169 | AG203: 45169 | AH203: ND
A204: 2023 | B204: 45108 | C204: 45169 | D204: Servidor(a) público(a) | E204: A010 | F204: =VLOOKUP(E204,[1]CATEGORÍA!$A$2:$B$83,2,0) -> JEFE DE OFICINA | G204: JEFE DE OFICINA | H204: 2040 | I204: CLAUDIA PATRICIA | J204: DE LOS SANTOS | K204: VERA | L204: Femenino | M204: Mujer | N204: 7867.6 | O204: 7867.6 | P204: 5742.88 | Q204: 5734.68 | R204: 197 | S204: 197 | T204: 197 | U204: 197 | V204: 197 | W204: 197 | X204: 197 | Y204: 197 | Z204: 197 | AA204: 197 | AB204: 197 | AC204: 197 | AD204: 197 | AE204: RECURSOS HUMANOS | AF204: 45169 | AG204: 45169 | AH204: ND
A205: 2023 | B205: 45108 | C205: 45169 | D205: Servidor(a) público(a) | E205: A010 | F205: =VLOOKUP(E205,[1]CATEGORÍA!$A$2:$B$83,2,0) -> JEFE DE OFICINA | G205: JEFE DE OFICINA | H205: 2002 | I205: ANA ISABEL | J205: SANDOVAL | K205: RODRIGUEZ | L205: Femenino | M205: Mujer | N205: 7867.6 | O205: 7867.6 | P205: 5778.84 | Q205: 5735.75 | R205: 198 | S205: 198 | T205: 198 | U205: 198 | V205: 198 | W205: 198 | X205: 198 | Y205: 198 | Z205: 198 | AA205: 198 | AB205: 198 | AC205: 198 | AD205: 198 | AE205: RECURSOS HUMANOS | AF205: 45169 | AG205: 45169 | AH205: ND
A206: 2023 | B206: 45108 | C206: 45169 | D206: Servidor(a) público(a) | E206: A010 | F206: =VLOOKUP(E206,[1]CATEGORÍA!$A$2:$B$83,2,0) -> JEFE DE OFICINA | G206: JEFE DE OFICINA | H206: 1000 | I206: SANDRA LUZ | J206: SAMAYOA | K206: MACARIO | L206: Femenino | M206: Mujer | N206: 7867.6 | O206: 7867.6 | P206: 5742.38 | Q206: 5760.69 | R206: 199 | S206: 199 | T206: 199 | U206: 199 | V206: 199 | W206: 199 | X206: 199 | Y206: 199 | Z206: 199 | AA206: 199 | AB206: 199 | AC206: 199 | AD206: 199 | AE206: RECURSOS HUMANOS | AF206: 45169 | AG206: 45169 | AH206: ND
A207: 2023 | B207: 45108 | C207: 45169 | D207: Servidor(a) público(a) | E207: A010 | F207: =VLOOKUP(E207,[1]CATEGORÍA!$A$2:$B$83,2,0) -> JEFE DE OFICINA | G207: JEFE DE OFICINA | H207: 2012 | I207: GUSTAVO | J207: PEREZ | K207: DIAZ | L207: Masculino | M207: Hombre | N207: 7867.6 | O207: 7867.6 | P207: 5740.3 | Q207: 5887.52 | R207: 200 | S207: 200 | T207: 200 | U207: 200 | V207: 200 | W207: 200 | X207: 200 | Y207: 200 | Z207: 200 | AA207: 200 | AB207: 200 | AC207: 200 | AD207: 200 | AE207: RECURSOS HUMANOS | AF207: 45169 | AG207: 45169 | AH207: ND
A208: 2023 | B208: 45108 | C208: 45169 | D208: Servidor(a) público(a) | E208: A010 | F208: =VLOOKUP(E208,[1]CATEGORÍA!$A$2:$B$83,2,0) -> JEFE DE OFICINA | G208: JEFE DE OFICINA | H208: 2021 | I208: VICTOR MANUEL | J208: ALCOCER | K208: RODRIGUEZ | L208: Masculino | M208: Hombre | N208: 6738.25 | O208: 6738.25 | P208: 4913.84 | Q208: 4896.5 | R208: 201 | S208: 201 | T208: 201 | U208: 201 | V208: 201 | W208: 201 | X208: 201 | Y208: 201 | Z208: 201 | AA208: 201 | AB208: 201 | AC208: 201 | AD208: 201 | AE208: RECURSOS HUMANOS | AF208: 45169 | AG208: 45169 | AH208: ND
A209: 2023 | B209: 45108 | C209: 45169 | D209: Servidor(a) público(a) | E209: A010 | F209: =VLOOKUP(E209,[1]CATEGORÍA!$A$2:$B$83,2,0) -> JEFE DE OFICINA | G209: JEFE DE OFICINA | H209: 2005 | I209: ARTURO | J209: GAMBOA | K209: RODRIGUEZ | L209: Masculino | M209: Hombre | N209: 7867.6 | O209: 7867.6 | P209: 5787.29 | Q209: 4896.5 | R209: 202 | S209: 202 | T209: 202 | U209: 202 | V209: 202 | W209: 202 | X209: 202 | Y209: 202 | Z209: 202 | AA209: 202 | AB209: 202 | AC209: 202 | AD209: 202 | AE209: RECURSOS HUMANOS | AF209: 45169 | AG209: 45169 | AH209: ND
... A2156: 2023 | B2156: 45108 | C2156: 45169 | D2156: Servidor(a) público(a) | E2156: D009 | F2156: =VLOOKUP(E2156,[1]CATEGORÍA!$A$2:$B$83,2,0) -> PROFESOR CECYT III | G2156: PROFESOR CECYT III | H2156: 2046 | I2156: JOSE CRUZ | J2156: HERNANDEZ | K2156: ZAVALA | L2156: Masculino | M2156: Hombre | N2156: 15604.05 | O2156: 15604.05 | P2156: 10455.87 | Q2156: 10950.44 | R2156: 2149 | S2156: 2149 | T2156: 2149 | U2156: 2149 | V2156: 2149 | W2156: 2149 | X2156: 2149 | Y2156: 2149 | Z2156: 2149 | AA2156: 2149 | AB2156: 2149 | AC2156: 2149 | AD2156: 2149 | AE2156: RECURSOS HUMANOS | AF2156: 45169 | AG2156: 45169 | AH2156: ND
A2157: 2023 | B2157: 45108 | C2157: 45169 | D2157: Servidor(a) público(a) | E2157: D009 | F2157: =VLOOKUP(E2157,[1]CATEGORÍA!$A$2:$B$83,2,0) -> PROFESOR CECYT III | G2157: PROFESOR CECYT III | H2157: 2037 | I2157: ANTONIO | J2157: DE LA CRUZ | L2157: Masculino | M2157: Hombre | N2157: 15301.55 | O2157: 15301.55 | P2157: 10001.3 | Q2157: 10490.5 | R2157: 2150 | S2157: 2150 | T2157: 2150 | U2157: 2150 | V2157: 2150 | W2157: 2150 | X2157: 2150 | Y2157: 2150 | Z2157: 2150 | AA2157: 2150 | AB2157: 2150 | AC2157: 2150 | AD2157: 2150 | AE2157: RECURSOS HUMANOS | AF2157: 45169 | AG2157: 45169 | AH2157: ND
A2158: 2023 | B2158: 45108 | C2158: 45169 | D2158: Servidor(a) público(a) | E2158: D009 | F2158: =VLOOKUP(E2158,[1]CATEGORÍA!$A$2:$B$83,2,0) -> PROFESOR CECYT III | G2158: PROFESOR CECYT III | H2158: 2024 | I2158: JUAN JESUS | J2158: BRAVO | K2158: ROBLERO | L2158: Masculino | M2158: Hombre | N2158: 18730.32 | O2158: 18730.32 | P2158: 11679.22 | Q2158: 10640.99 | R2158: 2151 | S2158: 2151 | T2158: 2151 | U2158: 2151 | V2158: 2151 | W2158: 2151 | X2158: 2151 | Y2158: 2151 | Z2158: 2151 | AA2158: 2151 | AB2158: 2151 | AC2158: 2151 | AD2158: 2151 | AE2158: RECURSOS HUMANOS | AF2158: 45169 | AG2158: 45169 | AH2158: ND
A2159: 2023 | B2159: 45108 | C2159: 45169 | D2159: Servidor(a) público(a) | E2159: D009 | F2159: =VLOOKUP(E2159,[1]CATEGORÍA!$A$2:$B$83,2,0) -> PROFESOR CECYT III | G2159: PROFESOR CECYT III | H2159: 2012 | I2159: JOSE ANDRES | J2159: COLOMO | K2159: LAPARRA | L2159: Masculino | M2159: Hombre | N2159: 14947.68 | O2159: 14947.68 | P2159: 10051.78 | Q2159: 10682.74 | R2159: 2152 | S2159: 2152 | T2159: 2152 | U2159: 2152 | V2159: 2152 | W2159: 2152 | X2159: 2152 | Y2159: 2152 | Z2159: 2152 | AA2159: 2152 | AB2159: 2152 | AC2159: 2152 | AD2159: 2152 | AE2159: RECURSOS HUMANOS | AF2159: 45169 | AG2159: 45169 | AH2159: ND
A2160: 2023 | B2160: 45108 | C2160: 45169 | D2160: Servidor(a) público(a) | E2160: D009 | F2160: =VLOOKUP(E2160,[1]CATEGORÍA!$A$2:$B$83,2,0) -> PROFESOR CECYT III | G2160: PROFESOR CECYT III | H2160: 2024 | I2160: SERGIO AMAURY | J2160: AVILA | K2160: HERNANDEZ | L2160: Masculino | M2160: Hombre | N2160: 15644 | O2160: 15644 | P2160: 10041.64 | Q2160: 5092.12 | R2160: 2153 | S2160: 2153 | T2160: 2153 | U2160: 2153 | V2160: 2153 | W2160: 2153 | X2160: 2153 | Y2160: 2153 | Z2160: 2153 | AA2160: 2153 | AB2160: 2153 | AC2160: 2153 | AD2160: 2153 | AE2160: RECURSOS HUMANOS | AF2160: 45169 | AG2160: 45169 | AH2160: ND
A2161: 2023 | B2161: 45108 | C2161: 45169 | D2161: Servidor(a) público(a) | E2161: D009 | F2161: =VLOOKUP(E2161,[1]CATEGORÍA!$A$2:$B$83,2,0) -> PROFESOR CECYT III | G2161: PROFESOR CECYT III | H2161: 2002 | I2161: JOSE OLEGARIO | J2161: BRIONES | K2161: GONZALEZ | L2161: Masculino | M2161: Hombre | N2161: 15644 | O2161: 15644 | P2161: 10063.84 | Q2161: 10570.03 | R2161: 2154 | S2161: 2154 | T2161: 2154 | U2161: 2154 | V2161: 2154 | W2161: 2154 | X2161: 2154 | Y2161: 2154 | Z2161: 2154 | AA2161: 2154 | AB2161: 2154 | AC2161: 2154 | AD2161: 2154 | AE2161: RECURSOS HUMANOS | AF2161: 45169 | AG2161: 45169 | AH2161: ND
A2162: 2023 | B2162: 45108 | C2162: 45169 | D2162: Servidor(a) público(a) | E2162: D009 | F2162: =VLOOKUP(E2162,[1]CATEGORÍA!$A$2:$B$83,2,0) -> PROFESOR CECYT III | G2162: PROFESOR CECYT III | H2162: 2005 | I2162: GABRIEL | J2162: HERNANDEZ | K2162: GONZALEZ | L2162: Masculino | M2162: Hombre | N2162: 15301.55 | O2162: 15301.55 | P2162: 9886.61 | Q2162: 4945.38 | R2162: 2155 | S2162: 2155 | T2162: 2155 | U2162: 2155 | V2162: 2155 | W2162: 2155 | X2162: 2155 | Y2162: 2155 | Z2162: 2155 | AA2162: 2155 | AB2162: 2155 | AC2162: 2155 | AD2162: 2155 | AE2162: RECURSOS HUMANOS | AF2162: 45169 | AG2162: 45169 | AH2162: ND
...

Sheet Hidden_1
A1: Funcionario
A2: Servidor(a) público(a)
A3: Servidor[a] público[a] eventual
A4: Integrante
A5: Empleado
A6: Representante popular
A7: Miembro del poder judicial
A8: Miembro de órgano autónomo
A9: Personal de confianza
A10: Prestador de servicios profesionales
A11: Otro

Sheet Hidden_2
A1: Femenino
A2: Masculino

Sheet Hidden_3
A1: Hombre
A2: Mujer

Sheet Tabla_411974
B1: 2 | C1: 6 | D1: 6 | E1: 1 | F1: 1
B2: 53352 | C2: 53353 | D2: 53354 | E2: 53355 | F2: 53356
A3: ID | B3: Denominación de las percepciones adicionales en dinero | C3: Monto bruto de las percepciones adicionales en dinero | D3: Monto neto de las percepciones adicionales en dinero | E3: Tipo de moneda de las percepciones adicionales en dinero | F3: Periodicidad de las percepciones adicionales en dinero
A4: 1 | B4: N/A | C4: 0 | D4: 0 | E4: PESOS | F4: NA
A5: 2 | B5: N/A | C5: 0 | D5: 0 | E5: PESOS | F5: NA
A6: 3 | B6: N/A | C6: 0 | D6: 0 | E6: PESOS | F6: NA
A7: 4 | B7: N/A | C7: 0 | D7: 0 | E7: PESOS | F7: NA
A8: 5 | B8: N/A | C8: 0 | D8: 0 | E8: PESOS | F8: NA
A9: 6 | B9: N/A | C9: 0 | D9: 0 | E9: PESOS | F9: NA
A10: 7 | B10: N/A | C10: 0 | D10: 0 | E10: PESOS | F10: NA
A11: 8 | B11: N/A | C11: 0 | D11: 0 | E11: PESOS | F11: NA
A12: 9 | B12: N/A | C12: 0 | D12: 0 | E12: PESOS | F12: NA
A13: 10 | B13: N/A | C13: 0 | D13: 0 | E13: PESOS | F13: NA
A14: 11 | B14: N/A | C14: 0 | D14: 0 | E14: PESOS | F14: NA
A15: 12 | B15: N/A | C15: 0 | D15: 0 | E15: PESOS | F15: NA
... A2251: 2248 | B2251: N/A | C2251: 0 | D2251: 0 | E2251: PESOS | F2251: NA

Sheet Tabla_411961
B1: 2 | C1: 1
B2: 53330 | C2: 53331
A3: ID | B3: Descripción de las percepciones adicionales en especie | C3: Periodicidad de las percepciones adicionales en especie
A4: 1 | B4: N/A | C4: N/A
A5: 2 | B5: N/A | C5: N/A
A6: 3 | B6: N/A | C6: N/A
A7: 4 | B7: N/A | C7: N/A
A8: 5 | B8: N/A | C8: N/A
A9: 6 | B9: N/A | C9: N/A
A10: 7 | B10: N/A | C10: N/A
A11: 8 | B11: N/A | C11: N/A
A12: 9 | B12: N/A | C12: N/A
A13: 10 | B13: N/A | C13: N/A
A14: 11 | B14: N/A | C14: N/A
A15: 12 | B15: N/A | C15: N/A
... A2251: 2248 | B2251: N/A | C2251: N/A

Sheet Tabla_411975
B1: 2 | C1: 6 | D1: 6 | E1: 1 | F1: 1
B2: 53359 | C2: 53360 | D2: 53361 | E2: 53357 | F2: 53358
A3: ID | B3: Denominación de los ingresos | C3: Monto bruto de los ingresos | D3: Monto neto de los ingresos | E3: Tipo de moneda de los ingresos | F3: Periodicidad de los ingresos
A4: 1 | B4: N/A | C4: 0 | D4: 0 | E4: PESOS | F4: N/A
A5: 2 | B5: N/A | C5: 0 | D5: 0 | E5: PESOS | F5: N/A
A6: 3 | B6: N/A | C6: 0 | D6: 0 | E6: PESOS | F6: N/A
A7: 4 | B7: N/A | C7: 0 | D7: 0 | E7: PESOS | F7: N/A
A8: 5 | B8: N/A | C8: 0 | D8: 0 | E8: PESOS | F8: N/A
A9: 6 | B9: N/A | C9: 0 | D9: 0 | E9: PESOS | F9: N/A
A10: 7 | B10: N/A | C10: 0 | D10: 0 | E10: PESOS | F10: N/A
A11: 8 | B11: N/A | C11: 0 | D11: 0 | E11: PESOS | F11: N/A
A12: 9 | B12: N/A | C12: 0 | D12: 0 | E12: PESOS | F12: N/A
A13: 10 | B13: N/A | C13: 0 | D13: 0 | E13: PESOS | F13: N/A
A14: 11 | B14: N/A | C14: 0 | D14: 0 | E14: PESOS | F14: N/A
A15: 12 | B15: N/A | C15: 0 | D15: 0 | E15: PESOS | F15: N/A
... A2251: 2248 | B2251: N/A | C2251: 0 | D2251: 0 | E2251: PESOS | F2251: N/A

Sheet Tabla_411945
B1: 1 | C1: 6 | D1: 6 | E1: 1 | F1: 1
B2: 53310 | C2: 53311 | D2: 53312 | E2: 53313 | F2: 53314
A3: ID | B3: Denominación de los sistemas de compensación | C3: Monto bruto de los sistemas de compensación | D3: Monto neto de los sistemas de compensación | E3: Tipo de moneda de los sistemas de compensación | F3: Periodicidad de los sistemas de compensación
A4: 1 | B4: N/A | C4: 0 | D4: 0 | E4: PESOS | F4: N/A
A5: 2 | B5: N/A | C5: 0 | D5: 0 | E5: PESOS | F5: N/A
A6: 3 | B6: N/A | C6: 0 | D6: 0 | E6: PESOS | F6: N/A
A7: 4 | B7: N/A | C7: 0 | D7: 0 | E7: PESOS | F7: N/A
A8: 5 | B8: N/A | C8: 0 | D8: 0 | E8: PESOS | F8: N/A
A9: 6 | B9: N/A | C9: 0 | D9: 0 | E9: PESOS | F9: N/A
A10: 7 | B10: N/A | C10: 0 | D10: 0 | E10: PESOS | F10: N/A
A11: 8 | B11: N/A | C11: 0 | D11: 0 | E11: PESOS | F11: N/A
A12: 9 | B12: N/A | C12: 0 | D12: 0 | E12: PESOS | F12: N/A
A13: 10 | B13: N/A | C13: 0 | D13: 0 | E13: PESOS | F13: N/A
A14: 11 | B14: N/A | C14: 0 | D14: 0 | E14: PESOS | F14: N/A
A15: 12 | B15: N/A | C15: 0 | D15: 0 | E15: PESOS | F15: N/A
... A2251: 2248 | B2251: N/A | C2251: 0 | D2251: 0 | E2251: PESOS | F2251: N/A

Sheet Tabla_411965
B1: 1 | C1: 6 | D1: 6 | E1: 1 | F1: 1
B2: 53337 | C2: 53338 | D2: 53339 | E2: 53340 | F2: 53341
A3: ID | B3: Denominación de las gratificaciones | C3: Monto bruto de las gratificaciones | D3: Monto neto de las gratificaciones | E3: Tipo de moneda de las gratificaciones | F3: Periodicidad de las gratificaciones
A4: 1 | B4: N/A | C4: 0 | D4: 0 | E4: PESOS | F4: N/A
A5: 2 | B5: N/A | C5: 0 | D5: 0 | E5: PESOS | F5: N/A
A6: 3 | B6: N/A | C6: 0 | D6: 0 | E6: PESOS | F6: N/A
A7: 4 | B7: N/A | C7: 0 | D7: 0 | E7: PESOS | F7: N/A
A8: 5 | B8: N/A | C8: 0 | D8: 0 | E8: PESOS | F8: N/A
A9: 6 | B9: N/A | C9: 0 | D9: 0 | E9: PESOS | F9: N/A
A10: 7 | B10: N/A | C10: 0 | D10: 0 | E10: PESOS | F10: N/A
A11: 8 | B11: N/A | C11: 0 | D11: 0 | E11: PESOS | F11: N/A
A12: 9 | B12: N/A | C12: 0 | D12: 0 | E12: PESOS | F12: N/A
A13: 10 | B13: N/A | C13: 0 | D13: 0 | E13: PESOS | F13: N/A
A14: 11 | B14: N/A | C14: 0 | D14: 0 | E14: PESOS | F14: N/A
A15: 12 | B15: N/A | C15: 0 | D15: 0 | E15: PESOS | F15: N/A
... A2251: 2248 | B2251: N/A | C2251: 0 | D2251: 0 | E2251: PESOS | F2251: N/A

Sheet Tabla_411952
B1: 1 | C1: 6 | D1: 6 | E1: 1 | F1: 1
B2: 53315 | C2: 53316 | D2: 53317 | E2: 53318 | F2: 53319
A3: ID | B3: Denominación de las primas | C3: Monto bruto de las primas | D3: Monto neto de las primas | E3: Tipo de moneda de las primas | F3: Periodicidad de las primas
A4: 1 | B4: N/A | C4: 0 | D4: 0 | E4: PESOS | F4: N/A
A5: 2 | B5: N/A | C5: 0 | D5: 0 | E5: PESOS | F5: N/A
A6: 3 | B6: N/A | C6: 0 | D6: 0 | E6: PESOS | F6: N/A
A7: 4 | B7: N/A | C7: 0 | D7: 0 | E7: PESOS | F7: N/A
A8: 5 | B8: N/A | C8: 0 | D8: 0 | E8: PESOS | F8: N/A
A9: 6 | B9: N/A | C9: 0 | D9: 0 | E9: PESOS | F9: N/A
A10: 7 | B10: N/A | C10: 0 | D10: 0 | E10: PESOS | F10: N/A
A11: 8 | B11: N/A | C11: 0 | D11: 0 | E11: PESOS | F11: N/A
A12: 9 | B12: N/A | C12: 0 | D12: 0 | E12: PESOS | F12: N/A
A13: 10 | B13: N/A | C13: 0 | D13: 0 | E13: PESOS | F13: N/A
A14: 11 | B14: N/A | C14: 0 | D14: 0 | E14: PESOS | F14: N/A
A15: 12 | B15: N/A | C15: 0 | D15: 0 | E15: PESOS | F15: N/A
... A2251: 2248 | B2251: N/A | C2251: 0 | D2251: 0 | E2251: PESOS | F2251: N/A

Sheet Tabla_411962
B1: 1 | C1: 6 | D1: 6 | E1: 1 | F1: 1
B2: 53332 | C2: 53333 | D2: 53334 | E2: 53335 | F2: 53336
A3: ID | B3: Denominación de las comisiones | C3: Monto bruto de las comisiones | D3: Monto neto de las comisiones | E3: Tipo de moneda de las comisiones | F3: Periodicidad de las comisiones
A4: 1 | B4: N/A | C4: 0 | D4: 0 | E4: PESOS | F4: N/A
A5: 2 | B5: N/A | C5: 0 | D5: 0 | E5: PESOS | F5: N/A
A6: 3 | B6: N/A | C6: 0 | D6: 0 | E6: PESOS | F6: N/A
A7: 4 | B7: N/A | C7: 0 | D7: 0 | E7: PESOS | F7: N/A
A8: 5 | B8: N/A | C8: 0 | D8: 0 | E8: PESOS | F8: N/A
A9: 6 | B9: N/A | C9: 0 | D9: 0 | E9: PESOS | F9: N/A
A10: 7 | B10: N/A | C10: 0 | D10: 0 | E10: PESOS | F10: N/A
A11: 8 | B11: N/A | C11: 0 | D11: 0 | E11: PESOS | F11: N/A
A12: 9 | B12: N/A | C12: 0 | D12: 0 | E12: PESOS | F12: N/A
A13: 10 | B13: N/A | C13: 0 | D13: 0 | E13: PESOS | F13: N/A
A14: 11 | B14: N/A | C14: 0 | D14: 0 | E14: PESOS | F14: N/A
A15: 12 | B15: N/A | C15: 0 | D15: 0 | E15: PESOS | F15: N/A
... A2251: 2248 | B2251: N/A | C2251: 0 | D2251: 0 | E2251: PESOS | F2251: N/A

Sheet Tabla_411953
B1: 1 | C1: 6 | D1: 6 | E1: 1 | F1: 1
B2: 53320 | C2: 53321 | D2: 53322 | E2: 53323 | F2: 53324
A3: ID | B3: Denominación de las dietas | C3: Monto bruto de las dietas | D3: Monto neto de las dietas | E3: Tipo de moneda de las dietas | F3: Periodicidad de las dietas
A4: 1 | B4: N/A | C4: 0 | D4: 0 | E4: PESOS | F4: N/A
A5: 2 | B5: N/A | C5: 0 | D5: 0 | E5: PESOS | F5: N/A
A6: 3 | B6: N/A | C6: 0 | D6: 0 | E6: PESOS | F6: N/A
A7: 4 | B7: N/A | C7: 0 | D7: 0 | E7: PESOS | F7: N/A
A8: 5 | B8: N/A | C8: 0 | D8: 0 | E8: PESOS | F8: N/A
A9: 6 | B9: N/A | C9: 0 | D9: 0 | E9: PESOS | F9: N/A
A10: 7 | B10: N/A | C10: 0 | D10: 0 | E10: PESOS | F10: N/A
A11: 8 | B11: N/A | C11: 0 | D11: 0 | E11: PESOS | F11: N/A
A12: 9 | B12: N/A | C12: 0 | D12: 0 | E12: PESOS | F12: N/A
A13: 10 | B13: N/A | C13: 0 | D13: 0 | E13: PESOS | F13: N/A
A14: 11 | B14: N/A | C14: 0 | D14: 0 | E14: PESOS | F14: N/A
A15: 12 | B15: N/A | C15: 0 | D15: 0 | E15: PESOS | F15: N/A
... A2251: 2248 | B2251: N/A | C2251: 0 | D2251: 0 | E2251: PESOS | F2251: N/A

Sheet Tabla_411954
B1: 1 | C1: 6 | D1: 6 | E1: 1 | F1: 1
B2: 53325 | C2: 53326 | D2: 53327 | E2: 53328 | F2: 53329
A3: ID | B3: Denominación de los bonos | C3: Monto bruto de los bonos | D3: Monto neto de los bonos | E3: Tipo de moneda de los bonos | F3: Periodicidad de los bonos
A4: 1 | B4: N/A | C4: 0 | D4: 0 | E4: PESOS | F4: N/A
A5: 2 | B5: N/A | C5: 0 | D5: 0 | E5: PESOS | F5: N/A
A6: 3 | B6: N/A | C6: 0 | D6: 0 | E6: PESOS | F6: N/A
A7: 4 | B7: N/A | C7: 0 | D7: 0 | E7: PESOS | F7: N/A
A8: 5 | B8: N/A | C8: 0 | D8: 0 | E8: PESOS | F8: N/A
A9: 6 | B9: N/A | C9: 0 | D9: 0 | E9: PESOS | F9: N/A
A10: 7 | B10: N/A | C10: 0 | D10: 0 | E10: PESOS | F10: N/A
A11: 8 | B11: N/A | C11: 0 | D11: 0 | E11: PESOS | F11: N/A
A12: 9 | B12: N/A | C12: 0 | D12: 0 | E12: PESOS | F12: N/A
A13: 10 | B13: N/A | C13: 0 | D13: 0 | E13: PESOS | F13: N/A
A14: 11 | B14: N/A | C14: 0 | D14: 0 | E14: PESOS | F14: N/A
A15: 12 | B15: N/A | C15: 0 | D15: 0 | E15: PESOS | F15: N/A
... A2251: 2248 | B2251: N/A | C2251: 0 | D2251: 0 | E2251: PESOS | F2251: N/A

Sheet Tabla_411972
B1: 1 | C1: 6 | D1: 6 | E1: 1 | F1: 1
B2: 53342 | C2: 53343 | D2: 53344 | E2: 53345 | F2: 53346
A3: ID | B3: Denominación de los estímulos | C3: Monto bruto de los estímulos | D3: Monto neto de los estímulos | E3: Tipo de moneda de los estímulos | F3: Periodicidad de los estímulos
A4: 1 | B4: N/A | C4: 0 | D4: 0 | E4: PESOS | F4: N/A
A5: 2 | B5: N/A | C5: 0 | D5: 0 | E5: PESOS | F5: N/A
A6: 3 | B6: N/A | C6: 0 | D6: 0 | E6: PESOS | F6: N/A
A7: 4 | B7: N/A | C7: 0 | D7: 0 | E7: PESOS | F7: N/A
A8: 5 | B8: N/A | C8: 0 | D8: 0 | E8: PESOS | F8: N/A
A9: 6 | B9: N/A | C9: 0 | D9: 0 | E9: PESOS | F9: N/A
A10: 7 | B10: N/A | C10: 0 | D10: 0 | E10: PESOS | F10: N/A
A11: 8 | B11: N/A | C11: 0 | D11: 0 | E11: PESOS | F11: N/A
A12: 9 | B12: N/A | C12: 0 | D12: 0 | E12: PESOS | F12: N/A
A13: 10 | B13: N/A | C13: 0 | D13: 0 | E13: PESOS | F13: N/A
A14: 11 | B14: N/A | C14: 0 | D14: 0 | E14: PESOS | F14: N/A
A15: 12 | B15: N/A | C15: 0 | D15: 0 | E15: PESOS | F15: N/A
... A2251: 2248 | B2251: N/A | C2251: 0 | D2251: 0 | E2251: PESOS | F2251: N/A

Sheet Tabla_411976
B1: 1 | C1: 6 | D1: 6 | E1: 1 | F1: 1
B2: 53362 | C2: 53363 | D2: 53364 | E2: 53365 | F2: 53366
A3: ID | B3: Denominación de los apoyos económicos | C3: Monto bruto de los apoyos económicos | D3: Monto neto de los apoyos económicos | E3: Tipo de moneda de los apoyos económicos | F3: Periodicidad de los apoyos económicos
A4: 1 | B4: N/A | C4: 0 | D4: 0 | E4: PESOS | F4: N/A
A5: 2 | B5: N/A | C5: 0 | D5: 0 | E5: PESOS | F5: N/A
A6: 3 | B6: N/A | C6: 0 | D6: 0 | E6: PESOS | F6: N/A
A7: 4 | B7: N/A | C7: 0 | D7: 0 | E7: PESOS | F7: N/A
A8: 5 | B8: N/A | C8: 0 | D8: 0 | E8: PESOS | F8: N/A
A9: 6 | B9: N/A | C9: 0 | D9: 0 | E9: PESOS | F9: N/A
A10: 7 | B10: N/A | C10: 0 | D10: 0 | E10: PESOS | F10: N/A
A11: 8 | B11: N/A | C11: 0 | D11: 0 | E11: PESOS | F11: N/A
A12: 9 | B12: N/A | C12: 0 | D12: 0 | E12: PESOS | F12: N/A
A13: 10 | B13: N/A | C13: 0 | D13: 0 | E13: PESOS | F13: N/A
A14: 11 | B14: N/A | C14: 0 | D14: 0 | E14: PESOS | F14: N/A
A15: 12 | B15: N/A | C15: 0 | D15: 0 | E15: PESOS | F15: N/A
... A2251: 2248 | B2251: N/A | C2251: 0 | D2251: 0 | E2251: PESOS | F2251: N/A

Sheet Tabla_411973
B1: 1 | C1: 6 | D1: 6 | E1: 1 | F1: 1
B2: 53347 | C2: 53348 | D2: 53349 | E2: 53350 | F2: 53351
A3: ID | B3: Denominación de las prestaciones económicas | C3: Monto bruto de las prestaciones económicas | D3: Monto neto de las prestaciones económicas | E3: Tipo de moneda de las prestaciones económicas | F3: Periodicidad de las prestaciones económicas
A4: 1 | B4: N/A | C4: 0 | D4: 0 | E4: PESOS | F4: N/A
A5: 2 | B5: N/A | C5: 0 | D5: 0 | E5: PESOS | F5: N/A
A6: 3 | B6: N/A | C6: 0 | D6: 0 | E6: PESOS | F6: N/A
A7: 4 | B7: N/A | C7: 0 | D7: 0 | E7: PESOS | F7: N/A
A8: 5 | B8: N/A | C8: 0 | D8: 0 | E8: PESOS | F8: N/A
A9: 6 | B9: N/A | C9: 0 | D9: 0 | E9: PESOS | F9: N/A
A10: 7 | B10: N/A | C10: 0 | D10: 0 | E10: PESOS | F10: N/A
A11: 8 | B11: N/A | C11: 0 | D11: 0 | E11: PESOS | F11: N/A
A12: 9 | B12: N/A | C12: 0 | D12: 0 | E12: PESOS | F12: N/A
A13: 10 | B13: N/A | C13: 0 | D13: 0 | E13: PESOS | F13: N/A
A14: 11 | B14: N/A | C14: 0 | D14: 0 | E14: PESOS | F14: N/A
A15: 12 | B15: N/A | C15: 0 | D15: 0 | E15: PESOS | F15: N/A
... A2251: 2248 | B2251: N/A | C2251: 0 | D2251: 0 | E2251: PESOS | F2251: N/A

Sheet Tabla_411977
B1: 1 | C1: 1
B2: 53367 | C2: 53368
A3: ID | B3: Descripción de las prestaciones en especie | C3: Periodicidad de las prestaciones en especie
A4: 1 | B4: N/A | C4: N/A
A5: 2 | B5: N/A | C5: N/A
A6: 3 | B6: N/A | C6: N/A
A7: 4 | B7: N/A | C7: N/A
A8: 5 | B8: N/A | C8: N/A
A9: 6 | B9: N/A | C9: N/A
A10: 7 | B10: N/A | C10: N/A
A11: 8 | B11: N/A | C11: N/A
A12: 9 | B12: N/A | C12: N/A
A13: 10 | B13: N/A | C13: N/A
A14: 11 | B14: N/A | C14: N/A
A15: 12 | B15: N/A | C15: N/A
... A2251: 2248 | B2251: N/A | C2251: N/A
