Workbook
Name Hidden_18: Hidden_1!$A$1:$A$2
Name Hidden_19: [1]Hidden_1!$A$1:$A$10
Name Hidden_210: Hidden_2!$A$1:$A$10
Name Hidden_314: Hidden_3!$A$1:$A$2

Sheet Reporte de Formatos
A1: 47699
A2: TÍTULO | D2: NOMBRE CORTO | G2: DESCRIPCIÓN
A3: Información curricular y las sanciones administrativas definitivas de las personas servidoras públicas y/o personas que desempeñen un empleo, cargo o comisión | D3: 18LTAIPECHF17 | G3: De todos los(as) servidores(as) públicos(as) y/o personas que desempeñen un empleo, cargo o comisión y/o ejerzan actos de autoridad en el sujeto obligado se deberá publicar la información curricular, es decir, los datos no confidenciales que permitan identificarlos y conocer su trayectoria en el ámbito laboral y escolar y se especificará si ha sido acreedor a sanciones administrativas definitivas y que hayan sido aplicadas por autoridad u organismo competente
A4: 1 | B4: 4 | C4: 4 | D4: 1 | E4: 1 | F4: 1 | G4: 1 | H4: 1 | I4: 9 | J4: 1 | K4: 9 | L4: 1 | M4: 10 | N4: 7 | O4: 9 | P4: 7 | Q4: 2 | R4: 13 | S4: 14
A5: 413923 | B5: 413933 | C5: 413934 | D5: 413922 | E5: 413928 | F5: 413929 | G5: 413930 | H5: 413931 | I5: 570366 | J5: 413920 | K5: 413937 | L5: 413921 | M5: 413927 | N5: 413925 | O5: 413926 | P5: 561537 | Q5: 413936 | R5: 413932 | S5: 413935
A6: Tabla Campos
A7: Ejercicio | B7: Fecha de inicio del periodo que se informa | C7: Fecha de término del periodo que se informa | D7: Denominación de puesto (Redactados con perspectiva de género) | E7: Denominación del cargo | F7: Nombre(s) | G7: Primer apellido | H7: Segundo apellido | I7: ESTE CRITERIO APLICA A PARTIR DEL 01/04/2023 -> Sexo (catálogo) | J7: Área de adscripción | K7: Nivel máximo de estudios concluido y comprobable (catálogo) | L7: Carrera genérica, en su caso | M7: Experiencia laboral Tabla_413927 | N7: Hipervínculo al documento que contenga la trayectoria (Redactados con perspectiva de género) | O7: Sanciones Administrativas definitivas aplicadas por la autoridad competente (catálogo) | P7: Hipervínculo a la resolución donde se observe la aprobación de la sanción | Q7: Área(s) responsable(s) que genera(n), posee(n), publica(n) y actualizan la información | R7: Fecha de actualización | S7: Nota
A8: 2024 | B8: 45292 | C8: 45382 | D8: RECTOR | E8: RECTOR | F8: ANTONIO MAGDIEL | G8: VELAZQUEZ | H8: MENDEZ | I8: Hombre | J8: RECTORIA | K8: Doctorado | L8: CIENCIAS DE HORTICULTURA | M8: =Tabla_413927!A4 -> 1 | N8: https://www.sistemas.chiapas.gob.mx/TransparenciaV3/Descargas/DescargarArchivo/?idArchivo=169131&tipoArchivo=1 | O8: No | P8: https://www.sistemas.chiapas.gob.mx/TransparenciaV3/Descargas/DescargarArchivo/?idArchivo=239688&tipoArchivo=1 | Q8: DIRECCION DE ADMINISTRACION DE PERSONAL Y ORGANIZACIÓN | R8: 45412 | S8: SIN DATOS
A9: 2024 | B9: 45292 | C9: 45382 | D9: SUBDIRECTOR | E9: SUBDIRECTOR | F9: ALEXANDER | G9: RAMIREZ | H9: OCAÑA | I9: Hombre | J9: RECTORIA | K9: Maestría | L9: CIENCIAS EN BIODIVERSIDAD Y CONSERVACION DE ECOSISTEMAS | M9: =Tabla_413927!A7 -> 2 | N9: https://www.sistemas.chiapas.gob.mx/TransparenciaV3/Descargas/DescargarArchivo/?idArchivo=169129&tipoArchivo=1 | O9: No | P9: https://www.sistemas.chiapas.gob.mx/TransparenciaV3/Descargas/DescargarArchivo/?idArchivo=239688&tipoArchivo=1 | Q9: DIRECCION DE ADMINISTRACION DE PERSONAL Y ORGANIZACIÓN | R9: 45412 | S9: SIN DATOS
A10: 2024 | B10: 45292 | C10: 45382 | D10: DIRECTOR DE ÁREA | E10: DIRECTOR DE ÁREA | F10: CARLOS EUGENIO | G10: SERRANO | H10: HERRERA | I10: Hombre | J10: COORDINACION JURIDICA | K10: Licenciatura | L10: DERECHO | M10: =Tabla_413927!A10 -> 3 | N10: https://www.sistemas.chiapas.gob.mx/TransparenciaV3/Descargas/DescargarArchivo/?idArchivo=169130&tipoArchivo=1 | O10: No | P10: https://www.sistemas.chiapas.gob.mx/TransparenciaV3/Descargas/DescargarArchivo/?idArchivo=239688&tipoArchivo=1 | Q10: DIRECCION DE ADMINISTRACION DE PERSONAL Y ORGANIZACIÓN | R10: 45412 | S10: SIN DATOS
A11: 2024 | B11: 45292 | C11: 45382 | D11: DIRECTOR DE ÁREA | E11: DIRECTOR DE ÁREA | F11: EDIN YOBANI | G11: PEREZ | H11: CASTILLEJOS | I11: Hombre | J11: CORRDINACION DE TECNOLOGIAS DE LA INFORMACION | K11: Licenciatura | L11: SISTEMAS COMPUTACIONALES | M11: =Tabla_413927!A13 -> 4 | N11: https://www.sistemas.chiapas.gob.mx/TransparenciaV3/Descargas/DescargarArchivo/?idArchivo=169140&tipoArchivo=1 | O11: No | P11: https://www.sistemas.chiapas.gob.mx/TransparenciaV3/Descargas/DescargarArchivo/?idArchivo=239688&tipoArchivo=1 | Q11: DIRECCION DE ADMINISTRACION DE PERSONAL Y ORGANIZACIÓN | R11: 45412 | S11: SIN DATOS
A12: 2024 | B12: 45292 | C12: 45382 | D12: DIRECTOR DE ÁREA | E12: DIRECTOR DE ÁREA | F12: ISAIAS GUADALUPE | G12: FLORES | H12: GORDILLO | I12: Hombre | J12: COORDINACION DE COMUNICACIÓN SOCIAL | K12: Maestría | L12: COMUNICACIÓN | M12: =Tabla_413927!A15 -> 5 | N12: https://www.sistemas.chiapas.gob.mx/TransparenciaV3/Descargas/DescargarArchivo/?idArchivo=169140&tipoArchivo=1 | O12: No | P12: https://www.sistemas.chiapas.gob.mx/TransparenciaV3/Descargas/DescargarArchivo/?idArchivo=239688&tipoArchivo=1 | Q12: DIRECCION DE ADMINISTRACION DE PERSONAL Y ORGANIZACIÓN | R12: 45412 | S12: SIN DATOS
A13: 2024 | B13: 45292 | C13: 45382 | D13: DIRECTORA DE ÁREA | E13: DIRECTOR DE ÁREA | F13: GABRIELA | G13: PALACIOS | H13: POLA | I13: Mujer | J13: DIRECCION DE INNOVACION EDUCATIVA, INVESTIGACION Y POSGRADO | K13: Doctorado | L13: CIENCIAS EN ECOLOGIA Y DESARROLLO SUSTENTABLE | M13: =Tabla_413927!A18 -> 6 | N13: https://www.sistemas.chiapas.gob.mx/TransparenciaV3/Descargas/DescargarArchivo/?idArchivo=169137&tipoArchivo=1 | O13: No | P13: https://www.sistemas.chiapas.gob.mx/TransparenciaV3/Descargas/DescargarArchivo/?idArchivo=239688&tipoArchivo=1 | Q13: DIRECCION DE ADMINISTRACION DE PERSONAL Y ORGANIZACIÓN | R13: 45412 | S13: SIN DATOS
A14: 2024 | B14: 45292 | C14: 45382 | D14: DIRECTORA DE ÁREA | E14: DIRECTOR DE ÁREA | F14: GUADALUPE YANET | G14: DOMINGUEZ | H14: ESPINOSA | I14: Mujer | J14: UNIDAD DE IGUALDAD DE GÉNERO | K14: Licenciatura | L14: DERECHO | M14: =Tabla_413927!A21 -> 7 | N14: https://www.sistemas.chiapas.gob.mx/TransparenciaV3/Descargas/DescargarArchivo/?idArchivo=169139&tipoArchivo=1 | O14: No | P14: https://www.sistemas.chiapas.gob.mx/TransparenciaV3/Descargas/DescargarArchivo/?idArchivo=239688&tipoArchivo=1 | Q14: DIRECCION DE ADMINISTRACION DE PERSONAL Y ORGANIZACIÓN | R14: 45412 | S14: SIN DATOS
A15: 2024 | B15: 45292 | C15: 45382 | D15: SECRETARIO ACADEMICO | E15: SECRETARIO ACADEMICO | F15: OSCAR DE JESUS | G15: SARMIENTO | H15: MANDUJANO | I15: Hombre | J15: SECRETARIA ACADEMICA | K15: Maestría | L15: ODONTOLOGIA | M15: =Tabla_413927!A24 -> 8 | N15: https://www.sistemas.chiapas.gob.mx/TransparenciaV3/Descargas/DescargarArchivo/?idArchivo=169145&tipoArchivo=1 | O15: No | P15: https://www.sistemas.chiapas.gob.mx/TransparenciaV3/Descargas/DescargarArchivo/?idArchivo=239688&tipoArchivo=1 | Q15: DIRECCION DE ADMINISTRACION DE PERSONAL Y ORGANIZACIÓN | R15: 45412 | S15: SIN DATOS
A16: 2024 | B16: 45292 | C16: 45382 | D16: DIRECTOR DE ÁREA | E16: DIRECTOR DE ÁREA | F16: PASCUAL | G16: RAMOS | H16: GARCIA | I16: Hombre | J16: DIRECCION DE PLANEACION EDUCATIVA | K16: Doctorado | L16: ADMINISTRACION | M16: =Tabla_413927!A25 -> 9 | N16: https://www.sistemas.chiapas.gob.mx/TransparenciaV3/Descargas/DescargarArchivo/?idArchivo=169147&tipoArchivo=1 | O16: No | P16: https://www.sistemas.chiapas.gob.mx/TransparenciaV3/Descargas/DescargarArchivo/?idArchivo=239688&tipoArchivo=1 | Q16: DIRECCION DE ADMINISTRACION DE PERSONAL Y ORGANIZACIÓN | R16: 45412 | S16: SIN DATOS
A17: 2024 | B17: 45292 | C17: 45382 | D17: JEFA DE DEPARTAMENTO | E17: JEFE DE DEPARTAMENTO | F17: MARIA ELENA | G17: MENDOZA | H17: RINCON | I17: Mujer | J17: DEPARTAMENTO DE ESTADISTICA INSTITUCIONAL | K17: Licenciatura | L17: EDUCACION | M17: =Tabla_413927!A28 -> 10 | N17: https://www.sistemas.chiapas.gob.mx/TransparenciaV3/Descargas/DescargarArchivo/?idArchivo=264626&tipoArchivo=1 | O17: No | P17: https://www.sistemas.chiapas.gob.mx/TransparenciaV3/Descargas/DescargarArchivo/?idArchivo=239688&tipoArchivo=1 | Q17: DIRECCION DE ADMINISTRACION DE PERSONAL Y ORGANIZACIÓN | R17: 45412 | S17: SIN DATOS
A18: 2024 | B18: 45292 | C18: 45382 | D18: JEFE DE DEPARTAMENTO | E18: JEFE DE DEPARTAMENTO | F18: ULISES | G18: CRUZ | H18: RUIZ | I18: Hombre | J18: DEPARTAMENTO DE PROYECTOS INSTITUCIONALES | K18: Maestría | L18: INDUSTRIAL | M18: =Tabla_413927!A30 -> 11 | N18: https://www.sistemas.chiapas.gob.mx/TransparenciaV3/Descargas/DescargarArchivo/?idArchivo=218300&tipoArchivo=1 | O18: No | P18: https://www.sistemas.chiapas.gob.mx/TransparenciaV3/Descargas/DescargarArchivo/?idArchivo=239688&tipoArchivo=1 | Q18: DIRECCION DE ADMINISTRACION DE PERSONAL Y ORGANIZACIÓN | R18: 45412 | S18: SIN DATOS
A19: 2024 | B19: 45292 | C19: 45382 | D19: DIRECTOR DE ÁREA | E19: DIRECTOR DE ÁREA | F19: PATRICIA | G19: ABARCA | H19: ALFARO | I19: Mujer | J19: DIRECCION DE SERVICIOS ACADEMICOS | K19: Maestría | L19: COMUNICACIÓN | M19: =Tabla_413927!A32 -> 12 | N19: https://www.sistemas.chiapas.gob.mx/TransparenciaV3/Descargas/DescargarArchivo/?idArchivo=264630&tipoArchivo=1 | O19: No | P19: https://www.sistemas.chiapas.gob.mx/TransparenciaV3/Descargas/DescargarArchivo/?idArchivo=239688&tipoArchivo=1 | Q19: DIRECCION DE ADMINISTRACION DE PERSONAL Y ORGANIZACIÓN | R19: 45412 | S19: SIN DATOS
A20: 2024 | B20: 45292 | C20: 45382 | D20: JEFA DE DEPARTAMENTO | E20: JEFE DE DEPARTAMENTO | F20: BERENICE | G20: CASTILLEJOS | H20: VILLATORO | I20: Mujer | J20: DEPARTAMENTO DE SERVICIOS ESCOLARES Y BIBLIOTECA | K20: Maestría | L20: ARQUITECTURA | M20: =Tabla_413927!A33 -> 13 | N20: https://www.sistemas.chiapas.gob.mx/TransparenciaV3/Descargas/DescargarArchivo/?idArchivo=239688&tipoArchivo=1 | O20: No | P20: https://www.sistemas.chiapas.gob.mx/TransparenciaV3/Descargas/DescargarArchivo/?idArchivo=239688&tipoArchivo=1 | Q20: DIRECCION DE ADMINISTRACION DE PERSONAL Y ORGANIZACIÓN | R20: 45412 | S20: SIN DATOS
A21: 2024 | B21: 45292 | C21: 45382 | D21: JEFA DE DEPARTAMENTO | E21: JEFE DE DEPARTAMENTO | F21: INGRIS MAGALY | G21: SANTOS | H21: BARRIOS | I21: Mujer | J21: DEPARTAMENTO DE ATENCION INTEGRAL A LA COMUNIDAD UNIVERSITARIA Y TUTORIAS | K21: Licenciatura | L21: DEPORTES | M21: =Tabla_413927!A36 -> 14 | N21: https://www.sistemas.chiapas.gob.mx/TransparenciaV3/Descargas/DescargarArchivo/?idArchivo=264628&tipoArchivo=1 | O21: No | P21: https://www.sistemas.chiapas.gob.mx/TransparenciaV3/Descargas/DescargarArchivo/?idArchivo=239688&tipoArchivo=1 | Q21: DIRECCION DE ADMINISTRACION DE PERSONAL Y ORGANIZACIÓN | R21: 45412 | S21: SIN DATOS
A22: 2024 | B22: 45292 | C22: 45382 | D22: DIRECTORA DE ÁREA | E22: DIRECTOR DE ÁREA | F22: AMABLE CONCEPCION | G22: ZUÑIGA | H22: HERNANDEZ | I22: Mujer | J22: DIRECCION DE VINCULACION UNIVERSITARIA | K22: Licenciatura | L22: ADMINISTRACION | M22: =Tabla_413927!A38 -> 15 | N22: https://www.sistemas.chiapas.gob.mx/TransparenciaV3/Descargas/DescargarArchivo/?idArchivo=265154&tipoArchivo=1 | O22: No | P22: https://www.sistemas.chiapas.gob.mx/TransparenciaV3/Descargas/DescargarArchivo/?idArchivo=239688&tipoArchivo=1 | Q22: DIRECCION DE ADMINISTRACION DE PERSONAL Y ORGANIZACIÓN | R22: 45412 | S22: SIN DATOS
A23: 2024 | B23: 45292 | C23: 45382 | D23: SECRETARIO ADMINISTRATIVO | E23: SECRETARIO ADMINISTRATIVO | F23: LUIS RAQUEL | G23: SERRANO | H23: POZO | I23: Hombre | J23: SECRETARIA ADMINISTRATIVA | K23: Licenciatura | L23: CONTADURIA | M23: =Tabla_413927!A41 -> 16 | N23: https://www.sistemas.chiapas.gob.mx/TransparenciaV3/Descargas/DescargarArchivo/?idArchivo=169143&tipoArchivo=1 | O23: No | P23: https://www.sistemas.chiapas.gob.mx/TransparenciaV3/Descargas/DescargarArchivo/?idArchivo=239688&tipoArchivo=1 | Q23: DIRECCION DE ADMINISTRACION DE PERSONAL Y ORGANIZACIÓN | R23: 45412 | S23: SIN DATOS
A24: 2024 | B24: 45292 | C24: 45382 | D24: DIRECTOR DE ÁREA | E24: DIRECTOR DE ÁREA | F24: LUIS | G24: CAMARILLO | H24: TORRES | I24: Hombre | J24: DIRECCION DE ADMINISTRACION DE PERSONAL Y ORGANIZACIÓN | K24: Licenciatura | L24: ADMINISTRACION | M24: =Tabla_413927!A44 -> 17 | N24: https://www.sistemas.chiapas.gob.mx/TransparenciaV3/Descargas/DescargarArchivo/?idArchivo=169142&tipoArchivo=1 | O24: No | P24: https://www.sistemas.chiapas.gob.mx/TransparenciaV3/Descargas/DescargarArchivo/?idArchivo=239688&tipoArchivo=1 | Q24: DIRECCION DE ADMINISTRACION DE PERSONAL Y ORGANIZACIÓN | R24: 45412 | S24: SIN DATOS
A25: 2024 | B25: 45292 | C25: 45382 | D25: JEFE DE DEPARTAMENTO | E25: JEFE DE DEPARTAMENTO | F25: FERNANDO | G25: GARCIA | H25: DOMINGUEZ | I25: Hombre | J25: DEPARTAMENTO DE PROMOCION LABORAL Y CAPACITACION | K25: Licenciatura | L25: PSICOLOGIA | M25: =Tabla_413927!A47 -> 18 | N25: http://www.sistemas.chiapas.gob.mx/TransparenciaV2/Descargas/DescargarArchivo/?idArchivo=3462&tipoArchivo=1 | O25: No | P25: https://www.sistemas.chiapas.gob.mx/TransparenciaV3/Descargas/DescargarArchivo/?idArchivo=239688&tipoArchivo=1 | Q25: DIRECCION DE ADMINISTRACION DE PERSONAL Y ORGANIZACIÓN | R25: 45412 | S25: SIN DATOS
A26: 2024 | B26: 45292 | C26: 45382 | D26: JEFA DE DEPARTAMENTO | E26: JEFE DE DEPARTAMENTO | F26: FULVY IVETTE | G26: HERNANDEZ | H26: JIMENEZ | I26: Mujer | J26: DEPARTAMENTO DE MOVIMIENTOS NOMINALES REMUNERACIONES Y ORGANIZACIÓN | K26: Licenciatura | L26: CONTADURIA | M26: =Tabla_413927!A50 -> 19 | N26: https://www.sistemas.chiapas.gob.mx/TransparenciaV3/Descargas/DescargarArchivo/?idArchivo=169132&tipoArchivo=1 | O26: No | P26: https://www.sistemas.chiapas.gob.mx/TransparenciaV3/Descargas/DescargarArchivo/?idArchivo=239688&tipoArchivo=1 | Q26: DIRECCION DE ADMINISTRACION DE PERSONAL Y ORGANIZACIÓN | R26: 45412 | S26: SIN DATOS
A27: 2024 | B27: 45292 | C27: 45382 | D27: DIRECTOR DE ÁREA | E27: DIRECTOR DE ÁREA | F27: JUAN CARLOS | G27: MARTINEZ | H27: PEREZ | I27: Hombre | J27: DIRECCION DE FINANZAS Y FIDEICOMISOS | K27: Maestría | L27: CONTADURIA | M27: =Tabla_413927!A53 -> 20 | N27: https://www.sistemas.chiapas.gob.mx/TransparenciaV3/Descargas/DescargarArchivo/?idArchivo=169141&tipoArchivo=1 | O27: No | P27: https://www.sistemas.chiapas.gob.mx/TransparenciaV3/Descargas/DescargarArchivo/?idArchivo=239688&tipoArchivo=1 | Q27: DIRECCION DE ADMINISTRACION DE PERSONAL Y ORGANIZACIÓN | R27: 45412 | S27: SIN DATOS
A28: 2024 | B28: 45292 | C28: 45382 | D28: DIRECTOR DE ÁREA | E28: DIRECTOR DE ÁREA | F28: OSCAR DE JESUS | G28: OVANDO | H28: TOBILLA | I28: Hombre | J28: DIRECCION DE RECURSOS MATERIALES E INFRAESTRUCTURA | K28: Licenciatura | L28: INGENIERIA CIVIL | M28: =Tabla_413927!A54 -> 21 | N28: https://www.sistemas.chiapas.gob.mx/TransparenciaV3/Descargas/DescargarArchivo/?idArchivo=169146&tipoArchivo=1 | O28: No | P28: https://www.sistemas.chiapas.gob.mx/TransparenciaV3/Descargas/DescargarArchivo/?idArchivo=239688&tipoArchivo=1 | Q28: DIRECCION DE ADMINISTRACION DE PERSONAL Y ORGANIZACIÓN | R28: 45412 | S28: SIN DATOS
A29: 2024 | B29: 45292 | C29: 45382 | D29: JEFE DE DEPARTAMENTO | E29: JEFE DE DEPARTAMENTO | F29: CARLOS MARIO | G29: COELLO | H29: RUIZ | I29: Hombre | J29: DEPARTAMENTO DE RECURSOS MATERIALES Y ALMACEN | K29: Maestría | L29: ADMINISTRACION | M29: =Tabla_413927!A57 -> 22 | N29: https://www.sistemas.chiapas.gob.mx/TransparenciaV3/Descargas/DescargarArchivo/?idArchivo=264605&tipoArchivo=1 | O29: No | P29: https://www.sistemas.chiapas.gob.mx/TransparenciaV3/Descargas/DescargarArchivo/?idArchivo=239688&tipoArchivo=1 | Q29: DIRECCION DE ADMINISTRACION DE PERSONAL Y ORGANIZACIÓN | R29: 45412 | S29: SIN DATOS
A30: 2024 | B30: 45292 | C30: 45382 | D30: JEFE DE DEPARTAMENTO | E30: JEFE DE DEPARTAMENTO | F30: NORBERTO ALEJANDRO | G30: CAMAS | H30: FERNANDEZ | I30: Hombre | J30: DEPARTAMENTO DE INFRAESTRCTURA | K30: Licenciatura | L30: INGENIERIA CIVIL | M30: =Tabla_413927!A60 -> 23 | N30: https://www.sistemas.chiapas.gob.mx/TransparenciaV3/Descargas/DescargarArchivo/?idArchivo=169136&tipoArchivo=1 | O30: No | P30: https://www.sistemas.chiapas.gob.mx/TransparenciaV3/Descargas/DescargarArchivo/?idArchivo=239688&tipoArchivo=1 | Q30: DIRECCION DE ADMINISTRACION DE PERSONAL Y ORGANIZACIÓN | R30: 45412 | S30: SIN DATOS
A31: 2024 | B31: 45292 | C31: 45382 | D31: DIRECTOR DE ÁREA | E31: DIRECTOR DE ÁREA | F31: HECTOR | G31: DE LA CRUZ | H31: SOLIS | I31: Hombre | J31: DIRECCION DE PROGRAMACION Y PRESUPUESTO | K31: Licenciatura | L31: ADMINISTRACION | M31: =Tabla_413927!A63 -> 24 | N31: http://www.sistemas.chiapas.gob.mx/TransparenciaV2/Descargas/DescargarArchivo/?idArchivo=3465&tipoArchivo=1 | O31: No | P31: https://www.sistemas.chiapas.gob.mx/TransparenciaV3/Descargas/DescargarArchivo/?idArchivo=239688&tipoArchivo=1 | Q31: DIRECCION DE ADMINISTRACION DE PERSONAL Y ORGANIZACIÓN | R31: 45412 | S31: SIN DATOS
A32: 2024 | B32: 45292 | C32: 45382 | D32: PROFESOR TITULAR "A" | E32: PROFESOR TITULAR "A" | F32: FRANCISCO | G32: LEE | H32: ORANTES | I32: Hombre | J32: DIRECCION DE INGENIERIA MECATRONICA | K32: Maestría | L32: INGENIERIA | M32: =Tabla_413927!A66 -> 25 | N32: https://www.sistemas.chiapas.gob.mx/TransparenciaV3/Descargas/DescargarArchivo/?idArchivo=264627&tipoArchivo=1 | O32: No | P32: https://www.sistemas.chiapas.gob.mx/TransparenciaV3/Descargas/DescargarArchivo/?idArchivo=239688&tipoArchivo=1 | Q32: DIRECCION DE ADMINISTRACION DE PERSONAL Y ORGANIZACIÓN | R32: 45412 | S32: SIN DATOS
A33: 2024 | B33: 45292 | C33: 45382 | D33: PROFESOR TITULAR "A" | E33: PROFESOR TITULAR "A" | F33: IBAN RAFAEL | G33: CORZO | H33: HERNANDEZ | I33: Hombre | J33: DIRECCION DE INGENIERIA EN ENERGIA | K33: Doctorado | L33: INGENIERIA | M33: =Tabla_413927!A67 -> 26 | N33: https://www.sistemas.chiapas.gob.mx/TransparenciaV3/Descargas/DescargarArchivo/?idArchivo=218180&tipoArchivo=1 | O33: No | P33: https://www.sistemas.chiapas.gob.mx/TransparenciaV3/Descargas/DescargarArchivo/?idArchivo=239688&tipoArchivo=1 | Q33: DIRECCION DE ADMINISTRACION DE PERSONAL Y ORGANIZACIÓN | R33: 45412 | S33: SIN DATOS
A34: 2024 | B34: 45292 | C34: 45382 | D34: PROFESOR TITULAR "A" | E34: PROFESOR TITULAR "A" | F34: YAZMIN | G34: SANCHEZ | H34: ROQUE | I34: Hombre | J34: DIRECCION DE INGENIERIA EN AGROINDUSTRIAL | K34: Doctorado | L34: BIOQUIMICA | M34: =Tabla_413927!A70 -> 27 | N34: https://www.sistemas.chiapas.gob.mx/TransparenciaV3/Descargas/DescargarArchivo/?idArchivo=264629&tipoArchivo=1 | O34: No | P34: https://www.sistemas.chiapas.gob.mx/TransparenciaV3/Descargas/DescargarArchivo/?idArchivo=239688&tipoArchivo=1 | Q34: DIRECCION DE ADMINISTRACION DE PERSONAL Y ORGANIZACIÓN | R34: 45412 | S34: SIN DATOS
A35: 2024 | B35: 45292 | C35: 45382 | D35: PROFESORA TITULAR "A" | E35: PROFESOR TITULAR "A" | F35: LAURA CECILIA | G35: JIMENEZ | H35: ALBORES | I35: Mujer | J35: DIRECCION DE INGENIERIA EN TECNOLOGIA AMBIENTAL | K35: Maestría | L35: INGENIERIA AMBIENTAL | M35: =Tabla_413927!A71 -> 28 | N35: https://www.sistemas.chiapas.gob.mx/TransparenciaV3/Descargas/DescargarArchivo/?idArchivo=264624&tipoArchivo=1 | O35: No | P35: https://www.sistemas.chiapas.gob.mx/TransparenciaV3/Descargas/DescargarArchivo/?idArchivo=239688&tipoArchivo=1 | Q35: DIRECCION DE ADMINISTRACION DE PERSONAL Y ORGANIZACIÓN | R35: 45412 | S35: SIN DATOS
A36: 2024 | B36: 45292 | C36: 45382 | D36: PROFESOR TITULAR "A" | E36: PROFESOR TITULAR "A" | F36: CARLOS ALBERTO | G36: DIAZ | H36: HERNANDEZ | I36: Hombre | J36: DIRECCION DE INGENIERIA EN DESARROLLO DE SOFTWARE | K36: Doctorado | L36: COMPUTACION E INFORMATICA | M36: =Tabla_413927!A74 -> 29 | N36: https://www.sistemas.chiapas.gob.mx/TransparenciaV3/Descargas/DescargarArchivo/?idArchivo=264623&tipoArchivo=1 | O36: No | P36: https://www.sistemas.chiapas.gob.mx/TransparenciaV3/Descargas/DescargarArchivo/?idArchivo=239688&tipoArchivo=1 | Q36: DIRECCION DE ADMINISTRACION DE PERSONAL Y ORGANIZACIÓN | R36: 45412 | S36: SIN DATOS
A37: 2024 | B37: 45292 | C37: 45382 | D37: PROFESOR TITULAR "A" | E37: PROFESOR TITULAR "A" | F37: ARCADIO GIOVANNY | G37: PENAGOS | H37: MACIAS | I37: Hombre | J37: DIRECCION DE INGENIERIA EN PETROLERA | K37: Maestría | L37: QUIMICA PETROLERA | M37: =Tabla_413927!A76 -> 30 | N37: https://www.sistemas.chiapas.gob.mx/TransparenciaV3/Descargas/DescargarArchivo/?idArchivo=264625&tipoArchivo=1 | O37: No | P37: https://www.sistemas.chiapas.gob.mx/TransparenciaV3/Descargas/DescargarArchivo/?idArchivo=239688&tipoArchivo=1 | Q37: DIRECCION DE ADMINISTRACION DE PERSONAL Y ORGANIZACIÓN | R37: 45412 | S37: SIN DATOS
A38: 2024 | B38: 45292 | C38: 45382 | D38: PROFESOR TITULAR "A" | E38: PROFESOR TITULAR "A" | F38: ERWIN | G38: BEUTELSPACHER | H38: SANTIAGO | I38: Hombre | J38: DIRECCION DE INGENIERIA EN TECNOLOGIA DE MANUFACTURA | K38: Maestría | L38: MECANICA | M38: =Tabla_413927!A79 -> 31 | N38: https://www.sistemas.chiapas.gob.mx/TransparenciaV3/Descargas/DescargarArchivo/?idArchivo=265156&tipoArchivo=1 | O38: No | P38: https://www.sistemas.chiapas.gob.mx/TransparenciaV3/Descargas/DescargarArchivo/?idArchivo=239688&tipoArchivo=1 | Q38: DIRECCION DE ADMINISTRACION DE PERSONAL Y ORGANIZACIÓN | R38: 45412 | S38: SIN DATOS
A39: 2024 | B39: 45292 | C39: 45382 | D39: PROFESORA TITULAR "A" | E39: PROFESOR TITULAR "A" | F39: BETTY YOLANDA | G39: LOPÉZ | H39: ZAPATA | I39: Mujer | J39: DIRECCION DE INGENIERIA BIOMEDICA | K39: Doctorado | L39: INGENIERIA | M39: =Tabla_413927!A82 -> 32 | N39: https://www.sistemas.chiapas.gob.mx/TransparenciaV3/Descargas/DescargarArchivo/?idArchivo=191551&tipoArchivo=1 | O39: No | P39: https://www.sistemas.chiapas.gob.mx/TransparenciaV3/Descargas/DescargarArchivo/?idArchivo=239688&tipoArchivo=1 | Q39: DIRECCION DE ADMINISTRACION DE PERSONAL Y ORGANIZACIÓN | R39: 45412 | S39: SIN DATOS
A40: 2024 | B40: 45292 | C40: 45382 | D40: PROFESORA TITULAR "A" | E40: PROFESOR TITULAR "A" | F40: GABRIELA | G40: GARCIA | H40: MOGUEL | I40: Mujer | J40: DIRECCION DE LA LICENCIATURA EN GESTION Y ADMINISTRACION DE PEQUEÑAS Y MEDIANAS EMPRESAS | K40: Maestría | L40: INGENIERIA | M40: =Tabla_413927!A85 -> 33 | N40: https://www.sistemas.chiapas.gob.mx/TransparenciaV3/Descargas/DescargarArchivo/?idArchivo=265155&tipoArchivo=1 | O40: No | P40: https://www.sistemas.chiapas.gob.mx/TransparenciaV3/Descargas/DescargarArchivo/?idArchivo=239688&tipoArchivo=1 | Q40: DIRECCION DE ADMINISTRACION DE PERSONAL Y ORGANIZACIÓN | R40: 45412 | S40: SIN DATOS

Sheet Hidden_1
A1: Hombre
A2: Mujer

Sheet Hidden_2
A1: Ninguno
A2: Primaria
A3: Secundaria
A4: Bachillerato
A5: Carrera técnica
A6: Licenciatura
A7: Maestría
A8: Especialización
A9: Doctorado
A10: Posdoctorado

Sheet Hidden_3
A1: Si
A2: No

Sheet Tabla_413927
B1: 1 | C1: 1 | D1: 2 | E1: 2 | F1: 2
B2: 53574 | C2: 53575 | D2: 53571 | E2: 53572 | F2: 53573
A3: ID | B3: Periodo: mes/año de inicio | C3: Periodo: mes/año de término | D3: Denominación de la institución o empresa | E3: Cargo o puesto desempeñado | F3: Campo de experiencia
A4: 1 | B4: EDNERO 2019 | C4: ENERO 2020 | D4: UNIVERSIDAD DE CIENCIAS Y ARTES DE CHIAPAS | E4: SECRETARIO ACADEMICO | F4: ADMINISTRATIVA
A5: 1 | B5: DICIEMBRE 2020 | C5: AGOSTO 2021 | D5: SECRETARIA DE EDUCACION DEL ESTADO DE CHIAPAS | E5: DIRECTOR | F5: ADMINISTRATIVA
A6: 1 | B6: SEPTIEMBRE 2021 | C6: DICIEMBRE 2021 | D6: SUBSECRETARIO DE EDUCACION ESTATAL DE LA SECRETARIA DE EDUCACION DEL ESTADO DE CHIAPAS | E6: SUBSECRETARIO | F6: ADMINISTRATIVA
A7: 2 | B7: ABRIL 2018 | C7: SEPTIEMBRE 2018 | D7: SECRETARIA DEL MEDIO AMBIENTE Y MOVIDALIDAD URBANA | E7: TECNICO ESPECIALIZADO | F7: ADMINISTRATIVA
A8: 2 | B8: JULIO 2019 | C8: ENERO 2021 | D8: SECRETARIA DEL MEDIO AMBIENTE Y MOVIDALIDAD URBANA | E8: LIDER DE PROYECTO | F8: ADMINISTRATIVA
A9: 2 | B9: FEBRERO 2021 | C9: MARZO 2022 | D9: SECRETARIA DEL MEDIO AMBIENTE Y MOVIDALIDAD URBANA | E9: ENCARGADO DE VIVERO MUNICIPAL CAÑA HUECA
A10: 3 | B10: ABRIL 2015 | C10: SEPTIEMBRE 2015 | D10: SECRETARIA DE DESARROLLO MUNICIPAL DE TUXTLA GUTIERREZ | E10: DIRECTOR DE DESARROLLO PARA EL BINESTAR SOCIAL | F10: JURIDICA
A11: 3 | B11: OCTUBRE 2015 | C11: MARZO 2017 | D11: VISION GLOBAL A.C. | E11: ABOGADO POSTULANTE | F11: JURIDICA
A12: 3 | B12: FEBRERO 2018 | C12: DICIEMBRE 2021 | D12: PROCURADURIA | E12: JEFE DE DEPARTAMENTO | F12: JURIDICA
A13: 4 | B13: ENERO 2012 | C13: ENERO 2016 | D13: SECRETARIA DE LA DEFENSA NACIONAL | E13: PERITO EN INFORMATICA FORENSE | F13: ADMINISTRATIVA
A14: 4 | B14: FEBRERO 2016 | C14: DICIEMBRE 2019 | D14: SECRETARIA DE LA DEFENSA NACIONAL | E14: PERITO EN INFORMATICA | F14: INFORMATICA
A15: 5 | B15: ENERO 2011 | C15: ENERO 2013 | D15: UNIVERSIDAD TECNOLOGICA DE LA SELVA | E15: JEFE DE DEPARTAMENTO | F15: ADMINISTRATIVA
A16: 5 | B16: FEBRERO 2013 | C16: DICIEMBRE 2013 | D16: MOMOOSE | E16: DIRECTOR | F16: ADMINISTRATIVA
A17: 5 | B17: ENERO 2014 | C17: JULIO 2022 | D17: UNIVERSIDAD TECNOLOGICA DE LA SELVA | E17: PROFESOR DE ASIGNATURA | F17: ACADEMICO
A18: 6 | B18: ENERO 2010 | C18: FEBRERO 2016 | D18: UNIVERISIDAD DE CIENCIAS Y DEPORTES DE CHIAPAS | E18: COORDINADOR DE LICENCIATURA | F18: ADMINISTRATIVA
A19: 6 | B19: ENERO 2019 | C19: NOVIEMBRE 2019 | D19: UNIVERSIDAD DE CIENCIAS Y ARTES DE CHIAPAS | E19: INSTRUCTOR DE DIPLOMADOS | F19: ACADEMICO
A20: 6 | B20: ENERO 2017 | C20: ENERO 2022 | D20: UNIVERSIDAD DE CIENCIAS Y ARTES DE CHIAPAS | E20: DIRECTOR | F20: ADMINISTRATIVA
A21: 7 | B21: ENERO 2017 | C21: MAYO 2017 | D21: UNIVERSIDAD DE CIENCIAS Y ARTES DE CHIAPAS | E21: DIRECTOR GENERAL DE RELACIONES INTERINSTITUCIONALES
A22: 7 | B22: NOVIEMBRE 2017 | C22: FEBRERO 2018 | D22: UNIVERSIDAD DE CIENCIAS Y ARTES DE CHIAPAS | E22: DIRECTOR PLANEACION Y EVALUACION | F22: ADMINISTRATIVA
A23: 7 | B23: SEPTIEMBRE 2014 | C23: FEBRERO 2005 | D23: SECRETARIA DE EDUCACION SUPERIOR E INVESTIGACION CIENTIFICA | E23: JEFE DE DEPARTAMENTO | F23: ADMINISTRATIVA
A24: 8 | B24: ENERO 1997 | C24: MAYO 1997 | D24: INSTITUTO TECNOLOGICO Y DE ESTUDIOS SUPERIORORES DE MONTERREY | E24: CATEDRATICO | F24: ACADEMICO
A25: 9 | B25: FEBRERO 1997 | C25: JULIO 1997 | D25: CENTRAL DE FOMENTO AGROPECUARIO DE CHIAPAS | E25: SUBGERENTE | F25: ADMINISTRATIVA
A26: 9 | B26: JULIO 1997 | C26: JULIO 2003 | D26: CENTRAL DE FOMENTO AGROPECUARIO DE CHIAPAS | E26: GERENTE | F26: ADMINISTRATIVA
A27: 9 | B27: ABRIL 2001 | C27: MARZO 2005 | D27: GOBIERNO DE CHIAPAS | E27: ASESORA | F27: ADMINISTRATIVA
A28: 10 | B28: DICIEMBRE 2006 | C28: FEBRERO 2009 | D28: SECRETARIA DE ADMINISTRACION | E28: ASESORA DEL C. SECRETARIO | F28: ADMINISTRATIVA
A29: 10 | B29: MARZO 2009 | C29: MARZO 2012 | D29: SECRETARIA DE LA FUNCION PUBLICA | E29: ASESORA DEL C. SECRETARIO | F29: ADMINISTRATIVA
A30: 11 | B30: ENERO 2002 | C30: DICIEMBRE 2004 | D30: COMITÉ DE CONSTRUCCION DE ESCUELAS | E30: ANALISTA DE INGENIERIA | F30: ADMINISTRATIVA
A31: 11 | B31: ENERO 2005 | C31: NOVIEMBRE 2009 | D31: UNIVERSIDAD POLITECNICA DE CHIAPAS | E31: ENCARGADA DE INFRAESTRUCTURA | F31: ADMINISTRATIVA
A32: 12 | B32: ND | D32: ND | E32: ND | F32: ND
A33: 13 | B33: ENERO 2004 | C33: JUNIO 2005 | D33: CLUB DEPORTIVO TUXTLA | E33: ADMINISTRADORA | F33: ADMINISTRATIVA
A34: 13 | B34: DICIEMBRE 2006 | C34: ABRIL 2007 | D34: CEMEX-PROMEXMA | E34: FACTURISTA | F34: ADMINISTRATIVA
A35: 13 | B35: MAYO 2007 | C35: ABRIL 2008 | D35: INSTITUTO DE SALUD | E35: JEFA DE DEPARTAMENTO DE FACTURACION | F35: ADMINISTRATIVA
A36: 14 | B36: ENERO 2005 | C36: DICIEMBRE 2006 | D36: H. AYUNTAMIENTO MUNICIPAL DE VENUSTIANO CARRANZA | E36: TESORERO DEL SISTEMA DIF | F36: ADMINISTRATIVA
A37: 14 | B37: ENERO 2007 | C37: DICIEMBRE 2007 | D37: H. AYUNTAMIENTO MUNICIPAL DE TUXTLA GUTIERREZ | E37: JEFE DE DEPARTAMENTO DE CONSTANCIAS Y RECULTAMIENTO
A38: 15 | B38: MARZO 2005 | C38: AGOSTO 2005 | D38: TRIBUNAL ELECTORAL DEL PODER JUDICIAL DE L ESTADO DE CHIAPAS | E38: SECRETARIO | F38: ADMINISTRATIVA
A39: 15 | B39: AGOSTO 2005 | C39: DICIEMBRE 2021 | D39: SECRETARIA DE TURISMO DEL ESTADO DE CHIAPAS | E39: ENLACE | F39: ADMINISTRATIVA
A40: 15 | B40: ENERO 2022 | C40: FEBRERO 2022 | D40: SECRETARIA DE TURISMO DEL ESTADO DE CHIAPAS | E40: JEFE DE ÁREA | F40: ADMINISTRATIVA
A41: 16 | B41: MAYO 2001 | C41: DICIEMBRE 2003 | D41: SECRETARIA DELTRABAJO | E41: RESPONSABLE DE ATENCION EMPRESARIAL | F41: ADMINISTRATIVA
A42: 16 | B42: ENERO2004 | C42: DICIEMBRE 2004 | D42: SECRETARIA DELTRABAJO | E42: COORDINADOR DE BOLSA DE TRABAJO | F42: ADMINISTRATIVA
A43: 16 | B43: ENERO 2005 | C43: SEPTIEMBRE 2009 | D43: SECRETARIA DELTRABAJO | E43: DELEGADO REGIONAL | F43: ADMINISTRATIVA
A44: 17 | B44: ENERO 2011 | C44: MARZO 2014 | D44: CONTADORES FISCALISTAS Y ASESORES ASOCIADOS DE CHIAPAS A.C. | E44: AUXILIAR CONTABLE | F44: CONTABLE
A45: 17 | B45: ABRIL 2014 | C45: NOVIEMBRE 2014 | D45: EMRESAS ORCE SA DE CV | E45: AUXILIAR CONTABLE | F45: CONTABLE
A46: 17 | B46: DICIEMBRE 2014 | C46: JULIO 2021 | D46: CORGOR CORPORATIVO CONTABLE FISCAL Y ADMINISTRATIVO S.A.S DE CV | E46: CONTADOR | F46: CONTABLE
A47: 18 | B47: ENERO 2014 | C47: DICIEMBRE 2015 | D47: SECRETARIA DE LA FUNCION PUBLICA | E47: COORDINADOR DE ENLACE Y SEGUIMIENTO | F47: ADMINISTRATIVA
A48: 18 | B48: ENERO 2015 | C48: DICIEMBRE 2019 | D48: MUNICIPIO DE TUXTLA GUTIERREZ | E48: DIRECTOR DE SEGUIMIENTO Y PREVENCION | F48: ADMINISTRATIVA
A49: 18 | B49: ENERO 2020 | C49: JUNIO 2022 | D49: MUNICIPIO DE TUXTLA GUTIERREZ | E49: PERSONAL ADMINISTRATIVO | F49: ADMINISTRATIVA
... A87: 33 | B87: ENERO 2018 | C87: FEBRERO 2022 | D87: CENTRO ESTATAL DE CONTROL DE CONFIANZA | E87: ENLACE | F87: ADMINISTRATIVA
