Workbook
Name Hidden_13: Hidden_1!$A$1:$A$11
Name Hidden_211: Hidden_2!$A$1:$A$3

Sheet Reporte de Formatos (1)
A1: 47635
A2: TÍTULO | D2: NOMBRE CORTO | G2: DESCRIPCIÓN
A3: Declaraciones de situación patrimonial | D3: 18LTAIPECHF12 | G3: Se publicará la versión pública de la declaración de situación patrimonial de los(as) servidores(as) públicos(as), integrantes, miembros del sujeto obligado y/o toda persona que desempeñe un empleo, cargo o comisión y/o ejerza actos de autoridad, y que tiene la obligación de presentar declaración de situación patrimonial en sus tres modalidades: inicio, modificación y de conclusión, de conformidad con la normatividad que resulte aplicable.
A4: 1 | B4: 4 | C4: 4 | D4: 9 | E4: 1 | F4: 1 | G4: 1 | H4: 1 | I4: 1 | J4: 1 | K4: 1 | L4: 9 | M4: 7 | N4: 2 | O4: 4 | P4: 13 | Q4: 14
A5: 412568 | B5: 412574 | C5: 412575 | D5: 412572 | E5: 412580 | F5: 412578 | G5: 412565 | H5: 412581 | I5: 412579 | J5: 412566 | K5: 412567 | L5: 412571 | M5: 412570 | N5: 412576 | O5: 412569 | P5: 412573 | Q5: 412577
A6: Tabla Campos
A7: Ejercicio | B7: Fecha de inicio del periodo que se informa | C7: Fecha de término del periodo que se informa | D7: Tipo de integrante del sujeto obligado (catálogo) | E7: Clave o nivel del puesto | F7: Denominación del puesto | G7: Denominación del cargo | H7: Área de adscripción | I7: Nombre(s) del(la) servidor(a) público(a) | J7: Primer apellido del(la) servidor(a) público(a) | K7: Segundo apellido del(la) servidor(a) público(a) | L7: Modalidad de la Declaración Patrimonial (catálogo) | M7: Hipervínculo a la versión pública Declaración de Situación Patrimonial | N7: Área(s) responsable(s) que genera(n), posee(n), publica(n) y actualizan la información | O7: Fecha de validación | P7: Fecha de actualización | Q7: Nota
A8: 2021 | B8: 44287 | C8: 44377 | D8: Servidor(a) público(a) | E8: 111437 | F8: COORDINADOR | G8: COORDINADOR | H8: ALBERGUE TEMPORAL PARA MENORES MIGRANTES | I8: GIAYDI | J8: GUTIERREZ | K8: RIOS | L8: Conclusión | M8: https://declarachiapas.shyfpchiapas.gob.mx/consulta/declaracion/187668/completa-p | N8: Área de Recursos Humanos | O8: 44377 | P8: 44378 | Q8: S/D
A9: 2021 | B9: 44287 | C9: 44377 | D9: Servidor(a) público(a) | E9: 112425 | F9: ANALISTA | G9: ANALISTA | H9: DELEGACIÓN V ALTOS TSOTSIL-TSELTAL | I9: DULCE MARIA | J9: MOLINA | K9: RIOS | L9: Inicio | M9: https://declarachiapas.shyfpchiapas.gob.mx/consulta/declaracion/187701/simplificado-p | N9: Área de Recursos Humanos | O9: 44377 | P9: 44378 | Q9: S/D
A10: 2021 | B10: 44287 | C10: 44377 | D10: Servidor[a] público[a] eventual | E10: 162402 | F10: PROFESIONISTA | G10: PROFESIONISTA | H10: PROCURADURÍAS MUNICIPALES DE PROTECCION DE NIÑAS, NIÑOS, ADOLESCENTES Y LA FAMILIA | I10: ANA GUADALUPE | J10: PEREZ | K10: PEREZ | L10: Conclusión | M10: https://declarachiapas.shyfpchiapas.gob.mx/consulta/declaracion/187721/simplificado-p | N10: Área de Recursos Humanos | O10: 44377 | P10: 44378 | Q10: S/D
A11: 2021 | B11: 44287 | C11: 44377 | D11: Servidor[a] público[a] eventual | E11: 162402 | F11: PROFESIONISTA | G11: PROFESIONISTA | H11: ENLACES REGIONALES PARA EL DESARROLLO INTEGRAL | I11: RAFAEL | J11: CASTRO | K11: GOMEZ | L11: Inicio | M11: https://declarachiapas.shyfpchiapas.gob.mx/consulta/declaracion/187792/aviso-p | N11: Área de Recursos Humanos | O11: 44377 | P11: 44378 | Q11: S/D
A12: 2021 | B12: 44287 | C12: 44377 | D12: Servidor(a) público(a) | E12: 112425 | F12: ANALISTA | G12: ANALISTA | H12: DELEGACIÓN V ALTOS TSOTSIL-TSELTAL | I12: DULCE MARIA | J12: MOLINA | K12: RIOS | L12: Conclusión | M12: https://declarachiapas.shyfpchiapas.gob.mx/consulta/declaracion/187725/simplificado-p | N12: Área de Recursos Humanos | O12: 44377 | P12: 44378 | Q12: S/D
A13: 2021 | B13: 44287 | C13: 44377 | D13: Servidor[a] público[a] eventual | E13: 173121 | F13: TÉCNICO MEDIO "A" | G13: TÉCNICO MEDIO "A" | H13: ASISTENCIA INFANTIL DE CORAZÓN | I13: MARIA ASUNCION | J13: VAZQUEZ | K13: LOPEZ | L13: Inicio | M13: https://declarachiapas.shyfpchiapas.gob.mx/consulta/declaracion/186738/aviso-p | N13: Área de Recursos Humanos | O13: 44377 | P13: 44378 | Q13: S/D
A14: 2021 | B14: 44287 | C14: 44377 | D14: Servidor[a] público[a] eventual | E14: 173111 | F14: TÉCNICO | G14: TÉCNICO | H14: OFICINA DE ATENCIÓN Y CANALIZACIÓN | I14: JOSE LUIS | J14: ALFONSO | K14: GUILLEN | L14: Inicio | M14: https://declarachiapas.shyfpchiapas.gob.mx/consulta/declaracion/187983/simplificado-p | N14: Área de Recursos Humanos | O14: 44377 | P14: 44378 | Q14: S/D
A15: 2021 | B15: 44287 | C15: 44377 | D15: Servidor[a] público[a] eventual | E15: 172406 | F15: EDUCADORA PARA CENTROS DE DESARROLLO INFANTIL | G15: EDUCADORA PARA CENTROS DE DESARROLLO INFANTIL | H15: ASISTENCIA INFANTIL DE CORAZÓN | I15: YAZARET | J15: HERNANDEZ | K15: PERALTA | L15: Inicio | M15: https://declarachiapas.shyfpchiapas.gob.mx/consulta/declaracion/188139/aviso-p | N15: Área de Recursos Humanos | O15: 44377 | P15: 44378 | Q15: S/D
A16: 2021 | B16: 44287 | C16: 44377 | D16: Servidor(a) público(a) | E16: 110903 | F16: OFICINISTA | G16: OFICINISTA | H16: DEPARTAMENTO DE REHABILITACIÓN INTEGRAL | I16: ADRIANA LIZBETH | J16: MARTINEZ | K16: TIPACAMU | L16: Inicio | M16: https://declarachiapas.shyfpchiapas.gob.mx/consulta/declaracion/176215/simplificado-p | N16: Área de Recursos Humanos | O16: 44377 | P16: 44378 | Q16: S/D
A17: 2021 | B17: 44287 | C17: 44377 | D17: Servidor[a] público[a] eventual | E17: 162402 | F17: PROFESIONISTA | G17: PROFESIONISTA | H17: ENLACES REGIONALES PARA EL DESARROLLO INTEGRAL | I17: HANS WILIAN GERMAN | J17: ALFONZO | K17: CORDOVA | L17: Inicio | M17: https://declarachiapas.shyfpchiapas.gob.mx/consulta/declaracion/188306/simplificado-p | N17: Área de Recursos Humanos | O17: 44377 | P17: 44378 | Q17: S/D
A18: 2021 | B18: 44287 | C18: 44377 | D18: Servidor[a] público[a] eventual | E18: 172406 | F18: PROCURADORES MUNICIPALES | G18: PROCURADORES MUNICIPALES | H18: PROCURADURÍAS MUNICIPALES DE PROTECCION DE NIÑAS, NIÑOS, ADOLESCENTES Y LA FAMILIA | I18: FRANCISCO ENRIQUE | J18: ACEITUNO | K18: CHOY | L18: Inicio | M18: https://declarachiapas.shyfpchiapas.gob.mx/consulta/declaracion/188195/aviso-p | N18: Área de Recursos Humanos | O18: 44377 | P18: 44378 | Q18: S/D
A19: 2021 | B19: 44287 | C19: 44377 | D19: Servidor(a) público(a) | E19: 112425 | F19: ANALISTA | G19: ANALISTA | H19: CASA HOGAR PARA ADOLESCENTES | I19: LUIS SANTIAGO | J19: ZAVALETA | K19: VAZQUEZ | L19: Inicio | M19: https://declarachiapas.shyfpchiapas.gob.mx/consulta/declaracion/187979/simplificado-p | N19: Área de Recursos Humanos | O19: 44377 | P19: 44378 | Q19: S/D
... A584: 2021 | B584: 44287 | C584: 44377 | D584: Servidor[a] público[a] eventual | E584: 172406 | F584: PSICÓLOGO | G584: PSICÓLOGO | H584: ATENCIÓN EMERGENTE PARA NIÑAS, NIÑOS, ADOLESCENTES Y FAMILIAS MIGRANTES | I584: CINDY PAOLA | J584: OROZCO | K584: PAVON | L584: Inicio | M584: https://declarachiapas.shyfpchiapas.gob.mx/consulta/declaracion/262022/simplificado-p | N584: Área de Recursos Humanos | O584: 44377 | P584: 44378 | Q584: S/D

Sheet Hoja4
A1: Ejercicio | B1: Fecha de inicio del periodo que se informa | C1: Fecha de término del periodo que se informa | D1: Tipo de integrante del sujeto obligado (catálogo) | E1: Clave o nivel del puesto | F1: Columna1 | G1: Denominación del puesto | H1: Denominación del cargo | I1: Área de adscripción | J1: Nombre(s) del(la) servidor(a) público(a) | K1: Primer apellido del(la) servidor(a) público(a) | L1: Segundo apellido del(la) servidor(a) público(a) | M1: Modalidad de la Declaración Patrimonial (catálogo) | N1: Hipervínculo a la versión pública Declaración de Situación Patrimonial | O1: Área(s) responsable(s) que genera(n), posee(n), publica(n) y actualizan la información | P1: Fecha de validación | Q1: Fecha de actualización | R1: Nota
A2: 2021 | B2: 44287 | C2: 44377 | D2: Servidor(a) público(a) | E2: 110305 | F2: =Tabla2[[#This Row],[Tipo de integrante del sujeto obligado (catálogo)]] -> Servidor(a) público(a) | G2: DIRECTOR DE AREA | H2: DIRECTOR DE AREA | I2: DIRECCION DE PROFESIONALIZACION DE LA ASISTENCIA SOCIAL | J2: ELENA EUGENIA | K2: DE LA CRUZ | L2: FARRERA | M2: Modificación | N2: http://www.sistemas.chiapas.gob.mx/TransparenciaV3/Descargas/DescargarArchivo/?idArchivo=72725&tipoArchivo=1 | O2: Área de Recursos Humanos | P2: 44377 | Q2: 44378 | R2: S/D
A3: 2021 | B3: 44287 | C3: 44377 | D3: Servidor(a) público(a) | E3: 110305 | F3: =Tabla2[[#This Row],[Tipo de integrante del sujeto obligado (catálogo)]] -> Servidor(a) público(a) | G3: MANDO MEDIO E (NO ESPECÍFICO/BASIFICADO) | H3: MANDO MEDIO E (NO ESPECÍFICO/BASIFICADO) | I3: DIRECCION DE SEGURIDAD ALIMENTARIA | J3: MANUEL DE JESUS | K3: MARTINEZ | L3: HERNANDEZ | M3: Modificación | N3: http://www.sistemas.chiapas.gob.mx/TransparenciaV3/Descargas/DescargarArchivo/?idArchivo=72725&tipoArchivo=1 | O3: Área de Recursos Humanos | P3: 44377 | Q3: 44378 | R3: S/D
A4: 2021 | B4: 44287 | C4: 44377 | D4: Servidor(a) público(a) | E4: 110305 | F4: =Tabla2[[#This Row],[Tipo de integrante del sujeto obligado (catálogo)]] -> Servidor(a) público(a) | G4: DIRECTOR DE AREA | H4: DIRECTOR DE AREA | I4: DIRECCION DE ASISTENCIA SOCIAL EDUCATIVA | J4: PATRICIA | K4: PEDRERO | L4: SALINAS | M4: Modificación | N4: http://www.sistemas.chiapas.gob.mx/TransparenciaV3/Descargas/DescargarArchivo/?idArchivo=72725&tipoArchivo=1 | O4: Área de Recursos Humanos | P4: 44377 | Q4: 44378 | R4: S/D
A5: 2021 | B5: 44287 | C5: 44377 | D5: Servidor(a) público(a) | E5: 110305 | F5: =Tabla2[[#This Row],[Tipo de integrante del sujeto obligado (catálogo)]] -> Servidor(a) público(a) | G5: DIRECTOR | H5: DIRECTOR | I5: DIRECCION DE ATENCION A GRUPOS VULNERABLES Y ASISTENCIA EN SALUD | J5: SERGIO RAUL | K5: NURICUMBO | L5: MELCHOR | M5: Modificación | N5: http://www.sistemas.chiapas.gob.mx/TransparenciaV3/Descargas/DescargarArchivo/?idArchivo=72725&tipoArchivo=1 | O5: Área de Recursos Humanos | P5: 44377 | Q5: 44378 | R5: S/D
A6: 2021 | B6: 44287 | C6: 44377 | D6: Servidor(a) público(a) | E6: 110305 | F6: =Tabla2[[#This Row],[Tipo de integrante del sujeto obligado (catálogo)]] -> Servidor(a) público(a) | G6: DIRECTOR | H6: DIRECTOR | I6: PROCURADURIA DE PROTECCION DE NIÑAS, NIÑOS, ADOLESCENTES Y LA FAMILIA | J6: MARIA ISABEL | K6: CRUZ | L6: CRUZ | M6: Modificación | N6: http://www.sistemas.chiapas.gob.mx/TransparenciaV3/Descargas/DescargarArchivo/?idArchivo=72725&tipoArchivo=1 | O6: Área de Recursos Humanos | P6: 44377 | Q6: 44378 | R6: S/D
A7: 2021 | B7: 44287 | C7: 44377 | D7: Servidor(a) público(a) | E7: 110404 | F7: =Tabla2[[#This Row],[Tipo de integrante del sujeto obligado (catálogo)]] -> Servidor(a) público(a) | G7: ANALISTA ESPECIALIZADO | H7: ANALISTA ESPECIALIZADO | I7: DIRECCION DE SEGURIDAD ALIMENTARIA | J7: JORGE ALBERTO | K7: NERIA | L7: BUERE | M7: Inicio | N7: http://www.sistemas.chiapas.gob.mx/TransparenciaV3/Descargas/DescargarArchivo/?idArchivo=72725&tipoArchivo=1 | O7: Área de Recursos Humanos | P7: 44377 | Q7: 44378 | R7: S/D
A8: 2021 | B8: 44287 | C8: 44377 | D8: Servidor(a) público(a) | E8: 110404 | F8: =Tabla2[[#This Row],[Tipo de integrante del sujeto obligado (catálogo)]] -> Servidor(a) público(a) | G8: ANALISTA ESPECIALIZADO | H8: ANALISTA ESPECIALIZADO | I8: DEPARTAMENTO DE OPERACIÓN DE PROGRAMAS ALIMENTARIOS | J8: ADRIANA CRYSTAL | K8: PANIAGUA | L8: ALAMILLA | M8: Inicio | N8: http://www.sistemas.chiapas.gob.mx/TransparenciaV3/Descargas/DescargarArchivo/?idArchivo=72725&tipoArchivo=1 | O8: Área de Recursos Humanos | P8: 44377 | Q8: 44378 | R8: S/D
A9: 2021 | B9: 44287 | C9: 44377 | D9: Servidor(a) público(a) | E9: 110404 | F9: =Tabla2[[#This Row],[Tipo de integrante del sujeto obligado (catálogo)]] -> Servidor(a) público(a) | G9: ANALISTA ESPECIALIZADO | H9: ANALISTA ESPECIALIZADO | I9: DEPARTAMENTO DE CAPACITACIÓN, CERTIFICACIÓN E INFORMACIÓN DE ASISTENCIA SOCIAL | J9: RAFAEL | K9: ESTRADA | L9: PEREZ | M9: Inicio | N9: http://www.sistemas.chiapas.gob.mx/TransparenciaV3/Descargas/DescargarArchivo/?idArchivo=72725&tipoArchivo=1 | O9: Área de Recursos Humanos | P9: 44377 | Q9: 44378 | R9: S/D
A10: 2021 | B10: 44287 | C10: 44377 | D10: Servidor(a) público(a) | E10: 110404 | F10: =Tabla2[[#This Row],[Tipo de integrante del sujeto obligado (catálogo)]] -> Servidor(a) público(a) | G10: ANALISTA ESPECIALIZADO | H10: ANALISTA ESPECIALIZADO | I10: PROCURADURIA DE PROTECCION DE NIÑAS, NIÑOS, ADOLESCENTES Y LA FAMILIA | J10: JORGE | K10: HERNANDEZ | L10: SALINAS | M10: Inicio | N10: http://www.sistemas.chiapas.gob.mx/TransparenciaV3/Descargas/DescargarArchivo/?idArchivo=72725&tipoArchivo=1 | O10: Área de Recursos Humanos | P10: 44377 | Q10: 44378 | R10: S/D
A11: 2021 | B11: 44287 | C11: 44377 | D11: Servidor(a) público(a) | E11: 110404 | F11: =Tabla2[[#This Row],[Tipo de integrante del sujeto obligado (catálogo)]] -> Servidor(a) público(a) | G11: ANALISTA ESPECIALIZADO | H11: ANALISTA ESPECIALIZADO | I11: ÁREA DE RECURSOS FINANCIEROS | J11: BRENDA | K11: GORDILLO | L11: PONCE | M11: Modificación | N11: http://www.sistemas.chiapas.gob.mx/TransparenciaV3/Descargas/DescargarArchivo/?idArchivo=72725&tipoArchivo=1 | O11: Área de Recursos Humanos | P11: 44377 | Q11: 44378 | R11: S/D
A12: 2021 | B12: 44287 | C12: 44377 | D12: Servidor(a) público(a) | E12: 110404 | F12: =Tabla2[[#This Row],[Tipo de integrante del sujeto obligado (catálogo)]] -> Servidor(a) público(a) | G12: ANALISTA ESPECIALIZADO | H12: ANALISTA ESPECIALIZADO | I12: COMISARIA | J12: GERARDO DE JESUS | K12: NORIEGA | L12: CASTAÑO | M12: Modificación | N12: http://www.sistemas.chiapas.gob.mx/TransparenciaV3/Descargas/DescargarArchivo/?idArchivo=72725&tipoArchivo=1 | O12: Área de Recursos Humanos | P12: 44377 | Q12: 44378 | R12: S/D
A13: 2021 | B13: 44287 | C13: 44377 | D13: Servidor(a) público(a) | E13: 110404 | F13: =Tabla2[[#This Row],[Tipo de integrante del sujeto obligado (catálogo)]] -> Servidor(a) público(a) | G13: ANALISTA ESPECIALIZADO | H13: ANALISTA ESPECIALIZADO | I13: COMISARIA | J13: BELISARIO AGUSTIN | K13: TRUJILLO | L13: HERNANDEZ | M13: Modificación | N13: http://www.sistemas.chiapas.gob.mx/TransparenciaV3/Descargas/DescargarArchivo/?idArchivo=72725&tipoArchivo=1 | O13: Área de Recursos Humanos | P13: 44377 | Q13: 44378 | R13: S/D
... A578: 2021 | B578: 44287 | C578: 44377 | D578: Servidor[a] público[a] eventual | E578: 173121 | F578: =Tabla2[[#This Row],[Tipo de integrante del sujeto obligado (catálogo)]] -> Servidor[a] público[a] eventual | G578: TÉCNICO MEDIO "A" | H578: TÉCNICO MEDIO "A" | I578: CENDI EDUCANDO CON AMOR | J578: AIREL IVETH | K578: ZAMORANO | L578: MANDUJANO | M578: Modificación | N578: http://www.sistemas.chiapas.gob.mx/TransparenciaV3/Descargas/DescargarArchivo/?idArchivo=72725&tipoArchivo=1 | O578: Área de Recursos Humanos | P578: 44377 | Q578: 44378 | R578: S/D

Sheet Reporte de Formatos
A1: 47635
A2: TÍTULO | D2: NOMBRE CORTO | G2: DESCRIPCIÓN
A3: Declaraciones de situación patrimonial | D3: 18LTAIPECHF12 | G3: Se publicará la versión pública de la declaración de situación patrimonial de los(as) servidores(as) públicos(as), integrantes, miembros del sujeto obligado y/o toda persona que desempeñe un empleo, cargo o comisión y/o ejerza actos de autoridad, y que tiene la obligación de presentar declaración de situación patrimonial en sus tres modalidades: inicio, modificación y de conclusión, de conformidad con la normatividad que resulte aplicable.
A4: 1 | B4: 4 | C4: 4 | D4: 9 | E4: 1 | F4: 1 | G4: 1 | H4: 1 | I4: 1 | J4: 1 | K4: 1 | L4: 9 | M4: 7 | N4: 2 | O4: 4 | P4: 13 | Q4: 14
A5: 412568 | B5: 412574 | C5: 412575 | D5: 412572 | E5: 412580 | F5: 412578 | G5: 412565 | H5: 412581 | I5: 412579 | J5: 412566 | K5: 412567 | L5: 412571 | M5: 412570 | N5: 412576 | O5: 412569 | P5: 412573 | Q5: 412577
A6: Tabla Campos
A7: Ejercicio | B7: Fecha de inicio del periodo que se informa | C7: Fecha de término del periodo que se informa | D7: Tipo de integrante del sujeto obligado (catálogo) | E7: Clave o nivel del puesto | F7: Denominación del puesto | G7: Denominación del cargo | H7: Área de adscripción | I7: Nombre(s) del(la) servidor(a) público(a) | J7: Primer apellido del(la) servidor(a) público(a) | K7: Segundo apellido del(la) servidor(a) público(a) | L7: Modalidad de la Declaración Patrimonial (catálogo) | M7: Hipervínculo a la versión pública Declaración de Situación Patrimonial | N7: Área(s) responsable(s) que genera(n), posee(n), publica(n) y actualizan la información | O7: Fecha de validación | P7: Fecha de actualización | Q7: Nota
A8: 2021 | B8: 44287 | C8: 44377 | D8: Servidor[a] público[a] eventual | E8: =VLOOKUP(F8,Hoja1!H:I,2,FALSE) -> 111437 | F8: COORDINADOR | G8: COORDINADOR | H8: ALBERGUE TEMPORAL PARA MENORES MIGRANTES | I8: GIAYDI | J8: GUTIERREZ | K8: RIOS | L8: Conclusión | M8: http://www.sistemas.chiapas.gob.mx/TransparenciaV3/Descargas/DescargarArchivo/?idArchivo=72725&tipoArchivo=1 | N8: Área de Recursos Humanos | O8: 44377 | P8: 44378 | Q8: S/D
A9: 2021 | B9: 44287 | C9: 44377 | D9: Servidor[a] público[a] eventual | E9: =VLOOKUP(F9,Hoja1!H:I,2,FALSE) -> 112425 | F9: ANALISTA | G9: ANALISTA | H9: DELEGACIÓN V ALTOS TSOTSIL-TSELTAL | I9: DULCE MARIA | J9: MOLINA | K9: RIOS | L9: Inicio | M9: http://www.sistemas.chiapas.gob.mx/TransparenciaV3/Descargas/DescargarArchivo/?idArchivo=72725&tipoArchivo=1 | N9: Área de Recursos Humanos | O9: 44377 | P9: 44378 | Q9: S/D
A10: 2021 | B10: 44287 | C10: 44377 | D10: Servidor[a] público[a] eventual | E10: =VLOOKUP(F10,Hoja1!H:I,2,FALSE) -> 162402 | F10: PROFESIONISTA | G10: PROFESIONISTA | H10: PROCURADURÍAS MUNICIPALES DE PROTECCION DE NIÑAS, NIÑOS, ADOLESCENTES Y LA FAMILIA | I10: ANA GUADALUPE | J10: PEREZ | K10: PEREZ | L10: Conclusión | M10: http://www.sistemas.chiapas.gob.mx/TransparenciaV3/Descargas/DescargarArchivo/?idArchivo=72725&tipoArchivo=1 | N10: Área de Recursos Humanos | O10: 44377 | P10: 44378 | Q10: S/D
A11: 2021 | B11: 44287 | C11: 44377 | D11: Servidor[a] público[a] eventual | E11: =VLOOKUP(F11,Hoja1!H:I,2,FALSE) -> 162402 | F11: PROFESIONISTA | G11: PROFESIONISTA | H11: ENLACES REGIONALES PARA EL DESARROLLO INTEGRAL | I11: RAFAEL | J11: CASTRO | K11: GOMEZ | L11: Inicio | M11: http://www.sistemas.chiapas.gob.mx/TransparenciaV3/Descargas/DescargarArchivo/?idArchivo=72725&tipoArchivo=1 | N11: Área de Recursos Humanos | O11: 44377 | P11: 44378 | Q11: S/D
A12: 2021 | B12: 44287 | C12: 44377 | D12: Servidor[a] público[a] eventual | E12: =VLOOKUP(F12,Hoja1!H:I,2,FALSE) -> 112425 | F12: ANALISTA | G12: ANALISTA | H12: DELEGACIÓN V ALTOS TSOTSIL-TSELTAL | I12: DULCE MARIA | J12: MOLINA | K12: RIOS | L12: Conclusión | M12: http://www.sistemas.chiapas.gob.mx/TransparenciaV3/Descargas/DescargarArchivo/?idArchivo=72725&tipoArchivo=1 | N12: Área de Recursos Humanos | O12: 44377 | P12: 44378 | Q12: S/D
A13: 2021 | B13: 44287 | C13: 44377 | D13: Servidor[a] público[a] eventual | E13: =VLOOKUP(F13,Hoja1!H:I,2,FALSE) -> 173121 | F13: TÉCNICO MEDIO "A" | G13: TÉCNICO MEDIO "A" | H13: ASISTENCIA INFANTIL DE CORAZÓN | I13: MARIA ASUNCION | J13: VAZQUEZ | K13: LOPEZ | L13: Inicio | M13: http://www.sistemas.chiapas.gob.mx/TransparenciaV3/Descargas/DescargarArchivo/?idArchivo=72725&tipoArchivo=1 | N13: Área de Recursos Humanos | O13: 44377 | P13: 44378 | Q13: S/D
A14: 2021 | B14: 44287 | C14: 44377 | D14: Servidor[a] público[a] eventual | E14: =VLOOKUP(F14,Hoja1!H:I,2,FALSE) -> 173111 | F14: TÉCNICO | G14: TÉCNICO | H14: OFICINA DE ATENCIÓN Y CANALIZACIÓN | I14: JOSE LUIS | J14: ALFONSO | K14: GUILLEN | L14: Inicio | M14: http://www.sistemas.chiapas.gob.mx/TransparenciaV3/Descargas/DescargarArchivo/?idArchivo=72725&tipoArchivo=1 | N14: Área de Recursos Humanos | O14: 44377 | P14: 44378 | Q14: S/D
A15: 2021 | B15: 44287 | C15: 44377 | D15: Servidor[a] público[a] eventual | E15: =VLOOKUP(F15,Hoja1!H:I,2,FALSE) -> 172406 | F15: EDUCADORA PARA CENTROS DE DESARROLLO INFANTIL | G15: EDUCADORA PARA CENTROS DE DESARROLLO INFANTIL | H15: ASISTENCIA INFANTIL DE CORAZÓN | I15: YAZARET | J15: HERNANDEZ | K15: PERALTA | L15: Inicio | M15: http://www.sistemas.chiapas.gob.mx/TransparenciaV3/Descargas/DescargarArchivo/?idArchivo=72725&tipoArchivo=1 | N15: Área de Recursos Humanos | O15: 44377 | P15: 44378 | Q15: S/D
A16: 2021 | B16: 44287 | C16: 44377 | D16: Servidor[a] público[a] eventual | E16: =VLOOKUP(F16,Hoja1!H:I,2,FALSE) -> 110903 | F16: OFICINISTA | G16: OFICINISTA | H16: DEPARTAMENTO DE REHABILITACIÓN INTEGRAL | I16: ADRIANA LIZBETH | J16: MARTINEZ | K16: TIPACAMU | L16: Inicio | M16: http://www.sistemas.chiapas.gob.mx/TransparenciaV3/Descargas/DescargarArchivo/?idArchivo=72725&tipoArchivo=1 | N16: Área de Recursos Humanos | O16: 44377 | P16: 44378 | Q16: S/D
A17: 2021 | B17: 44287 | C17: 44377 | D17: Servidor[a] público[a] eventual | E17: =VLOOKUP(F17,Hoja1!H:I,2,FALSE) -> 162402 | F17: PROFESIONISTA | G17: PROFESIONISTA | H17: ENLACES REGIONALES PARA EL DESARROLLO INTEGRAL | I17: HANS WILIAN GERMAN | J17: ALFONZO | K17: CORDOVA | L17: Inicio | M17: http://www.sistemas.chiapas.gob.mx/TransparenciaV3/Descargas/DescargarArchivo/?idArchivo=72725&tipoArchivo=1 | N17: Área de Recursos Humanos | O17: 44377 | P17: 44378 | Q17: S/D
A18: 2021 | B18: 44287 | C18: 44377 | D18: Servidor[a] público[a] eventual | E18: =VLOOKUP(F18,Hoja1!H:I,2,FALSE) -> 172406 | F18: PROCURADORES MUNICIPALES | G18: PROCURADORES MUNICIPALES | H18: PROCURADURÍAS MUNICIPALES DE PROTECCION DE NIÑAS, NIÑOS, ADOLESCENTES Y LA FAMILIA | I18: FRANCISCO ENRIQUE | J18: ACEITUNO | K18: CHOY | L18: Inicio | M18: http://www.sistemas.chiapas.gob.mx/TransparenciaV3/Descargas/DescargarArchivo/?idArchivo=72725&tipoArchivo=1 | N18: Área de Recursos Humanos | O18: 44377 | P18: 44378 | Q18: S/D
A19: 2021 | B19: 44287 | C19: 44377 | D19: Servidor[a] público[a] eventual | E19: =VLOOKUP(F19,Hoja1!H:I,2,FALSE) -> 112425 | F19: ANALISTA | G19: ANALISTA | H19: CASA HOGAR PARA ADOLESCENTES | I19: LUIS SANTIAGO | J19: ZAVALETA | K19: VAZQUEZ | L19: Inicio | M19: http://www.sistemas.chiapas.gob.mx/TransparenciaV3/Descargas/DescargarArchivo/?idArchivo=72725&tipoArchivo=1 | N19: Área de Recursos Humanos | O19: 44377 | P19: 44378 | Q19: S/D
... A211: 2021 | B211: 44287 | C211: 44377 | D211: Servidor[a] público[a] eventual | E211: =VLOOKUP(F211,Hoja1!H:I,2,FALSE) -> 112425 | F211: ANALISTA | G211: ANALISTA | H211: ÁREA DE RECURSOS HUMANOS | I211: SIMON | J211: PORRAZ | K211: ALEGRIA | L211: Inicio | M211: http://www.sistemas.chiapas.gob.mx/TransparenciaV3/Descargas/DescargarArchivo/?idArchivo=72725&tipoArchivo=1 | N211: Área de Recursos Humanos | O211: 44377 | P211: 44378 | Q211: S/D
A212: 2021 | B212: 44287 | C212: 44377 | D212: Servidor[a] público[a] eventual | F212: INTENDENTE | G212: INTENDENTE | H212: CASA HOGAR PARA ANCIANOS II | I212: ELIZABETT | J212: LOPEZ | K212: AGUILAR | L212: Inicio | M212: http://www.sistemas.chiapas.gob.mx/TransparenciaV3/Descargas/DescargarArchivo/?idArchivo=72725&tipoArchivo=1 | N212: Área de Recursos Humanos | O212: 44377 | P212: 44378 | Q212: S/D
A213: 2021 | B213: 44287 | C213: 44377 | D213: Servidor[a] público[a] eventual | F213: AUXILIAR DE SERVICIOS | G213: AUXILIAR DE SERVICIOS | H213: CENTRO DE ATENCIÓN A NIÑAS, NIÑOS Y JÓVENES MIGRANTES | I213: MARIA DE LOS ANGELES | J213: SILVESTRE | K213: AGUSTIN | L213: Inicio | M213: http://www.sistemas.chiapas.gob.mx/TransparenciaV3/Descargas/DescargarArchivo/?idArchivo=72725&tipoArchivo=1 | N213: Área de Recursos Humanos | O213: 44377 | P213: 44378 | Q213: S/D
A214: 2021 | B214: 44287 | C214: 44377 | D214: Servidor[a] público[a] eventual | F214: INTENDENTE | G214: INTENDENTE | H214: CASA HOGAR PARA ANCIANOS II | I214: MARIA ELENA | J214: RAMIREZ | K214: FUENTES | L214: Inicio | M214: http://www.sistemas.chiapas.gob.mx/TransparenciaV3/Descargas/DescargarArchivo/?idArchivo=72725&tipoArchivo=1 | N214: Área de Recursos Humanos | O214: 44377 | P214: 44378 | Q214: S/D
A215: 2021 | B215: 44287 | C215: 44377 | D215: Servidor[a] público[a] eventual | F215: AUXILIAR DE SERVICIOS | G215: AUXILIAR DE SERVICIOS | H215: CASA HOGAR PARA ADOLESCENTES | I215: MARISOL | J215: PEREZ | K215: VAZQUEZ | L215: Inicio | M215: http://www.sistemas.chiapas.gob.mx/TransparenciaV3/Descargas/DescargarArchivo/?idArchivo=72725&tipoArchivo=1 | N215: Área de Recursos Humanos | O215: 44377 | P215: 44378 | Q215: S/D
A216: 2021 | B216: 44287 | C216: 44377 | D216: Servidor[a] público[a] eventual | F216: AUXILIAR DE SERVICIOS | G216: AUXILIAR DE SERVICIOS | H216: CASA HOGAR INFANTIL | I216: CELIA | J216: HERNANDEZ | K216: ARGUELLO | L216: Inicio | M216: http://www.sistemas.chiapas.gob.mx/TransparenciaV3/Descargas/DescargarArchivo/?idArchivo=72725&tipoArchivo=1 | N216: Área de Recursos Humanos | O216: 44377 | P216: 44378 | Q216: S/D
A217: 2021 | B217: 44287 | C217: 44377 | D217: Servidor[a] público[a] eventual | F217: AUXILIAR ADMINISTRATIVO | G217: AUXILIAR ADMINISTRATIVO | H217: DIRECCION GENERAL | I217: CARLOS | J217: DIAZ | K217: VELASCO | L217: Inicio | M217: http://www.sistemas.chiapas.gob.mx/TransparenciaV3/Descargas/DescargarArchivo/?idArchivo=72725&tipoArchivo=1 | N217: Área de Recursos Humanos | O217: 44377 | P217: 44378 | Q217: S/D
A218: 2021 | B218: 44287 | C218: 44377 | D218: Servidor[a] público[a] eventual | F218: AUXILIAR DE SERVICIOS | G218: AUXILIAR DE SERVICIOS | H218: CASA HOGAR INFANTIL | I218: ROSA | J218: AREVALO | K218: PEREZ | L218: Inicio | M218: http://www.sistemas.chiapas.gob.mx/TransparenciaV3/Descargas/DescargarArchivo/?idArchivo=72725&tipoArchivo=1 | N218: Área de Recursos Humanos | O218: 44377 | P218: 44378 | Q218: S/D
A219: 2021 | B219: 44287 | C219: 44377 | D219: Servidor[a] público[a] eventual | F219: AUXILIAR DE SERVICIOS | G219: AUXILIAR DE SERVICIOS | H219: CASA HOGAR INFANTIL | I219: MARIA ISABEL | J219: GOMEZ | K219: ORTIZ | L219: Inicio | M219: http://www.sistemas.chiapas.gob.mx/TransparenciaV3/Descargas/DescargarArchivo/?idArchivo=72725&tipoArchivo=1 | N219: Área de Recursos Humanos | O219: 44377 | P219: 44378 | Q219: S/D
A220: 2021 | B220: 44287 | C220: 44377 | D220: Servidor[a] público[a] eventual | F220: ANALISTA | G220: ANALISTA | H220: ALBERGUE TEMPORAL PARA MENORES MIGRANTES | I220: MAGNOLIA | J220: GOMEZ | K220: DOMINGUEZ | L220: Inicio | M220: http://www.sistemas.chiapas.gob.mx/TransparenciaV3/Descargas/DescargarArchivo/?idArchivo=72725&tipoArchivo=1 | N220: Área de Recursos Humanos | O220: 44377 | P220: 44378 | Q220: S/D
A221: 2021 | B221: 44287 | C221: 44377 | D221: Servidor[a] público[a] eventual | F221: AUXILIAR DE SERVICIOS | G221: AUXILIAR DE SERVICIOS | H221: CASA HOGAR INFANTIL | I221: BLANCA DEL CARMEN | J221: CANO | K221: CUE | L221: Inicio | M221: http://www.sistemas.chiapas.gob.mx/TransparenciaV3/Descargas/DescargarArchivo/?idArchivo=72725&tipoArchivo=1 | N221: Área de Recursos Humanos | O221: 44377 | P221: 44378 | Q221: S/D
A222: 2021 | B222: 44287 | C222: 44377 | D222: Servidor[a] público[a] eventual | F222: AUXILIAR DE SERVICIOS | G222: AUXILIAR DE SERVICIOS | H222: ALBERGUE TEMPORAL PARA MENORES MIGRANTES | I222: CLAUDIA GABRIELA | J222: DE LEON | K222: ARCE | L222: Inicio | M222: http://www.sistemas.chiapas.gob.mx/TransparenciaV3/Descargas/DescargarArchivo/?idArchivo=72725&tipoArchivo=1 | N222: Área de Recursos Humanos | O222: 44377 | P222: 44378 | Q222: S/D
A223: 2021 | B223: 44287 | C223: 44377 | D223: Servidor[a] público[a] eventual | F223: AUXILIAR DE SERVICIOS | G223: AUXILIAR DE SERVICIOS | H223: CASA HOGAR INFANTIL | I223: MARIA MINERVA | J223: BURGUETE | K223: MARTINEZ | L223: Inicio | M223: http://www.sistemas.chiapas.gob.mx/TransparenciaV3/Descargas/DescargarArchivo/?idArchivo=72725&tipoArchivo=1 | N223: Área de Recursos Humanos | O223: 44377 | P223: 44378 | Q223: S/D
... A584: 2021 | B584: 44287 | C584: 44377 | D584: Servidor(a) público(a) | F584: PSICÓLOGO | G584: PSICÓLOGO | H584: ATENCIÓN EMERGENTE PARA NIÑAS, NIÑOS, ADOLESCENTES Y FAMILIAS MIGRANTES | I584: CINDY PAOLA | J584: OROZCO | K584: PAVON | L584: Inicio | M584: http://www.sistemas.chiapas.gob.mx/TransparenciaV3/Descargas/DescargarArchivo/?idArchivo=72725&tipoArchivo=1 | N584: Área de Recursos Humanos | O584: 44377 | P584: 44378 | Q584: S/D

Sheet Hoja1
A1: Clave o nivel del puesto | B1: Denominación del puesto | C1: Codigo
A2: ='Reporte de Formatos'!E8 -> 111437 | B2: ='Reporte de Formatos'!F8 -> COORDINADOR | C2: =Tabla1[[#This Row],[Clave o nivel del puesto]] -> 111437 | H2: Puesto | I2: Codigo
A3: ='Reporte de Formatos'!E9 -> 112425 | B3: ='Reporte de Formatos'!F9 -> ANALISTA | C3: =Tabla1[[#This Row],[Clave o nivel del puesto]] -> 112425 | E3: Etiquetas de fila | H3: ABOGADO | I3: 172406
A4: ='Reporte de Formatos'!E10 -> 162402 | B4: ='Reporte de Formatos'!F10 -> PROFESIONISTA | C4: =Tabla1[[#This Row],[Clave o nivel del puesto]] -> 162402 | E4: ABOGADO | H4: ANALISTA | I4: 112425
A5: ='Reporte de Formatos'!E11 -> 162402 | B5: ='Reporte de Formatos'!F11 -> PROFESIONISTA | C5: =Tabla1[[#This Row],[Clave o nivel del puesto]] -> 162402 | E5: ANALISTA | H5: ANALISTA "B" (NO ESPECIFICO/BASIFICADO) | I5: 110702
A6: ='Reporte de Formatos'!E12 -> 112425 | B6: ='Reporte de Formatos'!F12 -> ANALISTA | C6: =Tabla1[[#This Row],[Clave o nivel del puesto]] -> 112425 | E6: ANALISTA "B" (NO ESPECIFICO/BASIFICADO) | H6: ANALISTA "C" (NO ESPECIFICO/BASIFICADO) | I6: 110703
A7: ='Reporte de Formatos'!E13 -> 173121 | B7: ='Reporte de Formatos'!F13 -> TÉCNICO MEDIO "A" | C7: =Tabla1[[#This Row],[Clave o nivel del puesto]] -> 173121 | E7: ANALISTA "C" (NO ESPECIFICO/BASIFICADO) | H7: ANALISTA "D" (NO ESPECIFICO/BASIFICADO) | I7: 110704
A8: ='Reporte de Formatos'!E14 -> 173111 | B8: ='Reporte de Formatos'!F14 -> TÉCNICO | C8: =Tabla1[[#This Row],[Clave o nivel del puesto]] -> 173111 | E8: ANALISTA "D" (NO ESPECIFICO/BASIFICADO) | H8: ANALISTA "F" (NO ESPECIFICO/BASIFICADO) | I8: 110706
A9: ='Reporte de Formatos'!E15 -> 172406 | B9: ='Reporte de Formatos'!F15 -> EDUCADORA PARA CENTROS DE DESARROLLO INFANTIL | C9: =Tabla1[[#This Row],[Clave o nivel del puesto]] -> 172406 | E9: ANALISTA "F" (NO ESPECIFICO/BASIFICADO) | H9: ANALISTA "G" (NO ESPECIFICO/BASIFICADO) | I9: 110707
A10: ='Reporte de Formatos'!E16 -> 110903 | B10: ='Reporte de Formatos'!F16 -> OFICINISTA | C10: =Tabla1[[#This Row],[Clave o nivel del puesto]] -> 110903 | E10: ANALISTA "G" (NO ESPECIFICO/BASIFICADO) | H10: ANALISTA ADMINISTRATIVO | I10: 111607
A11: ='Reporte de Formatos'!E17 -> 162402 | B11: ='Reporte de Formatos'!F17 -> PROFESIONISTA | C11: =Tabla1[[#This Row],[Clave o nivel del puesto]] -> 162402 | E11: ANALISTA ADMINISTRATIVO | H11: ANALISTA DE OPERACIÓN | I11: 130203
A12: ='Reporte de Formatos'!E18 -> 172406 | B12: ='Reporte de Formatos'!F18 -> PROCURADORES MUNICIPALES | C12: =Tabla1[[#This Row],[Clave o nivel del puesto]] -> 172406 | E12: ANALISTA DE OPERACIÓN | H12: ANALISTA ESPECIALIZADO | I12: 110404
A13: ='Reporte de Formatos'!E19 -> 112425 | B13: ='Reporte de Formatos'!F19 -> ANALISTA | C13: =Tabla1[[#This Row],[Clave o nivel del puesto]] -> 112425 | E13: ANALISTA ESPECIALIZADO | H13: ANALISTA PROGRAMADOR | I13: 112426
A14: ='Reporte de Formatos'!E20 -> 172406 | B14: ='Reporte de Formatos'!F20 -> PROCURADORES MUNICIPALES | C14: =Tabla1[[#This Row],[Clave o nivel del puesto]] -> 172406 | E14: ANALISTA PROGRAMADOR | H14: ANALISTA TÉCNICO "A" | I14: 110704
... A83: ='Reporte de Formatos'!E89 -> 173111 | B83: ='Reporte de Formatos'!F89 -> VIGILANTE | C83: =Tabla1[[#This Row],[Clave o nivel del puesto]] -> 173111 | E83: TRABAJADORA SOCIAL EN AREA MEDICA "A" | H83: VIGILANTE | I83: 173111
A84: ='Reporte de Formatos'!E90 -> 112425 | B84: ='Reporte de Formatos'!F90 -> ANALISTA | C84: =Tabla1[[#This Row],[Clave o nivel del puesto]] -> 112425 | E84: VIGILANTE | H84: VIGILANTE B | I84: hhghg
A85: ='Reporte de Formatos'!E91 -> 173111 | B85: ='Reporte de Formatos'!F91 -> TÉCNICO | C85: =Tabla1[[#This Row],[Clave o nivel del puesto]] -> 173111 | E85: Total general
A86: ='Reporte de Formatos'!E92 -> 112425 | B86: ='Reporte de Formatos'!F92 -> ANALISTA | C86: =Tabla1[[#This Row],[Clave o nivel del puesto]] -> 112425
A87: ='Reporte de Formatos'!E93 -> 111601 | B87: ='Reporte de Formatos'!F93 -> JEFE DE OFICINA | C87: =Tabla1[[#This Row],[Clave o nivel del puesto]] -> 111601
A88: ='Reporte de Formatos'!E94 -> 114207 | B88: ='Reporte de Formatos'!F94 -> AYUDANTE GENERAL | C88: =Tabla1[[#This Row],[Clave o nivel del puesto]] -> 114207
A89: ='Reporte de Formatos'!E95 -> 173111 | B89: ='Reporte de Formatos'!F95 -> TÉCNICO | C89: =Tabla1[[#This Row],[Clave o nivel del puesto]] -> 173111
A90: ='Reporte de Formatos'!E96 -> 111202 | B90: ='Reporte de Formatos'!F96 -> AUXILIAR DE SERVICIOS | C90: =Tabla1[[#This Row],[Clave o nivel del puesto]] -> 111202
A91: ='Reporte de Formatos'!E97 -> 117301 | B91: ='Reporte de Formatos'!F97 -> INTENDENTE | C91: =Tabla1[[#This Row],[Clave o nivel del puesto]] -> 117301
A92: ='Reporte de Formatos'!E98 -> 111202 | B92: ='Reporte de Formatos'!F98 -> AUXILIAR DE SERVICIOS | C92: =Tabla1[[#This Row],[Clave o nivel del puesto]] -> 111202
A93: ='Reporte de Formatos'!E99 -> 111443 | B93: ='Reporte de Formatos'!F99 -> ASESOR ADMINISTRATIVO | C93: =Tabla1[[#This Row],[Clave o nivel del puesto]] -> 111443
A94: ='Reporte de Formatos'!E100 -> 130202 | B94: ='Reporte de Formatos'!F100 -> ANALISTA TÉCNICO "B" | C94: =Tabla1[[#This Row],[Clave o nivel del puesto]] -> 130202
A95: ='Reporte de Formatos'!E101 -> 112425 | B95: ='Reporte de Formatos'!F101 -> ANALISTA | C95: =Tabla1[[#This Row],[Clave o nivel del puesto]] -> 112425
A96: ='Reporte de Formatos'!E102 -> 110404 | B96: ='Reporte de Formatos'!F102 -> ANALISTA ESPECIALIZADO | C96: =Tabla1[[#This Row],[Clave o nivel del puesto]] -> 110404
A97: ='Reporte de Formatos'!E103 -> 172406 | B97: ='Reporte de Formatos'!F103 -> PROCURADORES MUNICIPALES | C97: =Tabla1[[#This Row],[Clave o nivel del puesto]] -> 172406
... A578: ='Reporte de Formatos'!E584 -> 0 | B578: ='Reporte de Formatos'!F584 -> PSICÓLOGO | C578: =Tabla1[[#This Row],[Clave o nivel del puesto]] -> 0

Sheet Hidden_1
A1: Funcionario
A2: Servidor(a) público(a)
A3: Servidor[a] público[a] eventual
A4: Integrante
A5: Empleado
A6: Representante popular
A7: Miembro del poder judicial
A8: Miembro de órgano autónomo
A9: Personal de confianza
A10: Prestador de servicios profesionales
A11: Otro
E46: 112426
E49: 111437
E50: 160803
E51: 111501
E53: 113342
E54: 114241
E55: 110404
E57: 111601
E58: 110607
E60: 110804 | F60: TECNICO D | G60: TECNICO D
E61: 114241
E64: 111522
E65: 111406
E71: 114207
E74: 110903
E81: 114241
E82: 114206
E84: 110404
E85: 114201
E93: 111601
E94: 114207
E140: 111501
... E579: 172406

Sheet Hidden_2
A1: Inicio
A2: Modificación
A3: Conclusión
